Workbook

Sheet Pedido
W1: Data:
A3: Razão Social.: | S3: Fantasia:
A4: End.: | V4: Bairro:
A5: CNPJ: | F5: IE: | W5: CEP:
A6: Cidade: | F6: UF: | I6: Contato: | W6: Tel:
A7: e-mail: | M7: Site:
A8: Casa Perfumada | D8: Bamboo | F8: Flor Cerejeira | H8: Pimenta Rosa | J8: Lavanda Inglesa | L8: Macadamia | N8: Acai e Cupu | P8: Limão Sicilia | R8: Citronela | T8: True | V8: Preço | W8: Min/pçs | X8: Quant. | Y8: Sub Total
A9: Perfume de ambiente 240 ml | V9: 22.28 | W9: 12 | X9: =SUM(D9:U9) -> 0 | Y9: =X9*V9 -> 0
A10: Perfume de ambiente 60 ml | V10: 9.85 | W10: 12 | X10: =SUM(D10:U10) -> 0 | Y10: =X10*V10 -> 0
A11: Difusor de ambiente 300 ml | V11: 29 | W11: 12 | X11: =SUM(D11:U11) -> 0 | Y11: =X11*V11 -> 0
A12: Difusor de ambiente 60 ml | V12: 13.32 | W12: 12 | X12: =SUM(D12:U12) -> 0 | Y12: =X12*V12 -> 0
A13: Água Perfumada 500 ml | V13: 25.64 | W13: 12 | X13: =SUM(D13:U13) -> 0 | Y13: =X13*V13 -> 0
A14: Sachês Perfumados (display c/32 um.) | V14: 163.4 | W14: 1 | X14: =SUM(D14:U14) -> 0 | Y14: =X14*V14 -> 0
A15: Sachês 20 ml | D15: Bamboo | F15: Flor Cerejeira | H15: Pimenta Rosa | J15: Lavanda Inglesa | L15: Macadamia | N15: Acai e Cupu | P15: Limão Sicilia | R15: Citronela | T15: True | V15: Preço | W15: Min/pçs | X15: Quant. | Y15: Sub Total
A16: Sabonete Liquido 20 ml | V16: 1.9 | W16: 100 | X16: =SUM(D16:U16) -> 0 | Y16: =X16*V16 -> 0
A17: Loção Hidratante 20 ml | V17: 1.9 | W17: 100 | X17: =SUM(D17:U17) -> 0 | Y17: =X17*V17 -> 0
A18: Sais de Banho 20g | V18: 2.9 | W18: 100 | X18: =SUM(D18:U18) -> 0 | Y18: =X18*V18 -> 0
A19: Linha Spa | D19: Bamboo | F19: Flor Cerejeira | H19: Pimenta Rosa | J19: Lavanda | L19: Macadamia | N19: Acai e Cupu | P19: Limão Sicilia | R19: Citronela | T19: True | V19: Preço | W19: Min/pçs | X19: Quant. | Y19: Sub Total
A20: Sabonete em Barra 150gr | V20: 7.98 | W20: 12 | X20: =SUM(D20:U20) -> 0 | Y20: =X20*V20 -> 0
A21: Sab em Barra com Bucha Veg 150 gr. | V21: 9.98 | W21: 12 | X21: =SUM(D21:U21) -> 0 | Y21: =X21*V21 -> 0
A22: Sabonete Girassol | V22: 5.9 | W22: 12 | X22: =SUM(D22:U22) -> 0 | Y22: =X22*V22 -> 0
A23: Sabonete Hibisco | V23: 4.9 | W23: 12 | X23: =SUM(D23:U23) -> 0 | Y23: =X23*V23 -> 0
A24: Sabonete Ursinho | V24: 3.9 | W24: 12 | X24: =SUM(D24:U24) -> 0 | Y24: =X24*V24 -> 0
A25: Sabonete Borboleta | V25: 12.9 | W25: 12 | X25: =SUM(D25:U25) -> 0 | Y25: =X25*V25 -> 0
A26: Loção Hidratante 200 ml | V26: 25.64 | W26: 12 | X26: =SUM(D26:U26) -> 0 | Y26: =X26*V26 -> 0
A27: Loção Hidratante 60 ml | V27: 8.84 | W27: 12 | X27: =SUM(D27:U27) -> 0 | Y27: =X27*V27 -> 0
A28: Mousse Facial e Corporal 150 ml | V28: 23.52 | W28: 12 | X28: =SUM(D28:U28) -> 0 | Y28: =X28*V28 -> 0
A29: Esfoliante Corporal 180 ml | V29: 18.92 | W29: 12 | X29: =SUM(D29:U29) -> 0 | Y29: =X29*V29 -> 0
A30: Refil de Sais de Banho 270 g | V30: 17.8 | W30: 12 | X30: =SUM(D30:U30) -> 0 | Y30: =X30*V30 -> 0
A31: Refil de Espuma de Banho 160 ml | V31: 12.2 | W31: 12 | X31: =SUM(D31:U31) -> 0 | Y31: =X31*V31 -> 0
... A33: Água de Colonia LAVANDA 300ml | V33: 33.48 | W33: 12 | X33: =SUM(D33:U33) -> 0 | Y33: =X33*V33 -> 0
A34: Linha Flowers | D34: Bamboo | F34: Flor Cerejeira | H34: Pimenta Rosa | J34: Lavanda | L34: Macadamia | N34: Acai e Cupu | P34: Limão Sicilia | R34: Citronela | T34: True | V34: Preço | W34: Min/pçs | X34: Quant. | Y34: Sub Total
A35: Sabonete Líquido 340ml | V35: 29 | W35: 12 | X35: =SUM(D35:U35) -> 0 | Y35: =X35*V35 -> 0
A36: Sabonete Líquido 60 ml | V36: 8.06 | W36: 12 | X36: =SUM(D36:U36) -> 0 | Y36: =X36*V36 -> 0
A37: Sabonete Líquido REFIL 340ml | V37: 13.32 | W37: 12 | X37: =SUM(D37:U37) -> 0 | Y37: =X37*V37 -> 0
A38: Sabonete Líquido 990ml | V38: 40.2 | W38: 12 | X38: =SUM(D38:U38) -> 0 | Y38: =X38*V38 -> 0
A39: Sabonete Líquido REFIL 990ml | V39: 18.92 | W39: 12 | X39: =SUM(D39:U39) -> 0 | Y39: =X39*V39 -> 0
A40: Kit 60ml | V40: 35.9 | W40: 12 | X40: =SUM(D40:U40) -> 0 | Y40: =X40*V40 -> 0
A41: Kit Flower 7 | V41: 55.8 | W41: 12 | X41: =SUM(D41:U41) -> 0 | Y41: =X41*V41 -> 0
A42: Blanc | D42: Quant | V42: Preço | W42: Min/pçs | X42: Quant. | Y42: Sub Total
A43: Sabonete Líquido Perolado 250ml | V43: 53.64 | W43: 12 | X43: =SUM(D43:U43) -> 0 | Y43: =X43*V43 -> 0
A44: Refil Sabonete Líquido Perolado 250ml | V44: 20.72 | W44: 12 | X44: =SUM(D44:U44) -> 0 | Y44: =X44*V44 -> 0
A45: Loção Hidratante 220ml | V45: 55.77 | W45: 12 | X45: =SUM(D45:U45) -> 0 | Y45: =X45*V45 -> 0
A46: Refil Loção Hidratante 220ml | V46: 22.28 | W46: 12 | X46: =SUM(D46:U46) -> 0 | Y46: =X46*V46 -> 0
A47: Deo Colonia 100ml (Lancamento) | V47: 44.68 | W47: 12 | X47: =SUM(D47:U47) -> 0 | Y47: =X47*V47 -> 0
A48: Sais de Banho 270g | V48: 44.57 | W48: 12 | X48: =SUM(D48:U48) -> 0 | Y48: =X48*V48 -> 0
A49: Refil Sais de Banho 270g | V49: 21.05 | W49: 12 | X49: =SUM(D49:U49) -> 0 | Y49: =X49*V49 -> 0
A50: Espuma de banho 160ml | V50: 44.57 | W50: 12 | X50: =SUM(D50:U50) -> 0 | Y50: =X50*V50 -> 0
A51: Refil Espuma de banho 160ml | V51: 15.56 | W51: 12 | X51: =SUM(D51:U51) -> 0 | Y51: =X51*V51 -> 0
A52: Difusor de Ambiente 160ml | V52: 48.04 | W52: 12 | X52: =SUM(D52:U52) -> 0 | Y52: =X52*V52 -> 0
A53: Refil Difusor de Ambiente 160ml | V53: 21.05 | W53: 12 | X53: =SUM(D53:U53) -> 0 | Y53: =X53*V53 -> 0
A54: Perfume de Ambiente 405ml | V54: 70.44 | W54: 12 | X54: =SUM(D54:U54) -> 0 | Y54: =X54*V54 -> 0
... A56: Perfume de Ambiente Citronela 405ml | V56: 49.8 | W56: 12 | X56: =SUM(D56:U56) -> 0 | Y56: =X56*V56 -> 0
A57: Linha VINTAGE | D57: Vintage | V57: Preço | W57: Min. | X57: Quant. | Y57: Sub Total
A58: Sabonete Líquido 340ml | V58: 29 | W58: 12 | X58: =SUM(D58:U58) -> 0 | Y58: =X58*V58 -> 0
A59: Sabonete Líquido REFIL 340ml | V59: 14.44 | W59: 12 | X59: =SUM(D59:U59) -> 0 | Y59: =X59*V59 -> 0
A60: Difusor de ambiente 300 ml | V60: 31.24 | W60: 12 | X60: =SUM(D60:U60) -> 0 | Y60: =X60*V60 -> 0
A61: Loção Hidratante 220 ml | V61: 27.88 | W61: 12 | X61: =SUM(D61:U61) -> 0 | Y61: =X61*V61 -> 0
A62: Deo Colonia 120ml (Lancamento) | V62: 33.48 | W62: 12 | X62: =SUM(D62:U62) -> 0 | Y62: =X62*V62 -> 0
A63: Sachês Perfumados (display c/32 un) | V63: 163.4 | W63: 1 | X63: =SUM(D63:U63) -> 0 | Y63: =X63*V63 -> 0
A64: Linha La vie | D64: Laranja | F64: Lila´s | H64: Vermelha | J64: Deo colonia | V64: Preço | W64: Min/pçs | X64: Quant. | Y64: Sub Total
A65: Sabonete liquido 250ml | V65: 43.45 | W65: 12 | X65: =SUM(D65:U65) -> 0 | Y65: =X65*V65 -> 0 | Z65: Preço | AA65: Min.
A66: Difusor de Ambiente 140ml | V66: 43.45 | W66: 12 | X66: =SUM(D66:U66) -> 0 | Y66: =X66*V66 -> 0
A67: Deo Colonia 100ml (Lancamento) | V67: 44.68 | W67: 12 | X67: =SUM(D67:U67) -> 0 | Y67: =X67*V67 -> 0
A68: Linha Gold | D68: Gold | F68: Blanc | V68: Preço | W68: Min/pçs | X68: Quant. | Y68: Sub Total
A69: Sabonete Liquido 250ml | V69: 40.2 | W69: 12 | X69: =SUM(D69:U69) -> 0 | Y69: =X69*V69 -> 0
A70: Sabonete Liquido 350ml | V70: 44.68 | W70: 12 | X70: =SUM(D70:U70) -> 0 | Y70: =X70*V70 -> 0
A71: Difusor ambiente 250ml | V71: 44.68 | W71: 12 | X71: =SUM(D71:U71) -> 0 | Y71: =X71*V71 -> 0
A72: Difusor ambiente 350ml | V72: 48.04 | W72: 12 | X72: =SUM(D72:U72) -> 0 | Y72: =X72*V72 -> 0
A73: Deo Colonia 100ml (Lancamento) | V73: 44.68 | W73: 12 | X73: =SUM(D73:U73) -> 0 | Y73: =X73*V73 -> 0
A74: Linha Gold Perolas | D74: Gold | V74: Preço | W74: Min/pçs | X74: Quant. | Y74: Sub Total
A75: Sabonete Liquido 250ml | V75: 46.92 | W75: 12 | X75: =SUM(D75:U75) -> 0 | Y75: =X75*V75 -> 0
A76: Sabonete Liquido 350ml | V76: 52.52 | W76: 12 | X76: =SUM(D76:U76) -> 0 | Y76: =X76*V76 -> 0
A77: Difusor ambiente 250ml | V77: 46.92 | W77: 12 | X77: =SUM(D77:U77) -> 0 | Y77: =X77*V77 -> 0
A78: Difusor ambiente 350ml | V78: 52.52 | W78: 12 | X78: =SUM(D78:U78) -> 0 | Y78: =X78*V78 -> 0
A79: Linha Cozinheiro | V79: Preço | W79: Min/pçs | X79: Quant. | Y79: Sub Total
A80: Sabonete liquido 240ml - VIDRO | V80: 39.9 | W80: 12 | X80: =SUM(D80:U80) -> 0 | Y80: =X80*V80 -> 0
A81: Sabonete liquido 380ml- PET | V81: 18.8 | W81: 12 | X81: =SUM(D81:U81) -> 0 | Y81: =X81*V81 -> 0
A82: Sabonete liquido True 240ml - VIDRO | V82: 39.9 | W82: 12 | X82: =SUM(D82:U82) -> 0 | Y82: =X82*V82 -> 0
A83: Linha Animale | D83: Soul Chic | G83: Madame Gold | V83: Preço | W83: Min/pçs | X83: Quant. | Y83: Sub Total
A84: Sabonete Líquido 500ml | V84: 27.77 | W84: 12 | X84: =SUM(D84:U84) -> 0 | Y84: =X84*V84 -> 0
A85: Difusor de ambiente 350 ml | V85: 31.24 | W85: 12 | X85: =SUM(D85:U85) -> 0 | Y85: =X85*V85 -> 0
A86: Loção Hidratante 300 ml | V86: 33.48 | W86: 12 | X86: =SUM(D86:U86) -> 0 | Y86: =X86*V86 -> 0
A87: Deo Colonia 120ml (Lancamento) | V87: 44.68 | W87: 12 | X87: =SUM(D87:U87) -> 0 | Y87: =X87*V87 -> 0
A88: Sachês Perfumados (display c/32 un) | V88: 163.4 | W88: 1 | X88: =SUM(D88:U88) -> 0 | Y88: =X88*V88 -> 0
A89: Botânica | D89: Calendula | F89: Giseng | H89: Jaborandi | J89: Hamammelis | L89: Camomila | N89: Sete Ervas | V89: Preço | W89: Min/pçs | X89: Quant. | Y89: Sub Total
D90: Aloe Vera | F90: Queratina | H90: Am. da seda | J90: Arnica | L90: Germe de Trigo
A91: Shampoo 200ml | V91: 11.14 | W91: 12 | X91: =SUM(D91:U91) -> 0 | Y91: =X91*V91 -> 0
A92: Condicionador 200 ml | V92: 12.26 | W92: 12 | X92: =SUM(D92:U92) -> 0 | Y92: =X92*V92 -> 0
A93: Sachê Shampoo 20 ml | V93: 1.68 | W93: 100 | X93: =SUM(D93:U93) -> 0 | Y93: =X93*V93 -> 0
A94: Sachê Condicionador 20 ml | V94: 1.68 | W94: 100 | X94: =SUM(D94:U94) -> 0 | Y94: =X94*V94 -> 0
A95: Nutra Intensse | D95: Pele Seca | F95: Pele Normal | H95: Todos os tipos de Pele | V95: Preço | W95: Min/pçs | X95: Quant. | Y95: Sub Total
D96: e Sensível | F96: e Mista
A97: Esfoliante Facial 60g. | V97: 21.05 | W97: 12 | X97: =SUM(D97:U97) -> 0 | Y97: =X97*V97 -> 0
A98: 1 - Mousse de Limpeza Facial 150 ml | V98: 23.52 | W98: 12 | X98: =SUM(D98:U98) -> 0 | Y98: =X98*V98 -> 0
A99: 2 - Tônico Facial Equilibrante 140ml | V99: 13.32 | W99: 12 | X99: =SUM(D99:U99) -> 0 | Y99: =X99*V99 -> 0
A100: 3 - Loção Revitalizante Facial 30 ml | V100: 28.89 | W100: 12 | X100: =SUM(D100:U100) -> 0 | Y100: =X100*V100 -> 0
A101: Linha Mel e Própolis | D101: Pele Seca e Sensível | H101: Pele Normal e Mista | L101: Todos os tipos de Pele | V101: Preço | W101: Min/pçs | X101: Quant. | Y101: Sub Total
D102: Mel | H102: Própolis
A103: Esfoliante Facial 60g. | V103: 21.05 | W103: 12 | X103: =SUM(D103:U103) -> 0 | Y103: =X103*V103 -> 0
...

Sheet ICMS ST SP
A1: ... | B1: Alterar apenas as células em AZUL | C1: LINHA CASA PERFUMADA | I1: SACHES | R1: LINHA SPA | Z1: LINHA FLOWERS | AF1: LINHA BLANC | AT1: LINHA VINTAGE | AZ1: LINHA LA VIE | BC1: LINHA GOLD | BG1: LINHA ANIMALE | BL1: LINHA BOTANICA | BP1: LINHA NUTRA INTENSE | BT1: Linha Mel / Propolis | CF1: Linha Black Tie
C2: Perf. Amb 240ml | D2: Perf. Amb 60ml | E2: Difusor amb.300ml | F2: Difusor amb.60ml | G2: Água Perf. 500ml | H2: Sachê Perf. 6g | I2: Sachê Sab. Liq. 20ml | J2: Sachê Loção 20ml | K2: Sache sais 20 g | L2: Sabonete B. 150gr | M2: Sabonete Bucha | N2: Sab Girassol | O2: Sab Hibisco | P2: Sab. Ursinho | Q2: Sab Borboleta | R2: Loção Hidra 200ml | S2: Loção Hidra 60ml | T2: Mousse 150ml | U2: Esfol. Corp 180ml | V2: Sachê sais 270 g | W2: Sachê espuma 160 ml | X2: Deo Colonia 120ml | Y2: água Colonia 300ml | Z2: Sab. Liq. 340ml | AA2: Sab. Liq. 60ml | AB2: Refil 340ml | AC2: Sab. Liq. 990ml | AD2: Refil 990ml | AE2: Kits Flowers | AF2: Sab. Liq. Blanc | AG2: Ref. Sab. Liq. Blanc | AH2: Loção Blanc | AI2: Ref. Loção Blanc | AJ2: Deo Colonia 100ml | AK2: Sais Banho Blanc | AL2: Ref S.Banho Blanc | AM2: Esp. Banho Blanc. | AN2: Ref. E. Banho Blanc. | AO2: Difusor Blanc | AP2: Ref. Difusor Blanc | AQ2: Perf. Amb. Citrone | AR2: Perf. Amb. Blanc | AS2: Sachê Perf. 6g | AT2: Sab. Liq. Vintage | AU2: Refil 340ml | AV2: Dif. Amb. Vintage | AW2: Loção vintage | AX2: Deo Colonia 120ml | AY2: Sachê Perf. 6g | AZ2: Sab Líq La vie | BA2: Difusor amb La vie | BB2: Deo Colonia 100ml | BC2: Sab Líq Gold | BD2: Difusor amb Gold | BE2: Deo Colonia 100ml | BF2: Sab Líq Gold | BG2: Difusor amb Gold | BH2: Sab Cozinheiro | BI2: Sab. Liq Animale | BJ2: Dif.Amb Animale | BK2: Deo Colonia 100ml | BL2: Loção Hidr. Animale | BM2: Sachê Perf. 6g | BN2: Shampoo 200ml | BO2: Cond. 200ml | BP2: Sache Shampoo 20ml | BQ2: Sachê Cond. 20ml | BR2: Esfoliante 60g | BS2: Mousse 150ml | BT2: Tonico 140ml | BU2: Loção 30ml | BV2: Esfoliante 60g | BW2: Mousse 150ml | BX2: Tonico 140ml | BY2: Loção 30ml | BZ2: Esfol. Corp 180ml | CA2: Sab. Liq 200ml | CB2: Creme 60g | CC2: Gel pos barba 60g | CD2: Shampoo 200ml | CE2: Cond. 200ml | CF2: Sache Shampoo 20ml | CG2: Sachê Cond. 20ml | CH2: Sab. Liq 200ml | CI2: Shampoo 200ml | CJ2: Gel pos barba 60g | CK2: Deo Colonia 50ml | CL2: Total geral
B3: Destino | C3: SP | D3: SP | E3: SP | F3: SP | G3: SP | H3: SP | R3: SP | S3: SP | U3: SP | V3: SP | W3: SP | X3: SP | Y3: SP | Z3: SP | AA3: SP | AB3: SP | AC3: SP | AE3: SP | AF3: SP | AG3: SP | AH3: SP | AI3: SP | AJ3: SP | AK3: SP | AL3: SP | AM3: SP | AN3: SP | AO3: SP | AP3: SP | AQ3: SP | AR3: SP | AS3: SP | AT3: SP | AU3: SP | AV3: SP | AW3: SP | AX3: SP | AY3: SP | AZ3: SP | BA3: SP | BB3: SP | BC3: SP | BD3: SP | BE3: SP | BF3: SP | BG3: SP | BH3: SP | BI3: SP | BJ3: SP | BK3: SP | BL3: SP | BM3: SP | BN3: SP | BO3: SP | BR3: SP | BS3: SP | BT3: SP | BU3: SP | CK3: SP
B4: % ICMS no estado de destino | C4: 0.18 | D4: 0.18 | E4: 0.18 | F4: 0.18 | G4: 0.18 | H4: 0.18 | I4: 0.18 | J4: 0.25 | K4: 0.25 | L4: 0.18 | M4: 0.18 | N4: 0.18 | O4: 0.18 | P4: 0.18 | Q4: 0.18 | R4: 0.25 | S4: 0.25 | T4: 0.25 | U4: 0.18 | V4: 0.25 | W4: 0.25 | X4: 0.25 | Y4: 0.25 | Z4: 0.18 | AA4: 0.18 | AB4: 0.18 | AC4: 0.18 | AD4: 0.18 | AE4: 0.18 | AF4: 0.18 | AG4: 0.18 | AH4: 0.25 | AI4: 0.25 | AJ4: 0.25 | AK4: 0.25 | AL4: 0.25 | AM4: 0.25 | AN4: 0.25 | AO4: 0.18 | AP4: 0.18 | AQ4: 0.18 | AR4: 0.18 | AS4: 0.18 | AT4: 0.18 | AU4: 0.18 | AV4: 0.18 | AW4: 0.25 | AX4: 0.25 | AY4: 0.18 | AZ4: 0.18 | BA4: 0.18 | BB4: 0.25 | BC4: 0.18 | BD4: 0.18 | BE4: 0.25 | BF4: 0.18 | BG4: 0.18 | BH4: 0.18 | BI4: 0.18 | BJ4: 0.18 | BK4: 0.25 | BL4: 0.25 | BM4: 0.18 | BN4: 0.18 | BO4: 0.25 | BP4: 0.18 | BQ4: 0.25 | BR4: 0.25 | BS4: 0.25 | BT4: 0.25 | BU4: 0.25 | BV4: 0.25 | BW4: 0.25 | BX4: 0.25 | BY4: 0.25 | BZ4: 0.18 | CA4: 0.18 | CB4: 0.25 | CC4: 0.18 | CD4: 0.18 | CE4: 0.25 | CF4: 0.18 | CG4: 0.25 | CH4: 0.18 | CI4: 0.18 | CJ4: 0.18 | CK4: 0.25 | CL4: TOTAL
B5: Valor do Produtos | C5: =Pedido!Y9 -> 0 | D5: =Pedido!Y10 -> 0 | E5: =Pedido!Y11 -> 0 | F5: =Pedido!Y12 -> 0 | G5: =Pedido!Y13 -> 0 | H5: =Pedido!Y14 -> 0 | I5: =Pedido!Y16 -> 0 | J5: =Pedido!Y17 -> 0 | K5: =Pedido!Y18 -> 0 | L5: =Pedido!Y20 -> 0 | M5: =Pedido!Y21 -> 0 | N5: =Pedido!Y22 -> 0 | O5: =Pedido!Y23 -> 0 | P5: =Pedido!Y24 -> 0 | Q5: =Pedido!Y25 -> 0 | R5: =Pedido!Y26 -> 0 | S5: =Pedido!Y27 -> 0 | T5: =Pedido!Y28 -> 0 | U5: =Pedido!Y29 -> 0 | V5: =Pedido!Y30 -> 0 | W5: =Pedido!Y31 -> 0 | X5: =Pedido!Y32 -> 0 | Y5: =Pedido!Y33 -> 0 | Z5: =Pedido!Y35 -> 0 | AA5: =Pedido!Y36 -> 0 | AB5: =Pedido!Y37 -> 0 | AC5: =Pedido!Y38 -> 0 | AD5: =Pedido!Y39 -> 0 | AE5: =SUM(Pedido!Y40:Y41) -> 0 | AF5: =Pedido!Y43 -> 0 | AG5: =Pedido!Y44 -> 0 | AH5: =Pedido!Y45 -> 0 | AI5: =Pedido!Y46 -> 0 | AJ5: =Pedido!Y47 -> 0 | AK5: =Pedido!Y48 -> 0 | AL5: =Pedido!Y49 -> 0 | AM5: =Pedido!Y50 -> 0 | AN5: =Pedido!Y51 -> 0 | AO5: =Pedido!Y52 -> 0 | AP5: =Pedido!Y53 -> 0 | AQ5: =Pedido!Y54 -> 0 | AR5: =Pedido!Y55 -> 0 | AS5: =Pedido!Y56 -> 0 | AT5: =Pedido!Y58 -> 0 | AU5: =Pedido!Y59 -> 0 | AV5: =Pedido!Y60 -> 0 | AW5: =Pedido!Y61 -> 0 | AX5: =Pedido!Y62 -> 0 | AY5: =Pedido!Y63 -> 0 | AZ5: =Pedido!Y65 -> 0 | BA5: =Pedido!Y66 -> 0 | BB5: =Pedido!Y67 -> 0 | BC5: =SUM(Pedido!Y69:Y70) -> 0 | BD5: =SUM(Pedido!Y71:Y72) -> 0 | BE5: =Pedido!Y73 -> 0 | BF5: =SUM(Pedido!Y75:Y76) -> 0 | BG5: =SUM(Pedido!Y77:Y78) -> 0 | BH5: =SUM(Pedido!Y80:Y82) -> 0 | BI5: =Pedido!Y84 -> 0 | BJ5: =Pedido!Y85 -> 0 | BK5: =Pedido!Y86 -> 0 | BL5: =Pedido!Y87 -> 0 | BM5: =Pedido!Y88 -> 0 | BN5: =Pedido!Y91 -> 0 | BO5: =Pedido!Y92 -> 0 | BP5: =Pedido!Y93 -> 0 | BQ5: =Pedido!Y94 -> 0 | BR5: =Pedido!Y97 -> 0 | BS5: =Pedido!Y98 -> 0 | BT5: =Pedido!Y99 -> 0 | BU5: =Pedido!Y100 -> 0 | BV5: =Pedido!Y103 -> 0 | BW5: =Pedido!Y104 -> 0 | BX5: =Pedido!Y105 -> 0 | BY5: =Pedido!Y106 -> 0 | BZ5: =Pedido!Y107 -> 0 | CA5: =Pedido!Y108 -> 0 | CB5: =Pedido!Y109 -> 0 | CC5: =Pedido!Y110 -> 0 | CD5: =Pedido!Y113 -> 0 | CE5: =Pedido!Y114 -> 0 | CF5: =Pedido!Y115 -> 0 | CG5: =Pedido!Y116 -> 0 | CH5: =Pedido!Y118 -> 0 | CI5: =Pedido!Y119 -> 0 | CJ5: =Pedido!Y120 -> 0 | CK5: =Pedido!Y121 -> 0 | CL5: =SUM(C5:CK5) -> 0
B6: Despesas Acessórias | C6: =$CL$6/$CL$5*C5 -> #DIV/0! | D6: =$CL$6/$CL$5*D5 -> #DIV/0! | E6: =$CL$6/$CL$5*E5 -> #DIV/0! | F6: =$CL$6/$CL$5*F5 -> #DIV/0! | G6: =$CL$6/$CL$5*G5 -> #DIV/0! | H6: =$CL$6/$CL$5*H5 -> #DIV/0! | I6: =$CL$6/$CL$5*I5 -> #DIV/0! | J6: =$CL$6/$CL$5*J5 -> #DIV/0! | ... CK6: =$CL$6/$CL$5*CK5 -> #DIV/0! | CL6: 0
B7: BC. ICMS-NORMAL | C7: =C6+C5 -> #DIV/0! | D7: =D6+D5 -> #DIV/0! | E7: =E6+E5 -> #DIV/0! | F7: =F6+F5 -> #DIV/0! | G7: =G6+G5 -> #DIV/0! | H7: =H6+H5 -> #DIV/0! | I7: =I6+I5 -> #DIV/0! | J7: =J6+J5 -> #DIV/0! | ... CK7: =CK6+CK5 -> #DIV/0! | CL7: =SUM(C7:CJ7) -> #DIV/0!
B8: ICMS Normal | C8: =C7*0.12 -> #DIV/0! | D8: =D7*0.12 -> #DIV/0! | E8: =E7*0.12 -> #DIV/0! | F8: =F7*0.12 -> #DIV/0! | G8: =G7*0.12 -> #DIV/0! | H8: =H7*0.12 -> #DIV/0! | I8: =I7*0.12 -> #DIV/0! | J8: =J7*0.12 -> #DIV/0! | ... CK8: =CK7*0.12 -> #DIV/0! | CL8: =SUM(C8:CJ8) -> #DIV/0!
B9: MVA | C9: 0.5437 | D9: 0.5437 | E9: 0.5437 | F9: 0.5437 | G9: 0.5437 | H9: 0.5437 | I9: 0.4723 | J9: 0.6127 | K9: 0.5437 | L9: 0.4723 | M9: 0.4723 | N9: 0.4723 | O9: 0.4723 | P9: 0.4723 | Q9: 0.4723 | R9: 0.6127 | S9: 0.6127 | T9: 0.3242 | U9: 0.4723 | V9: 0.5437 | W9: 0.5437 | X9: 0.6245 | Y9: 0.6245 | Z9: 0.4723 | AA9: 0.4723 | AB9: 0.4723 | AC9: 0.4723 | AD9: 0.4723 | AE9: 0.4723 | AF9: 0.4723 | AG9: 0.4723 | AH9: 0.6127 | AI9: 0.6127 | AJ9: 0.6245 | AK9: 0.5437 | AL9: 0.5437 | AM9: 0.5437 | AN9: 0.5437 | AO9: 0.5437 | AP9: 0.5437 | AQ9: 0.5437 | AR9: 0.5437 | AS9: 0.5437 | AT9: 0.4723 | AU9: 0.4723 | AV9: 0.5437 | AW9: 0.6127 | AX9: 0.6245 | AY9: 0.5437 | AZ9: 0.4723 | BA9: 0.5437 | BB9: 0.6245 | BC9: 0.4723 | BD9: 0.5437 | BE9: 0.6245 | BF9: 0.4723 | BG9: 0.5437 | BH9: 0.4723 | BI9: 0.4723 | BJ9: 0.5437 | BK9: 0.6245 | BL9: 0.6127 | BM9: 0.5437 | BN9: 0.3994 | BO9: 0.5569 | BP9: 0.3994 | BQ9: 0.5569 | BR9: 0.3242 | BS9: 0.3242 | BT9: 0.3242 | BU9: 0.3242 | BV9: 0.3242 | BW9: 0.3242 | BX9: 0.3242 | BY9: 0.3242 | BZ9: 0.6127 | CA9: 0.4723 | CB9: 0.3242 | CC9: 0.6812 | CD9: 0.3994 | CE9: 0.5569 | CF9: 0.3994 | CG9: 0.5569 | CH9: 0.4723 | CI9: 0.3994 | CJ9: 0.6812 | CK9: 0.6245 | CL9: <<>>
B10: BC. ICMS-ST | C10: =C7*(1+C9) -> #DIV/0! | D10: =D7*(1+D9) -> #DIV/0! | E10: =E7*(1+E9) -> #DIV/0! | F10: =F7*(1+F9) -> #DIV/0! | G10: =G7*(1+G9) -> #DIV/0! | H10: =H7*(1+H9) -> #DIV/0! | I10: =I7*(1+I9) -> #DIV/0! | J10: =J7*(1+J9) -> #DIV/0! | ... CK10: =CK7*(1+CK9) -> #DIV/0! | CL10: =SUM(C10:CJ10) -> #DIV/0!
B11: ICMS-ST | C11: =(C10*C4)-C8 -> #DIV/0! | D11: =(D10*D4)-D8 -> #DIV/0! | E11: =(E10*E4)-E8 -> #DIV/0! | F11: =(F10*F4)-F8 -> #DIV/0! | G11: =(G10*G4)-G8 -> #DIV/0! | H11: =(H10*H4)-H8 -> #DIV/0! | I11: =(I10*I4)-I8 -> #DIV/0! | J11: =(J10*J4)-J8 -> #DIV/0! | ... CK11: =(CK10*CK4)-CK8 -> #DIV/0! | CL11: =SUM(C11:CJ11) -> #DIV/0!
B12: Valor Total da NF >>>>>>>>>>>>>>>>>>>>>>>>>>>>>>>>>>>>>>>>>>>>>>>>>>>>>>>>>>>>>>>>>>>>>>>>>>> | CL12: =SUM(CL5+CL11) -> #DIV/0!
B14: PREENCHIMENTO DA NOTA FISCAL:
B15: Valor Total dos Produtos | F15: =CL5 -> 0
B16: Base de Cálculo do ICMS | F16: <<>>
B17: Valor do ICMS | F17: <<>>
B18: Base da Cálculo do ICMS Substituição | F18: =CL10 -> #DIV/0!
B19: Valor do ICMS Substituição | F19: =CL11 -> #DIV/0!
B20: Outras Despesas Acessórias | F20: =CL6 -> 0
B21: Valor Total da Nota | F21: =SUM(F15,F19) -> #DIV/0!
B23: NO CORPO DA NF OU EM INFORMAÇÕES COMPLEMENTARES
B24: Vr. operação sujeita a ST | F24: =CL5 -> 0
B25: Vr. ICMS operação própria p/ cálculo da ST | F25: =CL11 -> #DIV/0!

Sheet ICMS ST RS
A1: ... | B1: Alterar apenas as células em AZUL | C1: LINHA CASA PERFUMADA | I1: SACHES | R1: LINHA SPA | Z1: LINHA FLOWERS | AF1: LINHA BLANC | AT1: LINHA VINTAGE | AZ1: LINHA LA VIE | BC1: LINHA GOLD | BG1: LINHA ANIMALE | BL1: LINHA BOTANICA | BP1: LINHA NUTRA INTENSE | BT1: Linha Mel / Propolis | CF1: Linha Black Tie
C2: Perf. Amb 240ml | D2: Perf. Amb 60ml | E2: Difusor amb.300ml | F2: Difusor amb.60ml | G2: Água Perf. 500ml | H2: Sachê Perf. 6g | I2: Sachê Sab. Liq. 20ml | J2: Sachê Loção 20ml | K2: Sache sais 20 g | L2: Sabonete B. 150gr | M2: Sabonete Bucha | N2: Sab Girassol | O2: Sab Hibisco | P2: Sab. Ursinho | Q2: Sab Borboleta | R2: Loção Hidra 200ml | S2: Loção Hidra 60ml | T2: Mousse 150ml | U2: Esfol. Corp 180ml | V2: Sachê sais 270 g | W2: Sachê espuma 160 ml | X2: Deo Colonia 120ml | Y2: água Colonia 300ml | Z2: Sab. Liq. 340ml | AA2: Sab. Liq. 60ml | AB2: Refil 340ml | AC2: Sab. Liq. 990ml | AD2: Refil 990ml | AE2: Kit Flowers | AF2: Sab. Liq. Blanc | AG2: Ref. Sab. Liq. Blanc | AH2: Loção Blanc | AI2: Ref. Loção Blanc | AJ2: Deo Colonia 120ml | AK2: Sais Banho Blanc | AL2: Ref S.Banho Blanc | AM2: Esp. Banho Blanc. | AN2: Ref. E. Banho Blanc. | AO2: Difusor Blanc | AP2: Ref. Difusor Blanc | AQ2: Perf. Amb. Blanc | AR2: Perf. Amb. Blanc | AS2: Sachê Perf. 6g | AT2: Sab. Liq. Vintage | AU2: Refil 340ml | AV2: Dif. Amb. Vintage | AW2: Loção vintage | AX2: Deo Colonia 120ml | AY2: Sachê Perf. 6g | AZ2: Sab Líq La vie | BA2: Difusor amb La vie | BB2: Deo Colonia 120ml | BC2: Sab Líq Gold | BD2: Difusor amb Gold | BE2: Deo Colonia 120ml | BF2: Sab Líq Gold | BG2: Difusor amb Gold | BH2: Sab Cozinheiro | BI2: Sab. Liq Animale | BJ2: Dif.Amb Animale | BK2: Loção Hidr. Animale | BL2: Deo Colonia 120ml | BM2: Sachê Perf. 6g | BN2: Shampoo 200ml | BO2: Cond. 200ml | BP2: Sache Shampoo 20ml | BQ2: Sachê Cond. 20ml | BR2: Esfoliante 60g | BS2: Mousse 150ml | BT2: Tonico 140ml | BU2: Loção 30ml | BV2: Esfoliante 60g | BW2: Mousse 150ml | BX2: Tonico 140ml | BY2: Loção 30ml | BZ2: Esfol. Corp 180ml | CA2: Sab. Liq 200ml | CB2: Creme 60g | CC2: Gel pos barba 60g | CD2: Shampoo 200ml | CE2: Cond. 200ml | CF2: Sache Shampoo 20ml | CG2: Sachê Cond. 20ml | CH2: Sab. Liq 200ml | CI2: Shampoo 200ml | CJ2: Gel pos barba 60g | CK2: Deo Colonia 120ml | CL2: Total geral
B3: Destino | C3: RS | D3: RS | E3: RS | F3: RS | G3: RS | H3: RS | I3: RS | J3: RS | K3: RS | L3: RS | M3: RS | N3: RS | O3: RS | P3: RS | Q3: RS | R3: RS | S3: RS | T3: RS | U3: RS | V3: RS | W3: RS | X3: RS | Y3: RS | Z3: RS | AA3: RS | AB3: RS | AC3: RS | AD3: RS | AE3: RS | AF3: RS | AG3: RS | AH3: RS | AI3: RS | AJ3: RS | AK3: RS | AL3: RS | AM3: RS | AN3: RS | AO3: RS | AP3: RS | AQ3: RS | AR3: RS | AS3: RS | AT3: RS | AU3: RS | AV3: RS | AW3: RS | AX3: RS | AY3: RS | AZ3: RS | BA3: RS | BB3: RS | BC3: RS | BD3: RS | BE3: RS | BF3: RS | BG3: RS | BH3: RS | BI3: RS | BJ3: RS | BK3: RS | BL3: RS | BM3: RS | BN3: RS | BO3: RS | BP3: RS | BQ3: RS | BR3: RS | BS3: RS | BT3: RS | BU3: RS | BV3: RS | BW3: RS | BX3: RS | BY3: RS | BZ3: RS | CA3: RS | CB3: RS | CC3: RS | CD3: RS | CE3: RS | CF3: RS | CG3: RS | CH3: RS | CI3: RS | CJ3: RS | CK3: RS
B4: % ICMS no estado de destino | C4: 0.18 | D4: 0.18 | E4: 0.18 | F4: 0.18 | G4: 0.18 | H4: 0.18 | I4: 0.18 | J4: 0.25 | K4: 0.25 | L4: 0.18 | M4: 0.18 | N4: 0.18 | O4: 0.18 | P4: 0.18 | Q4: 0.18 | R4: 0.25 | S4: 0.25 | T4: 0.25 | U4: 0.18 | V4: 0.25 | W4: 0.25 | X4: 0.25 | Y4: 0.25 | Z4: 0.18 | AA4: 0.18 | AB4: 0.18 | AC4: 0.18 | AD4: 0.18 | AE4: 0.18 | AF4: 0.18 | AG4: 0.18 | AH4: 0.25 | AI4: 0.25 | AJ4: 0.25 | AK4: 0.25 | AL4: 0.25 | AM4: 0.25 | AN4: 0.25 | AO4: 0.18 | AP4: 0.18 | AQ4: 0.18 | AR4: 0.18 | AS4: 0.18 | AT4: 0.18 | AU4: 0.18 | AV4: 0.18 | AW4: 0.25 | AX4: 0.25 | AY4: 0.18 | AZ4: 0.18 | BA4: 0.18 | BB4: 0.25 | BC4: 0.18 | BD4: 0.18 | BE4: 0.25 | BF4: 0.18 | BG4: 0.18 | BH4: 0.18 | BI4: 0.18 | BJ4: 0.18 | BK4: 0.25 | BL4: 0.25 | BM4: 0.18 | BN4: 0.18 | BO4: 0.25 | BP4: 0.18 | BQ4: 0.25 | BR4: 0.25 | BS4: 0.25 | BT4: 0.25 | BU4: 0.25 | BV4: 0.25 | BW4: 0.25 | BX4: 0.25 | BY4: 0.25 | BZ4: 0.18 | CA4: 0.18 | CB4: 0.25 | CC4: 0.25 | CD4: 0.18 | CE4: 0.25 | CF4: 0.18 | CG4: 0.25 | CH4: 0.18 | CI4: 0.18 | CJ4: 0.25 | CK4: 0.25 | CL4: TOTAL
B5: Valor do Produtos | C5: =Pedido!Y9 -> 0 | D5: =Pedido!Y10 -> 0 | E5: =Pedido!Y11 -> 0 | F5: =Pedido!Y12 -> 0 | G5: =Pedido!Y13 -> 0 | H5: =Pedido!Y14 -> 0 | I5: =Pedido!Y16 -> 0 | J5: =Pedido!Y17 -> 0 | K5: =Pedido!Y18 -> 0 | L5: =Pedido!Y20 -> 0 | M5: =Pedido!Y21 -> 0 | N5: =Pedido!Y22 -> 0 | O5: =Pedido!Y23 -> 0 | P5: =Pedido!Y24 -> 0 | Q5: =Pedido!Y25 -> 0 | R5: =Pedido!Y26 -> 0 | S5: =Pedido!Y27 -> 0 | T5: =Pedido!Y28 -> 0 | U5: =Pedido!Y29 -> 0 | V5: =Pedido!Y30 -> 0 | W5: =Pedido!Y31 -> 0 | X5: =Pedido!Y32 -> 0 | Y5: =Pedido!Y33 -> 0 | Z5: =Pedido!Y35 -> 0 | AA5: =Pedido!Y36 -> 0 | AB5: =Pedido!Y37 -> 0 | AC5: =Pedido!Y38 -> 0 | AD5: =Pedido!Y39 -> 0 | AE5: =SUM(Pedido!Y40:Y41) -> 0 | AF5: =Pedido!Y43 -> 0 | AG5: =Pedido!Y44 -> 0 | AH5: =Pedido!Y45 -> 0 | AI5: =Pedido!Y46 -> 0 | AJ5: =Pedido!Y47 -> 0 | AK5: =Pedido!Y48 -> 0 | AL5: =Pedido!Y49 -> 0 | AM5: =Pedido!Y50 -> 0 | AN5: =Pedido!Y51 -> 0 | AO5: =Pedido!Y52 -> 0 | AP5: =Pedido!Y53 -> 0 | AQ5: =Pedido!Y54 -> 0 | AR5: =Pedido!Y55 -> 0 | AS5: =Pedido!Y56 -> 0 | AT5: =Pedido!Y58 -> 0 | AU5: =Pedido!Y59 -> 0 | AV5: =Pedido!Y60 -> 0 | AW5: =Pedido!Y61 -> 0 | AX5: =Pedido!Y62 -> 0 | AY5: =Pedido!Y63 -> 0 | AZ5: =Pedido!Y65 -> 0 | BA5: =Pedido!Y66 -> 0 | BB5: =Pedido!Y67 -> 0 | BC5: =SUM(Pedido!Y69:Y70) -> 0 | BD5: =SUM(Pedido!Y71:Y72) -> 0 | BE5: =Pedido!Y73 -> 0 | BF5: =SUM(Pedido!Y75:Y76) -> 0 | BG5: =SUM(Pedido!Y77:Y78) -> 0 | BH5: =SUM(Pedido!Y80:Y82) -> 0 | BI5: =Pedido!Y84 -> 0 | BJ5: =Pedido!Y85 -> 0 | BK5: =Pedido!Y86 -> 0 | BL5: =Pedido!Y87 -> 0 | BM5: =Pedido!Y88 -> 0 | BN5: =Pedido!Y91 -> 0 | BO5: =Pedido!Y92 -> 0 | BP5: =Pedido!Y93 -> 0 | BQ5: =Pedido!Y94 -> 0 | BR5: =Pedido!Y97 -> 0 | BS5: =Pedido!Y98 -> 0 | BT5: =Pedido!Y99 -> 0 | BU5: =Pedido!Y100 -> 0 | BV5: =Pedido!Y103 -> 0 | BW5: =Pedido!Y104 -> 0 | BX5: =Pedido!Y105 -> 0 | BY5: =Pedido!Y106 -> 0 | BZ5: =Pedido!Y107 -> 0 | CA5: =Pedido!Y108 -> 0 | CB5: =Pedido!Y109 -> 0 | CC5: =Pedido!Y110 -> 0 | CD5: =Pedido!Y113 -> 0 | CE5: =Pedido!Y114 -> 0 | CF5: =Pedido!Y115 -> 0 | CG5: =Pedido!Y116 -> 0 | CH5: =Pedido!Y118 -> 0 | CI5: =Pedido!Y119 -> 0 | CJ5: =Pedido!Y120 -> 0 | CK5: =Pedido!Y121 -> 0 | CL5: =SUM(C5:CK5) -> 0
B6: Despesas Acessórias | C6: =$CL$6/$CL$5*C5 -> #DIV/0! | D6: =$CL$6/$CL$5*D5 -> #DIV/0! | E6: =$CL$6/$CL$5*E5 -> #DIV/0! | F6: =$CL$6/$CL$5*F5 -> #DIV/0! | G6: =$CL$6/$CL$5*G5 -> #DIV/0! | H6: =$CL$6/$CL$5*H5 -> #DIV/0! | I6: =$CL$6/$CL$5*I5 -> #DIV/0! | J6: =$CL$6/$CL$5*J5 -> #DIV/0! | ... CK6: =$CL$6/$CL$5*CK5 -> #DIV/0! | CL6: 0
B7: BC. ICMS-NORMAL | C7: =C6+C5 -> #DIV/0! | D7: =D6+D5 -> #DIV/0! | E7: =E6+E5 -> #DIV/0! | F7: =F6+F5 -> #DIV/0! | G7: =G6+G5 -> #DIV/0! | H7: =H6+H5 -> #DIV/0! | I7: =I6+I5 -> #DIV/0! | J7: =J6+J5 -> #DIV/0! | ... CK7: =CK6+CK5 -> #DIV/0! | CL7: =SUM(C7:CJ7) -> #DIV/0!
B8: ICMS Normal | C8: =C7*0.12 -> #DIV/0! | D8: =D7*0.12 -> #DIV/0! | E8: =E7*0.12 -> #DIV/0! | F8: =F7*0.12 -> #DIV/0! | G8: =G7*0.12 -> #DIV/0! | H8: =H7*0.12 -> #DIV/0! | I8: =I7*0.12 -> #DIV/0! | J8: =J7*0.12 -> #DIV/0! | ... CK8: =CK7*0.12 -> #DIV/0! | CL8: =SUM(C8:CJ8) -> #DIV/0!
B9: MVA | C9: 0.5215 | D9: 0.5215 | E9: 0.5215 | F9: 0.5215 | G9: 0.5215 | H9: 0.5215 | I9: 0.4561 | J9: 0.596 | K9: 0.5215 | L9: 0.4561 | M9: 0.4561 | N9: 0.4561 | O9: 0.4561 | P9: 0.4561 | Q9: 0.4561 | R9: 0.5215 | S9: 0.5715 | T9: 0.3224 | U9: 0.4561 | V9: 0.5215 | W9: 0.5215 | X9: 0.5715 | Y9: 0.5715 | Z9: 0.4561 | AA9: 0.4561 | AB9: 0.4561 | AC9: 0.4561 | AD9: 0.4561 | AE9: 0.4561 | AF9: 0.4561 | AG9: 0.4561 | AH9: 0.596 | AI9: 0.596 | AJ9: 0.5715 | AK9: 0.5215 | AL9: 0.5215 | AM9: 0.5215 | AN9: 0.5215 | AO9: 0.5215 | AP9: 0.5215 | AQ9: 0.5215 | AR9: 0.5215 | AS9: 0.5215 | AT9: 0.4561 | AU9: 0.4561 | AV9: 0.4561 | AW9: 0.596 | AX9: 0.5715 | AY9: 0.5215 | AZ9: 0.4561 | BA9: 0.5215 | BB9: 0.5715 | BC9: 0.4561 | BD9: 0.5215 | BE9: 0.5715 | BF9: 0.4561 | BG9: 0.5215 | BH9: 0.4561 | BI9: 0.4561 | BJ9: 0.5215 | BK9: 0.596 | BL9: 0.5715 | BM9: 0.5215 | BN9: 0.3793 | BO9: 0.5393 | BP9: 0.3793 | BQ9: 0.5393 | BR9: 0.3224 | BS9: 0.3224 | BT9: 0.3224 | BU9: 0.3224 | BV9: 0.3224 | BW9: 0.3224 | BX9: 0.3224 | BY9: 0.3224 | BZ9: 0.4561 | CA9: 0.4561 | CB9: 0.596 | CC9: 0.6718 | CD9: 0.3793 | CE9: 0.5393 | CF9: 0.3793 | CG9: 0.5393 | CH9: 0.4561 | CI9: 0.3793 | CJ9: 0.6718 | CK9: 0.5715 | CL9: <<>>
B10: BC. ICMS-ST | C10: =C7*(1+C9) -> #DIV/0! | D10: =D7*(1+D9) -> #DIV/0! | E10: =E7*(1+E9) -> #DIV/0! | F10: =F7*(1+F9) -> #DIV/0! | G10: =G7*(1+G9) -> #DIV/0! | H10: =H7*(1+H9) -> #DIV/0! | I10: =I7*(1+I9) -> #DIV/0! | J10: =J7*(1+J9) -> #DIV/0! | ... CK10: =CK7*(1+CK9) -> #DIV/0! | CL10: =SUM(C10:CJ10) -> #DIV/0!
B11: ICMS-ST | C11: =(C10*C4)-C8 -> #DIV/0! | D11: =(D10*D4)-D8 -> #DIV/0! | E11: =(E10*E4)-E8 -> #DIV/0! | F11: =(F10*F4)-F8 -> #DIV/0! | G11: =(G10*G4)-G8 -> #DIV/0! | H11: =(H10*H4)-H8 -> #DIV/0! | I11: =(I10*I4)-I8 -> #DIV/0! | J11: =(J10*J4)-J8 -> #DIV/0! | ... CK11: =(CK10*CK4)-CK8 -> #DIV/0! | CL11: =SUM(C11:CJ11) -> #DIV/0!
B12: Valor Total da NF >>>>>>>>>>>>>>>>>>>>>>>>>>>>>>>>>>>>>>>>>>>>>>>>>>>>>>>>>>>>>>>>>>>>>>>>>>> | CL12: =SUM(CL5+CL11) -> #DIV/0!
B14: PREENCHIMENTO DA NOTA FISCAL:
B15: Valor Total dos Produtos | F15: =CL5 -> 0
B16: Base de Cálculo do ICMS | F16: <<>>
B17: Valor do ICMS | F17: <<>>
B18: Base da Cálculo do ICMS Substituição | F18: =CL10 -> #DIV/0!
B19: Valor do ICMS Substituição | F19: =CL11 -> #DIV/0!
B20: Outras Despesas Acessórias | F20: =CL6 -> 0
B21: Valor Total da Nota | F21: =SUM(F15,F19) -> #DIV/0!
B23: NO CORPO DA NF OU EM INFORMAÇÕES COMPLEMENTARES
B24: Vr. operação sujeita a ST | F24: =CL5 -> 0
B25: Vr. ICMS operação própria p/ cálculo da ST | F25: =CL11 -> #DIV/0!

Sheet ICMS ST PR
A1: ... | B1: Alterar apenas as células em AZUL | C1: LINHA CASA PERFUMADA | I1: SACHES | R1: LINHA SPA | Z1: LINHA FLOWERS | AF1: LINHA BLANC | AT1: LINHA VINTAGE | AZ1: LINHA LA VIE | BC1: LINHA GOLD | BG1: LINHA ANIMALE | BL1: LINHA BOTANICA | BP1: LINHA NUTRA INTENSE | BT1: Linha Mel / Propolis | CF1: Linha Black Tie
C2: Perf. Amb 240ml | D2: Perf. Amb 60ml | E2: Difusor amb.300ml | F2: Difusor amb.60ml | G2: Água Perf. 500ml | H2: Sachê Perf. 6g | I2: Sachê Sab. Liq. 20ml | J2: Sachê Loção 20ml | K2: Sache sais 20 g | L2: Sabonete B. 150gr | M2: Sabonete Bucha | N2: Sab Girassol | O2: Sab Hibisco | P2: Sab. Ursinho | Q2: Sab Borboleta | R2: Loção Hidra 200ml | S2: Loção Hidra 60ml | T2: Mousse 150ml | U2: Esfol. Corp 180ml | V2: Sachê sais 270 g | W2: Sachê espuma 160 ml | X2: Deo Colonia 120ml | Y2: água Colonia 300ml | Z2: Sab. Liq. 340ml | AA2: Sab. Liq. 60ml | AB2: Refil 340ml | AC2: Sab. Liq. 990ml | AD2: Refil 990ml | AE2: Kit Flowers | AF2: Sab. Liq. Blanc | AG2: Ref. Sab. Liq. Blanc | AH2: Loção Blanc | AI2: Ref. Loção Blanc | AJ2: Deo Colonia 120ml | AK2: Sais Banho Blanc | AL2: Ref S.Banho Blanc | AM2: Esp. Banho Blanc. | AN2: Ref. E. Banho Blanc. | AO2: Difusor Blanc | AP2: Ref. Difusor Blanc | AQ2: Perf. Amb. Citrone | AR2: Perf. Amb. Blanc | AS2: Sachê Perf. 6g | AT2: Sab. Liq. Vintage | AU2: Refil 340ml | AV2: Dif. Amb. Vintage | AW2: Loção vintage | AX2: Deo Colonia 120ml | AY2: Sachê Perf. 6g | AZ2: Sab Líq La vie | BA2: Difusor amb La vie | BB2: Deo Colonia 120ml | BC2: Sab Líq Gold | BD2: Difusor amb Gold | BE2: Deo Colonia 120ml | BF2: Sab Líq Gold Per | BG2: Difusor amb Gold P | BH2: Sab Cozinheiro | BI2: Sab. Liq Animale | BJ2: Dif.Amb Animale | BK2: Loção Hidr. Animale | BL2: Deo Colonia 120ml | BM2: Sachê Perf. 6g | BN2: Shampoo 200ml | BO2: Cond. 200ml | BP2: Sache Shampoo 20ml | BQ2: Sachê Cond. 20ml | BR2: Esfoliante 60g | BS2: Mousse 150ml | BT2: Tonico 140ml | BU2: Loção 30ml | BV2: Esfoliante 60g | BW2: Mousse 150ml | BX2: Tonico 140ml | BY2: Loção 30ml | BZ2: Esfol. Corp 180ml | CA2: Sab. Liq 200ml | CB2: Creme 60g | CC2: Gel pos barba 60g | CD2: Shampoo 200ml | CE2: Cond. 200ml | CF2: Sache Shampoo 20ml | CG2: Sachê Cond. 20ml | CH2: Sab. Liq 200ml | CI2: Shampoo 200ml | CJ2: Gel pos barba 60g | CK2: Deo Colonia 120ml | CL2: Total geral
B3: Destino | C3: PR | D3: PR | E3: PR | F3: PR | G3: PR | H3: PR | I3: PR | J3: PR | K3: PR | L3: PR | M3: PR | N3: PR | O3: PR | P3: PR | Q3: PR | R3: PR | S3: PR | T3: PR | U3: PR | V3: PR | W3: PR | X3: PR | Y3: PR | Z3: PR | AA3: PR | AB3: PR | AC3: PR | AD3: PR | AE3: PR | AF3: PR | AG3: PR | AH3: PR | AI3: PR | AJ3: PR | AK3: PR | AL3: PR | AM3: PR | AN3: PR | AO3: PR | AP3: PR | AQ3: PR | AR3: PR | AS3: PR | AT3: PR | AU3: PR | AV3: PR | AW3: PR | AX3: PR | AY3: PR | AZ3: PR | BA3: PR | BB3: PR | BC3: PR | BD3: PR | BE3: PR | BF3: PR | BG3: PR | BH3: PR | BI3: PR | BJ3: PR | BK3: PR | BL3: PR | BM3: PR | BN3: PR | BO3: PR | BP3: PR | BQ3: PR | BR3: PR | BS3: PR | BT3: PR | BU3: PR | BV3: PR | BW3: PR | BX3: PR | BY3: PR | BZ3: PR | CA3: PR | CB3: PR | CC3: PR | CD3: PR | CE3: PR | CF3: PR | CG3: PR | CH3: PR | CI3: PR | CJ3: PR | CK3: PR
B4: % ICMS no estado de destino | C4: 0.18 | D4: 0.18 | E4: 0.18 | F4: 0.18 | G4: 0.18 | H4: 0.18 | I4: 0.18 | J4: 0.25 | K4: 0.25 | L4: 0.18 | M4: 0.18 | N4: 0.18 | O4: 0.18 | P4: 0.18 | Q4: 0.18 | R4: 0.25 | S4: 0.25 | T4: 0.25 | U4: 0.18 | V4: 0.25 | W4: 0.25 | X4: 0.25 | Y4: 0.25 | Z4: 0.18 | AA4: 0.18 | AB4: 0.18 | AC4: 0.18 | AD4: 0.18 | AE4: 0.18 | AF4: 0.18 | AG4: 0.18 | AH4: 0.25 | AI4: 0.25 | AJ4: 0.25 | AK4: 0.25 | AL4: 0.25 | AM4: 0.25 | AN4: 0.25 | AO4: 0.18 | AP4: 0.18 | AQ4: 0.18 | AR4: 0.18 | AS4: 0.18 | AT4: 0.18 | AU4: 0.18 | AV4: 0.18 | AW4: 0.25 | AX4: 0.25 | AY4: 0.18 | AZ4: 0.18 | BA4: 0.18 | BB4: 0.25 | BC4: 0.18 | BD4: 0.18 | BE4: 0.25 | BF4: 0.18 | BG4: 0.18 | BH4: 0.18 | BI4: 0.18 | BJ4: 0.18 | BK4: 0.25 | BL4: 0.25 | BM4: 0.18 | BN4: 0.18 | BO4: 0.25 | BP4: 0.18 | BQ4: 0.25 | BR4: 0.25 | BS4: 0.25 | BT4: 0.25 | BU4: 0.25 | BV4: 0.25 | BW4: 0.25 | BX4: 0.25 | BY4: 0.25 | BZ4: 0.18 | CA4: 0.18 | CB4: 0.25 | CC4: 0.25 | CD4: 0.18 | CE4: 0.25 | CF4: 0.18 | CG4: 0.25 | CH4: 0.18 | CI4: 0.18 | CJ4: 0.25 | CK4: 0.25 | CL4: TOTAL
B5: Valor do Produtos | C5: =Pedido!Y9 -> 0 | D5: =Pedido!Y10 -> 0 | E5: =Pedido!Y11 -> 0 | F5: =Pedido!Y12 -> 0 | G5: =Pedido!Y13 -> 0 | H5: =Pedido!Y14 -> 0 | I5: =Pedido!Y16 -> 0 | J5: =Pedido!Y17 -> 0 | K5: =Pedido!Y18 -> 0 | L5: =Pedido!Y20 -> 0 | M5: =Pedido!Y21 -> 0 | N5: =Pedido!Y22 -> 0 | O5: =Pedido!Y23 -> 0 | P5: =Pedido!Y24 -> 0 | Q5: =Pedido!Y25 -> 0 | R5: =Pedido!Y26 -> 0 | S5: =Pedido!Y27 -> 0 | T5: =Pedido!Y28 -> 0 | U5: =Pedido!Y29 -> 0 | V5: =Pedido!Y30 -> 0 | W5: =Pedido!Y31 -> 0 | X5: =Pedido!Y32 -> 0 | Y5: =Pedido!Y33 -> 0 | Z5: =Pedido!Y35 -> 0 | AA5: =Pedido!Y36 -> 0 | AB5: =Pedido!Y37 -> 0 | AC5: =Pedido!Y38 -> 0 | AD5: =Pedido!Y39 -> 0 | AE5: =SUM(Pedido!Y40:Y41) -> 0 | AF5: =Pedido!Y43 -> 0 | AG5: =Pedido!Y44 -> 0 | AH5: =Pedido!Y45 -> 0 | AI5: =Pedido!Y46 -> 0 | AJ5: =Pedido!Y47 -> 0 | AK5: =Pedido!Y48 -> 0 | AL5: =Pedido!Y49 -> 0 | AM5: =Pedido!Y50 -> 0 | AN5: =Pedido!Y51 -> 0 | AO5: =Pedido!Y52 -> 0 | AP5: =Pedido!Y53 -> 0 | AQ5: =Pedido!Y54 -> 0 | AR5: =Pedido!Y55 -> 0 | AS5: =Pedido!Y56 -> 0 | AT5: =Pedido!Y58 -> 0 | AU5: =Pedido!Y59 -> 0 | AV5: =Pedido!Y60 -> 0 | AW5: =Pedido!Y61 -> 0 | AX5: =Pedido!Y62 -> 0 | AY5: =Pedido!Y63 -> 0 | AZ5: =Pedido!Y65 -> 0 | BA5: =Pedido!Y66 -> 0 | BB5: =Pedido!Y67 -> 0 | BC5: =SUM(Pedido!Y69:Y70) -> 0 | BD5: =SUM(Pedido!Y71:Y72) -> 0 | BE5: =Pedido!Y73 -> 0 | BF5: =SUM(Pedido!Y75:Y76) -> 0 | BG5: =SUM(Pedido!Y77:Y78) -> 0 | BH5: =SUM(Pedido!Y80:Y82) -> 0 | BI5: =Pedido!Y84 -> 0 | BJ5: =Pedido!Y85 -> 0 | BK5: =Pedido!Y86 -> 0 | BL5: =Pedido!Y87 -> 0 | BM5: =Pedido!Y88 -> 0 | BN5: =Pedido!Y91 -> 0 | BO5: =Pedido!Y92 -> 0 | BP5: =Pedido!Y93 -> 0 | BQ5: =Pedido!Y94 -> 0 | BR5: =Pedido!Y97 -> 0 | BS5: =Pedido!Y98 -> 0 | BT5: =Pedido!Y99 -> 0 | BU5: =Pedido!Y100 -> 0 | BV5: =Pedido!Y103 -> 0 | BW5: =Pedido!Y104 -> 0 | BX5: =Pedido!Y105 -> 0 | BY5: =Pedido!Y106 -> 0 | BZ5: =Pedido!Y107 -> 0 | CA5: =Pedido!Y108 -> 0 | CB5: =Pedido!Y109 -> 0 | CC5: =Pedido!Y110 -> 0 | CD5: =Pedido!Y113 -> 0 | CE5: =Pedido!Y114 -> 0 | CF5: =Pedido!Y115 -> 0 | CG5: =Pedido!Y116 -> 0 | CH5: =Pedido!Y118 -> 0 | CI5: =Pedido!Y119 -> 0 | CJ5: =Pedido!Y120 -> 0 | CK5: =Pedido!Y121 -> 0 | CL5: =SUM(C5:CK5) -> 0
B6: Despesas Acessórias | C6: =$CL$6/$CL$5*C5 -> #DIV/0! | D6: =$CL$6/$CL$5*D5 -> #DIV/0! | E6: =$CL$6/$CL$5*E5 -> #DIV/0! | F6: =$CL$6/$CL$5*F5 -> #DIV/0! | G6: =$CL$6/$CL$5*G5 -> #DIV/0! | H6: =$CL$6/$CL$5*H5 -> #DIV/0! | I6: =$CL$6/$CL$5*I5 -> #DIV/0! | J6: =$CL$6/$CL$5*J5 -> #DIV/0! | ... CK6: =$CL$6/$CL$5*CK5 -> #DIV/0! | CL6: 0
B7: BC. ICMS-NORMAL | C7: =C6+C5 -> #DIV/0! | D7: =D6+D5 -> #DIV/0! | E7: =E6+E5 -> #DIV/0! | F7: =F6+F5 -> #DIV/0! | G7: =G6+G5 -> #DIV/0! | H7: =H6+H5 -> #DIV/0! | I7: =I6+I5 -> #DIV/0! | J7: =J6+J5 -> #DIV/0! | ... CK7: =CK6+CK5 -> #DIV/0! | CL7: =SUM(C7:CJ7) -> #DIV/0!
B8: ICMS Normal | C8: =C7*0.12 -> #DIV/0! | D8: =D7*0.12 -> #DIV/0! | E8: =E7*0.12 -> #DIV/0! | F8: =F7*0.12 -> #DIV/0! | G8: =G7*0.12 -> #DIV/0! | H8: =H7*0.12 -> #DIV/0! | I8: =I7*0.12 -> #DIV/0! | J8: =J7*0.12 -> #DIV/0! | ... CK8: =CK7*0.12 -> #DIV/0! | CL8: =SUM(C8:CJ8) -> #DIV/0!
B9: MVA | C9: 0.51 | D9: 0.51 | E9: 0.51 | F9: 0.51 | G9: 0.51 | H9: 0.51 | I9: 0.51 | J9: 0.28 | K9: 0.51 | L9: 0.51 | M9: 0.51 | N9: 0.51 | O9: 0.51 | P9: 0.51 | Q9: 0.51 | R9: 0.28 | S9: 0.28 | T9: 0.28 | U9: 0.51 | V9: 0.51 | W9: 0.51 | X9: 0.74 | Y9: 0.74 | Z9: 0.51 | AA9: 0.51 | AB9: 0.51 | AC9: 0.51 | AD9: 0.51 | AE9: 0.51 | AF9: 0.51 | AG9: 0.51 | AH9: 0.28 | AI9: 0.28 | AJ9: 0.74 | AK9: 0.51 | AL9: 0.51 | AM9: 0.51 | AN9: 0.51 | AO9: 0.51 | AP9: 0.51 | AQ9: 0.51 | AR9: 0.51 | AS9: 0.51 | AT9: 0.51 | AU9: 0.51 | AV9: 0.51 | AW9: 0.28 | AX9: 0.74 | AY9: 0.51 | AZ9: 0.51 | BA9: 0.51 | BB9: 0.74 | BC9: 0.51 | BD9: 0.51 | BE9: 0.74 | BF9: 0.51 | BG9: 0.51 | BH9: 0.51 | BI9: 0.51 | BJ9: 0.51 | BK9: 0.28 | BL9: 0.74 | BM9: 0.51 | BN9: 0.31 | BO9: 0.4 | BP9: 0.31 | BQ9: 0.4 | BR9: 0.28 | BS9: 0.28 | BT9: 0.28 | BU9: 0.28 | BV9: 0.28 | BW9: 0.28 | BX9: 0.28 | BY9: 0.28 | BZ9: 0.51 | CA9: 0.51 | CB9: 0.28 | CC9: 0.76 | CD9: 0.31 | CE9: 0.4 | CF9: 0.31 | CG9: 0.4 | CH9: 0.51 | CI9: 0.31 | CJ9: 0.76 | CK9: 0.74 | CL9: <<>>
B10: BC. ICMS-ST | C10: =C7*(1+C9) -> #DIV/0! | D10: =D7*(1+D9) -> #DIV/0! | E10: =E7*(1+E9) -> #DIV/0! | F10: =F7*(1+F9) -> #DIV/0! | G10: =G7*(1+G9) -> #DIV/0! | H10: =H7*(1+H9) -> #DIV/0! | I10: =I7*(1+I9) -> #DIV/0! | J10: =J7*(1+J9) -> #DIV/0! | ... CK10: =CK7*(1+CK9) -> #DIV/0! | CL10: =SUM(C10:CJ10) -> #DIV/0!
B11: ICMS-ST | C11: =(C10*C4)-C8 -> #DIV/0! | D11: =(D10*D4)-D8 -> #DIV/0! | E11: =(E10*E4)-E8 -> #DIV/0! | F11: =(F10*F4)-F8 -> #DIV/0! | G11: =(G10*G4)-G8 -> #DIV/0! | H11: =(H10*H4)-H8 -> #DIV/0! | I11: =(I10*I4)-I8 -> #DIV/0! | J11: =(J10*J4)-J8 -> #DIV/0! | ... CK11: =(CK10*CK4)-CK8 -> #DIV/0! | CL11: =SUM(C11:CJ11) -> #DIV/0!
B12: Valor Total da NF >>>>>>>>>>>>>>>>>>>>>>>>>>>>>>>>>>>>>>>>>>>>>>>>>>>>>>>>>>>>>>>>>>>>>>>>>>> | CL12: =SUM(CL5+CL11) -> #DIV/0!
B14: PREENCHIMENTO DA NOTA FISCAL:
B15: Valor Total dos Produtos | F15: =CL5 -> 0
B16: Base de Cálculo do ICMS | F16: <<>>
B17: Valor do ICMS | F17: <<>>
B18: Base da Cálculo do ICMS Substituição | F18: =CL10 -> #DIV/0!
B19: Valor do ICMS Substituição | F19: =CL11 -> #DIV/0!
B20: Outras Despesas Acessórias | F20: =CL6 -> 0
B21: Valor Total da Nota | F21: =SUM(F15,F19) -> #DIV/0!
B23: NO CORPO DA NF OU EM INFORMAÇÕES COMPLEMENTARES
B24: Vr. operação sujeita a ST | F24: =CL5 -> 0
B25: Vr. ICMS operação própria p/ cálculo da ST | F25: =CL11 -> #DIV/0!

Sheet ICMS ST SC
A1: ... | B1: Alterar apenas as células em AZUL | C1: LINHA CASA PERFUMADA | I1: SACHES | R1: LINHA SPA | Z1: LINHA FLOWERS | AF1: LINHA BLANC | AT1: LINHA VINTAGE | AZ1: LINHA LA VIE | BC1: LINHA GOLD | BG1: LINHA ANIMALE | BL1: LINHA BOTANICA | BP1: LINHA NUTRA INTENSE | BT1: Linha Mel / Propolis | CF1: Linha Black Tie
C2: Perf. Amb 240ml | D2: Perf. Amb 60ml | E2: Difusor amb.300ml | F2: Difusor amb.60ml | G2: Água Perf. 500ml | H2: Sachê Perf. 6g | I2: Sachê Sab. Liq. 20ml | J2: Sachê Loção 20ml | K2: Sache sais 20 g | L2: Sabonete B. 150gr | M2: Sabonete Bucha | N2: Sab Girassol | O2: Sab Hibisco | P2: Sab. Ursinho | Q2: Sab Borboleta | R2: Loção Hidra 200ml | S2: Loção Hidra 60ml | T2: Mousse 150ml | U2: Esfol. Corp 180ml | V2: Sachê sais 270 g | W2: Sachê espuma 160 ml | X2: Deo Colonia 120ml | Y2: água Colonia 300ml | Z2: Sab. Liq. 340ml | AA2: Sab. Liq. 60ml | AB2: Refil 340ml | AC2: Sab. Liq. 990ml | AD2: Refil 990ml | AE2: Kit Flowers | AF2: Sab. Liq. Blanc | AG2: Ref. Sab. Liq. Blanc | AH2: Loção Blanc | AI2: Ref. Loção Blanc | AJ2: Deo Colonia 120ml | AK2: Sais Banho Blanc | AL2: Ref S.Banho Blanc | AM2: Esp. Banho Blanc. | AN2: Ref. E. Banho Blanc. | AO2: Difusor Blanc | AP2: Ref. Difusor Blanc | AQ2: Perf. Amb. Citrone | AR2: Perf. Amb. Blanc | AS2: Sachê Perf. 6g | AT2: Sab. Liq. Vintage | AU2: Refil 340ml | AV2: Dif. Amb. Vintage | AW2: Loção vintage | AX2: Deo Colonia 120ml | AY2: Sachê Perf. 6g | AZ2: Sab Líq La vie | BA2: Difusor amb La vie | BB2: Deo Colonia 120ml | BC2: Sab Líq Gold | BD2: Difusor amb Gold | BE2: Deo Colonia 120ml | BF2: Sab Cozinheiro | BG2: Sab. Liq Animale | BH2: Dif.Amb Animale | BI2: Loção Hidr. Animale | BJ2: Deo Colonia 120ml | BK2: Sachê Perf. 6g | BL2: Shampoo 200ml | BM2: Cond. 200ml | BN2: Sache Shampoo 20ml | BO2: Sachê Cond. 20ml | BP2: Esfoliante 60g | BQ2: Mousse 150ml | BR2: Tonico 140ml | BS2: Loção 30ml | BT2: Esfoliante 60g | BU2: Mousse 150ml | BV2: Tonico 140ml | BW2: Loção 30ml | BX2: Esfol. Corp 180ml | BY2: Sab. Liq 200ml | BZ2: Creme 60g | CA2: Gel pos barba 60g | CB2: Shampoo 200ml | CC2: Cond. 200ml | CD2: Sache Shampoo 20ml | CE2: Sachê Cond. 20ml | CF2: Sab. Liq 200ml | CG2: Shampoo 200ml | CH2: Gel pos barba 60g | CI2: Deo Colonia 120ml | CJ2: Total geral
B3: Destino | C3: SC | D3: SC | E3: SC | F3: SC | G3: SC | H3: SC | I3: SC | J3: SC | K3: SC | L3: PR | M3: PR | N3: PR | O3: PR | P3: PR | Q3: PR | R3: SC | S3: SC | T3: SC | U3: SC | V3: SC | W3: SC | X3: SC | Y3: SC | Z3: SC | AA3: SC | AB3: SC | AC3: SC | AD3: SC | AE3: SC | AF3: SC | AG3: SC | AH3: SC | AI3: SC | AJ3: SC | AK3: SC | AL3: SC | AM3: SC | AN3: SC | AO3: SC | AP3: SC | AQ3: SC | AR3: SC | AS3: SC | AT3: SC | AU3: SC | AV3: SC | AW3: SC | AX3: SC | AY3: SC | AZ3: SC | BA3: SC | BB3: SC | BC3: SC | BD3: SC | BE3: SC | BF3: SC | BG3: SC | BH3: SC | BI3: SC | BJ3: SC | BK3: SC | BL3: SC | BM3: SC | BN3: SC | BO3: SC | BP3: SC | BQ3: SC | BR3: SC | BS3: SC | BT3: SC | BU3: SC | BV3: SC | BW3: SC | BX3: SC | BY3: SC | BZ3: SC | CA3: SC | CB3: SC | CC3: SC | CD3: SC | CE3: SC | CF3: SC | CG3: SC | CH3: SC | CI3: SC
B4: % ICMS no estado de destino | C4: 0.18 | D4: 0.18 | E4: 0.18 | F4: 0.18 | G4: 0.18 | H4: 0.18 | I4: 0.18 | J4: 0.25 | K4: 0.25 | L4: 0.18 | M4: 0.18 | N4: 0.18 | O4: 0.18 | P4: 0.18 | Q4: 0.18 | R4: 0.25 | S4: 0.25 | T4: 0.25 | U4: 0.18 | V4: 0.25 | W4: 0.25 | X4: 0.25 | Y4: 0.25 | Z4: 0.18 | AA4: 0.18 | AB4: 0.18 | AC4: 0.18 | AD4: 0.18 | AE4: 0.18 | AF4: 0.18 | AG4: 0.18 | AH4: 0.25 | AI4: 0.25 | AJ4: 0.25 | AK4: 0.25 | AL4: 0.25 | AM4: 0.25 | AN4: 0.25 | AO4: 0.18 | AP4: 0.18 | AQ4: 0.18 | AR4: 0.18 | AS4: 0.18 | AT4: 0.18 | AU4: 0.18 | AV4: 0.18 | AW4: 0.25 | AX4: 0.25 | AY4: 0.18 | AZ4: 0.18 | BA4: 0.18 | BB4: 0.25 | BC4: 0.18 | BD4: 0.18 | BE4: 0.25 | BF4: 0.18 | BG4: 0.18 | BH4: 0.18 | BI4: 0.25 | BJ4: 0.25 | BK4: 0.18 | BL4: 0.18 | BM4: 0.25 | BN4: 0.18 | BO4: 0.25 | BP4: 0.25 | BQ4: 0.25 | BR4: 0.25 | BS4: 0.25 | BT4: 0.25 | BU4: 0.25 | BV4: 0.25 | BW4: 0.25 | BX4: 0.18 | BY4: 0.18 | BZ4: 0.25 | CA4: 0.25 | CB4: 0.18 | CC4: 0.25 | CD4: 0.18 | CE4: 0.25 | CF4: 0.18 | CG4: 0.18 | CH4: 0.25 | CI4: 0.25 | CJ4: TOTAL
B5: Valor do Produtos | C5: =Pedido!Y9 -> 0 | D5: =Pedido!Y10 -> 0 | E5: =Pedido!Y11 -> 0 | F5: =Pedido!Y12 -> 0 | G5: =Pedido!Y13 -> 0 | H5: =Pedido!Y14 -> 0 | I5: =Pedido!Y16 -> 0 | J5: =Pedido!Y17 -> 0 | K5: =Pedido!Y18 -> 0 | L5: =Pedido!Y20 -> 0 | M5: =Pedido!Y21 -> 0 | N5: =Pedido!Y22 -> 0 | O5: =Pedido!Y23 -> 0 | P5: =Pedido!Y24 -> 0 | Q5: =Pedido!Y25 -> 0 | R5: =Pedido!Y26 -> 0 | S5: =Pedido!Y27 -> 0 | T5: =Pedido!Y28 -> 0 | U5: =Pedido!Y29 -> 0 | V5: =Pedido!Y30 -> 0 | W5: =Pedido!Y31 -> 0 | X5: =Pedido!Y32 -> 0 | Y5: =Pedido!Y33 -> 0 | Z5: =Pedido!Y35 -> 0 | AA5: =Pedido!Y36 -> 0 | AB5: =Pedido!Y37 -> 0 | AC5: =Pedido!Y38 -> 0 | AD5: =Pedido!Y39 -> 0 | AE5: =SUM(Pedido!Y40:Y41) -> 0 | AF5: =Pedido!Y43 -> 0 | AG5: =Pedido!Y44 -> 0 | AH5: =Pedido!Y45 -> 0 | AI5: =Pedido!Y46 -> 0 | AJ5: =Pedido!Y47 -> 0 | AK5: =Pedido!Y48 -> 0 | AL5: =Pedido!Y49 -> 0 | AM5: =Pedido!Y50 -> 0 | AN5: =Pedido!Y51 -> 0 | AO5: =Pedido!Y52 -> 0 | AP5: =Pedido!Y53 -> 0 | AQ5: =Pedido!Y54 -> 0 | AR5: =Pedido!Y55 -> 0 | AS5: =Pedido!Y56 -> 0 | AT5: =Pedido!Y58 -> 0 | AU5: =Pedido!Y59 -> 0 | AV5: =Pedido!Y60 -> 0 | AW5: =Pedido!Y61 -> 0 | AX5: =Pedido!Y62 -> 0 | AY5: =Pedido!Y63 -> 0 | AZ5: =Pedido!Y65 -> 0 | BA5: =Pedido!Y66 -> 0 | BB5: =Pedido!Y67 -> 0 | BC5: =SUM(Pedido!Y69:Y70) -> 0 | BD5: =SUM(Pedido!Y71:Y72) -> 0 | BE5: =Pedido!Y73 -> 0 | BF5: =SUM(Pedido!Y80:Y82) -> 0 | BG5: =Pedido!Y84 -> 0 | BH5: =Pedido!Y85 -> 0 | BI5: =Pedido!Y86 -> 0 | BJ5: =Pedido!Y87 -> 0 | BK5: =Pedido!Y88 -> 0 | BL5: =Pedido!Y91 -> 0 | BM5: =Pedido!Y92 -> 0 | BN5: =Pedido!Y93 -> 0 | BO5: =Pedido!Y94 -> 0 | BP5: =Pedido!Y97 -> 0 | BQ5: =Pedido!Y98 -> 0 | BR5: =Pedido!Y99 -> 0 | BS5: =Pedido!Y100 -> 0 | BT5: =Pedido!Y103 -> 0 | BU5: =Pedido!Y104 -> 0 | BV5: =Pedido!Y105 -> 0 | BW5: =Pedido!Y106 -> 0 | BX5: =Pedido!Y107 -> 0 | BY5: =Pedido!Y108 -> 0 | BZ5: =Pedido!Y109 -> 0 | CA5: =Pedido!Y110 -> 0 | CB5: =Pedido!Y113 -> 0 | CC5: =Pedido!Y114 -> 0 | CD5: =Pedido!Y115 -> 0 | CE5: =Pedido!Y116 -> 0 | CF5: =Pedido!Y118 -> 0 | CG5: =Pedido!Y119 -> 0 | CH5: =Pedido!Y120 -> 0 | CI5: =Pedido!Y121 -> 0 | CJ5: =SUM(C5:CI5) -> 0
B6: Despesas Acessórias | C6: =$CJ$6/$CJ$5*C5 -> #DIV/0! | D6: =$CJ$6/$CJ$5*D5 -> #DIV/0! | E6: =$CJ$6/$CJ$5*E5 -> #DIV/0! | F6: =$CJ$6/$CJ$5*F5 -> #DIV/0! | G6: =$CJ$6/$CJ$5*G5 -> #DIV/0! | H6: =$CJ$6/$CJ$5*H5 -> #DIV/0! | I6: =$CJ$6/$CJ$5*I5 -> #DIV/0! | J6: =$CJ$6/$CJ$5*J5 -> #DIV/0! | ... CI6: =$CJ$6/$CJ$5*CI5 -> #DIV/0! | CJ6: 0
B7: BC. ICMS-NORMAL | C7: =C6+C5 -> #DIV/0! | D7: =D6+D5 -> #DIV/0! | E7: =E6+E5 -> #DIV/0! | F7: =F6+F5 -> #DIV/0! | G7: =G6+G5 -> #DIV/0! | H7: =H6+H5 -> #DIV/0! | I7: =I6+I5 -> #DIV/0! | J7: =J6+J5 -> #DIV/0! | ... CI7: =CI6+CI5 -> #DIV/0! | CJ7: =SUM(C7:CH7) -> #DIV/0!
B8: ICMS Normal | C8: =C7*0.12 -> #DIV/0! | D8: =D7*0.12 -> #DIV/0! | E8: =E7*0.12 -> #DIV/0! | F8: =F7*0.12 -> #DIV/0! | G8: =G7*0.12 -> #DIV/0! | H8: =H7*0.12 -> #DIV/0! | I8: =I7*0.12 -> #DIV/0! | J8: =J7*0.12 -> #DIV/0! | ... CI8: =CI7*0.12 -> #DIV/0! | CJ8: =SUM(C8:CH8) -> #DIV/0!
B9: MVA | C9: 0.51 | D9: 0.51 | E9: 0.51 | F9: 0.51 | G9: 0.51 | H9: 0.51 | I9: 0.51 | J9: 0.7 | K9: 0.51 | L9: 0.51 | M9: 0.51 | N9: 0.51 | O9: 0.51 | P9: 0.51 | Q9: 0.51 | R9: 0.7 | S9: 0.7 | T9: 0.28 | U9: 0.51 | V9: 0.51 | W9: 0.51 | X9: 0.74 | Y9: 0.74 | Z9: 0.51 | AA9: 0.51 | AB9: 0.51 | AC9: 0.51 | AD9: 0.51 | AE9: 0.51 | AF9: 0.51 | AG9: 0.51 | AH9: 0.28 | AI9: 0.7 | AJ9: 0.74 | AK9: 0.51 | AL9: 0.51 | AM9: 0.51 | AN9: 0.51 | AO9: 0.51 | AP9: 0.51 | AQ9: 0.51 | AR9: 0.51 | AS9: 0.51 | AT9: 0.51 | AU9: 0.51 | AV9: 0.51 | AW9: 0.7 | AX9: 0.74 | AY9: 0.51 | AZ9: 0.51 | BA9: 0.51 | BB9: 0.74 | BC9: 0.51 | BD9: 0.51 | BE9: 0.74 | BF9: 0.51 | BG9: 0.51 | BH9: 0.51 | BI9: 0.7 | BJ9: 0.74 | BK9: 0.51 | BL9: 0.31 | BM9: 0.4 | BN9: 0.31 | BO9: 0.4 | BP9: 0.28 | BQ9: 0.28 | BR9: 0.28 | BS9: 0.28 | BT9: 0.28 | BU9: 0.28 | BV9: 0.28 | BW9: 0.28 | BX9: 0.51 | BY9: 0.51 | BZ9: 0.28 | CA9: 0.76 | CB9: 0.31 | CC9: 0.4 | CD9: 0.31 | CE9: 0.4 | CF9: 0.51 | CG9: 0.31 | CH9: 0.76 | CI9: 0.74 | CJ9: <<>>
B10: BC. ICMS-ST | C10: =C7*(1+C9) -> #DIV/0! | D10: =D7*(1+D9) -> #DIV/0! | E10: =E7*(1+E9) -> #DIV/0! | F10: =F7*(1+F9) -> #DIV/0! | G10: =G7*(1+G9) -> #DIV/0! | H10: =H7*(1+H9) -> #DIV/0! | I10: =I7*(1+I9) -> #DIV/0! | J10: =J7*(1+J9) -> #DIV/0! | ... CI10: =CI7*(1+CI9) -> #DIV/0! | CJ10: =SUM(C10:CH10) -> #DIV/0!
B11: ICMS-ST | C11: =(C10*C4)-C8 -> #DIV/0! | D11: =(D10*D4)-D8 -> #DIV/0! | E11: =(E10*E4)-E8 -> #DIV/0! | F11: =(F10*F4)-F8 -> #DIV/0! | G11: =(G10*G4)-G8 -> #DIV/0! | H11: =(H10*H4)-H8 -> #DIV/0! | I11: =(I10*I4)-I8 -> #DIV/0! | J11: =(J10*J4)-J8 -> #DIV/0! | ... CI11: =(CI10*CI4)-CI8 -> #DIV/0! | CJ11: =SUM(C11:CH11) -> #DIV/0!
B12: Valor Total da NF >>>>>>>>>>>>>>>>>>>>>>>>>>>>>>>>>>>>>>>>>>>>>>>>>>>>>>>>>>>>>>>>>>>>>>>>>>> | CJ12: =SUM(CJ5+CJ11) -> #DIV/0!
B14: PREENCHIMENTO DA NOTA FISCAL:
B15: Valor Total dos Produtos | F15: =CJ5 -> 0
B16: Base de Cálculo do ICMS | F16: <<>>
B17: Valor do ICMS | F17: <<>>
B18: Base da Cálculo do ICMS Substituição | F18: =CJ10 -> #DIV/0!
B19: Valor do ICMS Substituição | F19: =CJ11 -> #DIV/0!
B20: Outras Despesas Acessórias | F20: =CJ6 -> 0
B21: Valor Total da Nota | F21: =SUM(F15,F19) -> #DIV/0!
B23: NO CORPO DA NF OU EM INFORMAÇÕES COMPLEMENTARES
B24: Vr. operação sujeita a ST | F24: =CJ5 -> 0
B25: Vr. ICMS operação própria p/ cálculo da ST | F25: =CJ11 -> #DIV/0!

Sheet ICMS ST-MG
A1: ... | B1: Alterar apenas as células em AZUL | C1: LINHA CASA PERFUMADA | I1: SACHES | R1: LINHA SPA | Z1: LINHA FLOWERS | AF1: LINHA BLANC | AT1: LINHA VINTAGE | AZ1: LINHA LA VIE | BC1: LINHA GOLD | BG1: LINHA ANIMALE | BM1: LINHA BOTANICA | BQ1: LINHA NUTRA INTENSE | BU1: Linha Mel / Propolis | CG1: Linha Black Tie
C2: Perf. Amb 240ml | D2: Perf. Amb 60ml | E2: Difusor amb.300ml | F2: Difusor amb.60ml | G2: Água Perf. 500ml | H2: Sachê Perf. 6g | I2: Sachê Sab. Liq. 20ml | J2: Sachê Loção 20ml | K2: Sache sais 20 g | L2: Sabonete B. 150gr | M2: Sabonete Bucha | N2: Sab Girassol | O2: Sab Hibisco | P2: Sab. Ursinho | Q2: Sab Borboleta | R2: Loção Hidra 200ml | S2: Loção Hidra 60ml | T2: Mousse 150ml | U2: Esfol. Corp 180ml | V2: Sachê sais 270 g | W2: Sachê espuma 160 ml | X2: Deo Colonia 120ml | Y2: água Colonia 300ml | Z2: Sab. Liq. 340ml | AA2: Sab. Liq. 60ml | AB2: Refil 340ml | AC2: Sab. Liq. 990ml | AD2: Refil 990ml | AE2: Kit Flowers | AF2: Sab. Liq. Blanc | AG2: Ref. Sab. Liq. Blanc | AH2: Loção Blanc | AI2: Ref. Loção Blanc | AJ2: Deo Colonia 100ml | AK2: Sais Banho Blanc | AL2: Ref S.Banho Blanc | AM2: Esp. Banho Blanc. | AN2: Ref. E. Banho Blanc. | AO2: Difusor Blanc | AP2: Ref. Difusor Blanc | AQ2: Perf. Amb. Blanc | AR2: Perf. Amb. Blanc | AS2: Sachê Perf. 6g | AT2: Sab. Liq. Vintage | AU2: Refil 340ml | AV2: Dif. Amb. Vintage | AW2: Loção vintage | AX2: Deo Colonia 120ml | AY2: Sachê Perf. 6g | AZ2: Sab Líq La vie | BA2: Difusor amb La vie | BB2: Deo Colonia 100ml | BC2: Sab Líq Gold | BD2: Difusor amb Gold | BE2: Deo Colonia 100ml | BF2: Sab Cozinheiro | BG2: Sab. Liq Animale | BH2: Dif.Amb Animale | BI2: Loção Hidr. Animale | BJ2: Deo Colonia 100ml | BK2: Sachê Perf. 6g | BL2: Shampoo 200ml | BM2: Cond. 200ml | BN2: Sache Shampoo 20ml | BO2: Sachê Cond. 20ml | BP2: Esfoliante 60g | BQ2: Mousse 150ml | BR2: Tonico 140ml | BS2: Loção 30ml | BT2: Esfoliante 60g | BU2: Mousse 150ml | BV2: Tonico 140ml | BW2: Loção 30ml | BX2: Esfol. Corp 180ml | BY2: Sab. Liq 200ml | BZ2: Creme 60g | CA2: Gel pos barba 60g | CB2: Shampoo 200ml | CC2: Cond. 200ml | CD2: Sache Shampoo 20ml | CE2: Sachê Cond. 20ml | CF2: Sab. Liq 200ml | CG2: Shampoo 200ml | CH2: Gel pos barba 60g | CI2: Deo Colonia 100ml | CJ2: Total geral
B3: Destino | C3: MG | D3: MG | E3: MG | F3: MG | G3: MG | H3: MG | I3: MG | J3: MG | K3: MG | R3: MG | S3: MG | T3: MG | U3: MG | V3: MG | W3: MG | X3: MG | Y3: MG | Z3: MG | AA3: MG | AB3: MG | AC3: MG | AD3: MG | AE3: MG | AF3: MG | AG3: MG | AH3: MG | AI3: MG | AJ3: MG | AK3: MG | AL3: MG | AM3: MG | AN3: MG | AO3: MG | AP3: MG | AQ3: MG | AR3: MG | AS3: MG | AT3: MG | AU3: MG | AV3: MG | AW3: MG | AX3: MG | AY3: MG | AZ3: MG | BA3: MG | BB3: MG | BC3: MG | BD3: MG | BE3: MG | BF3: MG | BG3: MG | BH3: MG | BI3: MG | BJ3: MG | BK3: MG | BL3: MG | BM3: MG | BN3: MG | BO3: MG | BP3: MG | BQ3: MG | BR3: MG | BS3: MG | BT3: MG | BU3: MG | BV3: MG | BW3: MG | BX3: MG | BY3: MG | BZ3: MG | CA3: MG | CB3: MG | CC3: MG | CD3: MG | CE3: MG | CF3: MG | CG3: MG | CH3: MG | CI3: MG
B4: % ICMS no estado de destino | C4: 0.25 | D4: 0.25 | E4: 0.25 | F4: 0.25 | G4: 0.25 | H4: 0.25 | I4: 0.18 | J4: 0.25 | K4: 0.25 | L4: 0.18 | M4: 0.18 | N4: 0.18 | O4: 0.18 | P4: 0.18 | Q4: 0.18 | R4: 0.25 | S4: 0.25 | T4: 0.25 | U4: 0.18 | V4: 0.25 | W4: 0.25 | X4: 0.25 | Y4: 0.25 | Z4: 0.18 | AA4: 0.18 | AB4: 0.18 | AC4: 0.18 | AD4: 0.18 | AE4: 0.18 | AF4: 0.18 | AG4: 0.18 | AH4: 0.25 | AI4: 0.25 | AJ4: 0.25 | AK4: 0.25 | AL4: 0.25 | AM4: 0.25 | AN4: 0.25 | AO4: 0.25 | AP4: 0.25 | AQ4: 0.25 | AR4: 0.25 | AS4: 0.25 | AT4: 0.18 | AU4: 0.18 | AV4: 0.25 | AW4: 0.25 | AX4: 0.25 | AY4: 0.25 | AZ4: 0.18 | BA4: 0.25 | BB4: 0.25 | BC4: 0.18 | BD4: 0.25 | BE4: 0.25 | BF4: 0.18 | BG4: 0.18 | BH4: 0.25 | BI4: 0.25 | BJ4: 0.25 | BK4: 0.25 | BL4: 0.25 | BM4: 0.25 | BN4: 0.25 | BO4: 0.25 | BP4: 0.25 | BQ4: 0.25 | BR4: 0.25 | BS4: 0.25 | BT4: 0.25 | BU4: 0.25 | BV4: 0.25 | BW4: 0.25 | BX4: 0.18 | BY4: 0.18 | BZ4: 0.25 | CA4: 0.18 | CB4: 0.25 | CC4: 0.25 | CD4: 0.25 | CE4: 0.25 | CF4: 0.18 | CG4: 0.25 | CH4: 0.18 | CI4: 0.25 | CJ4: TOTAL
B5: Valor do Produtos | C5: =Pedido!Y9 -> 0 | D5: =Pedido!Y10 -> 0 | E5: =Pedido!Y11 -> 0 | F5: =Pedido!Y12 -> 0 | G5: =Pedido!Y13 -> 0 | H5: =Pedido!Y14 -> 0 | I5: =Pedido!Y16 -> 0 | J5: =Pedido!Y17 -> 0 | K5: =Pedido!Y18 -> 0 | L5: =Pedido!Y20 -> 0 | M5: =Pedido!Y21 -> 0 | N5: =Pedido!Y22 -> 0 | O5: =Pedido!Y23 -> 0 | P5: =Pedido!Y24 -> 0 | Q5: =Pedido!Y25 -> 0 | R5: =Pedido!Y26 -> 0 | S5: =Pedido!Y27 -> 0 | T5: =Pedido!Y28 -> 0 | U5: =Pedido!Y29 -> 0 | V5: =Pedido!Y30 -> 0 | W5: =Pedido!Y31 -> 0 | X5: =Pedido!Y32 -> 0 | Y5: =Pedido!Y33 -> 0 | Z5: =Pedido!Y35 -> 0 | AA5: =Pedido!Y36 -> 0 | AB5: =Pedido!Y37 -> 0 | AC5: =Pedido!Y38 -> 0 | AD5: =Pedido!Y39 -> 0 | AE5: =SUM(Pedido!Y40:Y41) -> 0 | AF5: =Pedido!Y43 -> 0 | AG5: =Pedido!Y44 -> 0 | AH5: =Pedido!Y45 -> 0 | AI5: =Pedido!Y46 -> 0 | AJ5: =Pedido!Y47 -> 0 | AK5: =Pedido!Y48 -> 0 | AL5: =Pedido!Y49 -> 0 | AM5: =Pedido!Y50 -> 0 | AN5: =Pedido!Y51 -> 0 | AO5: =Pedido!Y52 -> 0 | AP5: =Pedido!Y53 -> 0 | AQ5: =Pedido!Y54 -> 0 | AR5: =Pedido!Y55 -> 0 | AS5: =Pedido!Y56 -> 0 | AT5: =Pedido!Y58 -> 0 | AU5: =Pedido!Y59 -> 0 | AV5: =Pedido!Y60 -> 0 | AW5: =Pedido!Y61 -> 0 | AX5: =Pedido!Y62 -> 0 | AY5: =Pedido!Y63 -> 0 | AZ5: =Pedido!Y65 -> 0 | BA5: =Pedido!Y66 -> 0 | BB5: =Pedido!Y67 -> 0 | BC5: =SUM(Pedido!Y69:Y70) -> 0 | BD5: =SUM(Pedido!Y71:Y72) -> 0 | BE5: =Pedido!Y73 -> 0 | BF5: =SUM(Pedido!Y80:Y82) -> 0 | BG5: =Pedido!Y84 -> 0 | BH5: =Pedido!Y85 -> 0 | BI5: =Pedido!Y86 -> 0 | BJ5: =Pedido!Y87 -> 0 | BK5: =Pedido!Y88 -> 0 | BL5: =Pedido!Y91 -> 0 | BM5: =Pedido!Y92 -> 0 | BN5: =Pedido!Y93 -> 0 | BO5: =Pedido!Y94 -> 0 | BP5: =Pedido!Y97 -> 0 | BQ5: =Pedido!Y98 -> 0 | BR5: =Pedido!Y99 -> 0 | BS5: =Pedido!Y100 -> 0 | BT5: =Pedido!Y103 -> 0 | BU5: =Pedido!Y104 -> 0 | BV5: =Pedido!Y105 -> 0 | BW5: =Pedido!Y106 -> 0 | BX5: =Pedido!Y107 -> 0 | BY5: =Pedido!Y108 -> 0 | BZ5: =Pedido!Y109 -> 0 | CA5: =Pedido!Y110 -> 0 | CB5: =Pedido!Y113 -> 0 | CC5: =Pedido!Y114 -> 0 | CD5: =Pedido!Y115 -> 0 | CE5: =Pedido!Y116 -> 0 | CF5: =Pedido!Y118 -> 0 | CG5: =Pedido!Y119 -> 0 | CH5: =Pedido!Y120 -> 0 | CI5: =Pedido!Y121 -> 0 | CJ5: =SUM(C5:CI5) -> 0
B6: Despesas Acessórias | C6: =$CJ$6/$CJ$5*C5 -> #DIV/0! | D6: =$CJ$6/$CJ$5*D5 -> #DIV/0! | E6: =$CJ$6/$CJ$5*E5 -> #DIV/0! | F6: =$CJ$6/$CJ$5*F5 -> #DIV/0! | G6: =$CJ$6/$CJ$5*G5 -> #DIV/0! | H6: =$CJ$6/$CJ$5*H5 -> #DIV/0! | I6: =$CJ$6/$CJ$5*I5 -> #DIV/0! | J6: =$CJ$6/$CJ$5*J5 -> #DIV/0! | ... CI6: =$CJ$6/$CJ$5*CI5 -> #DIV/0! | CJ6: 0
B7: BC. ICMS-NORMAL | C7: =C6+C5 -> #DIV/0! | D7: =D6+D5 -> #DIV/0! | E7: =E6+E5 -> #DIV/0! | F7: =F6+F5 -> #DIV/0! | G7: =G6+G5 -> #DIV/0! | H7: =H6+H5 -> #DIV/0! | I7: =I6+I5 -> #DIV/0! | J7: =J6+J5 -> #DIV/0! | ... CI7: =CI6+CI5 -> #DIV/0! | CJ7: =SUM(C7:CH7) -> #DIV/0!
B8: ICMS Normal | C8: =C7*0.18 -> #DIV/0! | D8: =D7*0.18 -> #DIV/0! | E8: =E7*0.18 -> #DIV/0! | F8: =F7*0.18 -> #DIV/0! | G8: =G7*0.18 -> #DIV/0! | H8: =H7*0.18 -> #DIV/0! | I8: =I7*0.18 -> #DIV/0! | J8: =J7*0.18 -> #DIV/0! | K8: =K7*0.18 -> #DIV/0! | L8: =L7*0.12 -> #DIV/0! | M8: =M7*0.12 -> #DIV/0! | N8: =N7*0.12 -> #DIV/0! | O8: =O7*0.12 -> #DIV/0! | P8: =P7*0.12 -> #DIV/0! | Q8: =Q7*0.12 -> #DIV/0! | R8: =R7*0.18 -> #DIV/0! | S8: =S7*0.18 -> #DIV/0! | T8: =T7*0.18 -> #DIV/0! | U8: =U7*0.18 -> #DIV/0! | V8: =V7*0.18 -> #DIV/0! | W8: =W7*0.18 -> #DIV/0! | X8: =X7*0.18 -> #DIV/0! | Y8: =Y7*0.18 -> #DIV/0! | ... CI8: =CI7*0.18 -> #DIV/0! | CJ8: =SUM(C8:CH8) -> #DIV/0!
B9: MVA | C9: 0.5215 | D9: 0.5215 | E9: 0.5215 | F9: 0.5215 | G9: 0.5215 | H9: 0.5215 | I9: 0.4561 | J9: 0.596 | K9: 0.5215 | L9: 0.4561 | M9: 0.4561 | N9: 0.4561 | O9: 0.4561 | P9: 0.4561 | Q9: 0.4561 | R9: 0.596 | S9: 0.596 | T9: 0.3224 | U9: 0.4561 | V9: 0.5215 | W9: 0.5215 | X9: 0.5715 | Y9: 0.5715 | Z9: 0.4561 | AA9: 0.4561 | AB9: 0.4561 | AC9: 0.4561 | AD9: 0.4561 | AE9: 0.4561 | AF9: 0.4561 | AG9: 0.4561 | AH9: 0.596 | AI9: 0.596 | AJ9: 0.5715 | AK9: 0.5215 | AL9: 0.5215 | AM9: 0.5215 | AN9: 0.5215 | AO9: 0.5215 | AP9: 0.5215 | AQ9: 0.5215 | AR9: 0.5215 | AS9: 0.5215 | AT9: 0.4561 | AU9: 0.4561 | AV9: 0.5215 | AW9: 0.596 | AX9: 0.5715 | AY9: 0.5215 | AZ9: 0.4561 | BA9: 0.5215 | BB9: 0.5715 | BC9: 0.4561 | BD9: 0.5215 | BE9: 0.5715 | BF9: 0.4561 | BG9: 0.4561 | BH9: 0.5215 | BI9: 0.596 | BJ9: 0.5715 | BK9: 0.5215 | BL9: 0.3793 | BM9: 0.5393 | BN9: 0.3793 | BO9: 0.5393 | BP9: 0.3224 | BQ9: 0.3224 | BR9: 0.3224 | BS9: 0.3224 | BT9: 0.3224 | BU9: 0.3224 | BV9: 0.3224 | BW9: 0.3224 | BX9: 0.4561 | BY9: 0.4561 | BZ9: 0.596 | CA9: 0.6718 | CB9: 0.3793 | CC9: 0.5393 | CD9: 0.3793 | CE9: 0.5393 | CF9: 0.4561 | CG9: 0.3793 | CH9: 0.6718 | CI9: 0.5715 | CJ9: <<>>
B10: BC. ICMS-ST | C10: =C7*(1+C9) -> #DIV/0! | D10: =D7*(1+D9) -> #DIV/0! | E10: =E7*(1+E9) -> #DIV/0! | F10: =F7*(1+F9) -> #DIV/0! | G10: =G7*(1+G9) -> #DIV/0! | H10: =H7*(1+H9) -> #DIV/0! | I10: =I7*(1+I9) -> #DIV/0! | J10: =J7*(1+J9) -> #DIV/0! | ... CI10: =CI7*(1+CI9) -> #DIV/0! | CJ10: =SUM(C10:CH10) -> #DIV/0!
B11: ICMS-ST | C11: =(C10*C4)-C8 -> #DIV/0! | D11: =(D10*D4)-D8 -> #DIV/0! | E11: =(E10*E4)-E8 -> #DIV/0! | F11: =(F10*F4)-F8 -> #DIV/0! | G11: =(G10*G4)-G8 -> #DIV/0! | H11: =(H10*H4)-H8 -> #DIV/0! | I11: =(I10*I4)-I8 -> #DIV/0! | J11: =(J10*J4)-J8 -> #DIV/0! | ... CI11: =(CI10*CI4)-CI8 -> #DIV/0! | CJ11: =SUM(C11:CH11) -> #DIV/0!
B12: Valor Total da NF >>>>>>>>>>>>>>>>>>>>>>>>>>>>>>>>>>>>>>>>>>>>>>>>>>>>>>>>>>>>>>>>>>>>>>>>>>> | CJ12: =SUM(CJ5+CJ11) -> #DIV/0!
B14: PREENCHIMENTO DA NOTA FISCAL:
B15: Valor Total dos Produtos | F15: =CJ5 -> 0
B16: Base de Cálculo do ICMS | F16: <<>>
B17: Valor do ICMS | F17: <<>>
B18: Base da Cálculo do ICMS Substituição | F18: =CJ10 -> #DIV/0!
B19: Valor do ICMS Substituição | F19: =CJ11 -> #DIV/0!
B20: Outras Despesas Acessórias | F20: =CJ6 -> 0
B21: Valor Total da Nota | F21: =SUM(F15,F19) -> #DIV/0!
B23: NO CORPO DA NF OU EM INFORMAÇÕES COMPLEMENTARES
B24: Vr. operação sujeita a ST | F24: =CJ5 -> 0
B25: Vr. ICMS operação própria p/ cálculo da ST | F25: =CJ11 -> #DIV/0!

Sheet ICMS ST -DF
A1: ... | B1: Alterar apenas as células em AZUL | BT1: Linha Mel / Propolis | CF1: Linha Black Tie
C2: Perf. Amb 240ml | D2: Perf. Amb 60ml | E2: Difusor amb.300ml | F2: Difusor amb.60ml | G2: Água Perf. 500ml | H2: Sachê Perf. 6g | I2: Sachê Sab. Liq. 20ml | J2: Sachê Loção 20ml | K2: Sache sais 20 g | L2: Sabonete B. 150gr | M2: Sabonete Bucha | N2: Sab Girassol | O2: Sab Hibisco | P2: Sab. Ursinho | Q2: Sab Borboleta | R2: Loção Hidra 200ml | S2: Loção Hidra 60ml | T2: Mousse 150ml | U2: Esfol. Corp 180ml | V2: Sachê sais 270 g | W2: Sachê espuma 160 ml | X2: Deo Colonia 120ml | Y2: água Colonia 300ml | Z2: Sab. Liq. 340ml | AA2: Sab. Liq. 60ml | AB2: Refil 340ml | AC2: Sab. Liq. 990ml | AD2: Refil 990ml | AE2: Kit Flowers | AF2: Sab. Liq. Blanc | AG2: Ref. Sab. Liq. Blanc | AH2: Loção Blanc | AI2: Ref. Loção Blanc | AJ2: Deo Colonia 120ml | AK2: Sais Banho Blanc | AL2: Ref S.Banho Blanc | AM2: Esp. Banho Blanc. | AN2: Ref. E. Banho Blanc. | AO2: Difusor Blanc | AP2: Ref. Difusor Blanc | AQ2: Perf. Amb. Blanc | AR2: Perf. Amb. Blanc | AS2: Sachê Perf. 6g | AT2: Sab. Liq. Vintage | AU2: Refil 340ml | AV2: Dif. Amb. Vintage | AW2: Loção vintage | AX2: Deo Colonia 120ml | AY2: Sachê Perf. 6g | AZ2: Sab Líq La vie | BA2: Difusor amb La vie | BB2: Deo Colonia 100ml | BC2: Sab Líq Gold | BD2: Difusor amb Gold | BE2: Deo Colonia 100ml | BF2: Sab Cozinheiro | BG2: Sab. Liq Animale | BH2: Dif.Amb Animale | BI2: Loção Hidr. Animale | BJ2: Deo Colonia 120ml | BK2: Sachê Perf. 6g | BL2: Shampoo 200ml | BM2: Cond. 200ml | BN2: Sache Shampoo 20ml | BO2: Sachê Cond. 20ml | BP2: Esfoliante 60g | BQ2: Mousse 150ml | BR2: Tonico 140ml | BS2: Loção 30ml | BT2: Esfoliante 60g | BU2: Mousse 150ml | BV2: Tonico 140ml | BW2: Loção 30ml | BX2: Esfol. Corp 180ml | BY2: Sab. Liq 200ml | BZ2: Creme 60g | CA2: Gel pos barba 60g | CB2: Shampoo 200ml | CC2: Cond. 200ml | CD2: Sache Shampoo 20ml | CE2: Sachê Cond. 20ml | CF2: Sab. Liq 200ml | CG2: Shampoo 200ml | CH2: Gel pos barba 60g | CI2: Deo Colonia 120ml | CJ2: Total geral
B3: Destino | C3: DF | D3: DF | E3: DF | F3: DF | G3: DF | H3: DF | I3: DF | J3: DF | K3: DF | R3: DF | S3: DF | T3: DF | U3: DF | V3: DF | W3: DF | X3: DF | Y3: DF | Z3: DF | AA3: DF | AB3: DF | AC3: DF | AD3: DF | AE3: DF | AF3: DF | AG3: DF | AH3: DF | AI3: DF | AJ3: DF | AK3: DF | AL3: DF | AM3: DF | AN3: DF | AO3: DF | AP3: DF | AQ3: DF | AR3: DF | AS3: DF | AT3: DF | AU3: DF | AV3: DF | AW3: DF | AX3: DF | AY3: DF | AZ3: DF | BA3: DF | BB3: DF | BC3: DF | BD3: DF | BE3: DF | BF3: DF | BG3: DF | BH3: DF | BI3: DF | BJ3: DF | BK3: DF | BL3: DF | BM3: DF | BN3: DF | BO3: DF | BP3: DF | BQ3: DF | BR3: DF | BS3: DF | BT3: DF | BU3: DF | BV3: DF | BW3: DF | BX3: DF | BY3: DF | BZ3: DF | CA3: DF | CB3: DF | CC3: DF | CD3: DF | CE3: DF | CF3: DF | CG3: DF | CH3: DF | CI3: DF
B4: % ICMS no estado de destino | C4: 0.17 | D4: 0.17 | E4: 0.17 | F4: 0.17 | G4: 0.17 | H4: 0.17 | I4: 0.17 | J4: 0.17 | K4: 0.17 | L4: 0.17 | M4: 0.17 | N4: 0.17 | O4: 0.17 | P4: 0.17 | Q4: 0.17 | R4: 0.17 | S4: 0.17 | T4: 0.17 | U4: 0.17 | V4: 0.17 | W4: 0.17 | X4: 0.17 | Y4: 0.17 | Z4: 0.17 | AA4: 0.17 | AB4: 0.17 | AC4: 0.17 | AD4: 0.17 | AE4: 0.17 | AF4: 0.17 | AG4: 0.17 | AH4: 0.17 | AI4: 0.17 | AJ4: 0.17 | AK4: 0.17 | AL4: 0.17 | AM4: 0.17 | AN4: 0.17 | AO4: 0.17 | AP4: 0.17 | AQ4: 0.17 | AR4: 0.17 | AS4: 0.17 | AT4: 0.17 | AU4: 0.17 | AV4: 0.17 | AW4: 0.17 | AX4: 0.17 | AY4: 0.17 | AZ4: 0.17 | BA4: 0.17 | BB4: 0.17 | BC4: 0.17 | BD4: 0.17 | BE4: 0.17 | BF4: 0.17 | BG4: 0.17 | BH4: 0.17 | BI4: 0.17 | BJ4: 0.17 | BK4: 0.17 | BL4: 0.17 | BM4: 0.17 | BN4: 0.17 | BO4: 0.17 | BP4: 0.17 | BQ4: 0.17 | BR4: 0.17 | BS4: 0.17 | BT4: 0.17 | BU4: 0.17 | BV4: 0.17 | BW4: 0.17 | BX4: 0.17 | BY4: 0.17 | BZ4: 0.17 | CA4: 0.17 | CB4: 0.17 | CC4: 0.17 | CD4: 0.17 | CE4: 0.17 | CF4: 0.17 | CG4: 0.17 | CH4: 0.17 | CI4: 0.17 | CJ4: TOTAL
B5: Valor do Produtos | C5: =Pedido!Y9 -> 0 | D5: =Pedido!Y10 -> 0 | E5: =Pedido!Y11 -> 0 | F5: =Pedido!Y12 -> 0 | G5: =Pedido!Y13 -> 0 | H5: =Pedido!Y14 -> 0 | I5: =Pedido!Y16 -> 0 | J5: =Pedido!Y17 -> 0 | K5: =Pedido!Y18 -> 0 | L5: =Pedido!Y20 -> 0 | M5: =Pedido!Y21 -> 0 | N5: =Pedido!Y22 -> 0 | O5: =Pedido!Y23 -> 0 | P5: =Pedido!Y24 -> 0 | Q5: =Pedido!Y25 -> 0 | R5: =Pedido!Y26 -> 0 | S5: =Pedido!Y27 -> 0 | T5: =Pedido!Y28 -> 0 | U5: =Pedido!Y29 -> 0 | V5: =Pedido!Y30 -> 0 | W5: =Pedido!Y31 -> 0 | X5: =Pedido!Y32 -> 0 | Y5: =Pedido!Y33 -> 0 | Z5: =Pedido!Y35 -> 0 | AA5: =Pedido!Y36 -> 0 | AB5: =Pedido!Y37 -> 0 | AC5: =Pedido!Y38 -> 0 | AD5: =Pedido!Y39 -> 0 | AE5: =SUM(Pedido!Y40:Y41) -> 0 | AF5: =Pedido!Y43 -> 0 | AG5: =Pedido!Y44 -> 0 | AH5: =Pedido!Y45 -> 0 | AI5: =Pedido!Y46 -> 0 | AJ5: =Pedido!Y47 -> 0 | AK5: =Pedido!Y48 -> 0 | AL5: =Pedido!Y49 -> 0 | AM5: =Pedido!Y50 -> 0 | AN5: =Pedido!Y51 -> 0 | AO5: =Pedido!Y52 -> 0 | AP5: =Pedido!Y53 -> 0 | AQ5: =Pedido!Y54 -> 0 | AR5: =Pedido!Y55 -> 0 | AS5: =Pedido!Y56 -> 0 | AT5: =Pedido!Y58 -> 0 | AU5: =Pedido!Y59 -> 0 | AV5: =Pedido!Y60 -> 0 | AW5: =Pedido!Y61 -> 0 | AX5: =Pedido!Y62 -> 0 | AY5: =Pedido!Y63 -> 0 | AZ5: =Pedido!Y65 -> 0 | BA5: =Pedido!Y66 -> 0 | BB5: =Pedido!Y67 -> 0 | BC5: =SUM(Pedido!Y69:Y70) -> 0 | BD5: =SUM(Pedido!Y71:Y72) -> 0 | BE5: =Pedido!Y73 -> 0 | BF5: =SUM(Pedido!Y80:Y82) -> 0 | BG5: =Pedido!Y84 -> 0 | BH5: =Pedido!Y85 -> 0 | BI5: =Pedido!Y86 -> 0 | BJ5: =Pedido!Y87 -> 0 | BK5: =Pedido!Y88 -> 0 | BL5: =Pedido!Y91 -> 0 | BM5: =Pedido!Y92 -> 0 | BN5: =Pedido!Y93 -> 0 | BO5: =Pedido!Y94 -> 0 | BP5: =Pedido!Y97 -> 0 | BQ5: =Pedido!Y98 -> 0 | BR5: =Pedido!Y99 -> 0 | BS5: =Pedido!Y100 -> 0 | BT5: =Pedido!Y103 -> 0 | BU5: =Pedido!Y104 -> 0 | BV5: =Pedido!Y105 -> 0 | BW5: =Pedido!Y106 -> 0 | BX5: =Pedido!Y107 -> 0 | BY5: =Pedido!Y108 -> 0 | BZ5: =Pedido!Y109 -> 0 | CA5: =Pedido!Y110 -> 0 | CB5: =Pedido!Y113 -> 0 | CC5: =Pedido!Y114 -> 0 | CD5: =Pedido!Y115 -> 0 | CE5: =Pedido!Y116 -> 0 | CF5: =Pedido!Y118 -> 0 | CG5: =Pedido!Y119 -> 0 | CH5: =Pedido!Y120 -> 0 | CI5: =Pedido!Y121 -> 0 | CJ5: =SUM(C5:CI5) -> 0
B6: Despesas Acessórias | C6: =$CJ$6/$CJ$5*C5 -> #DIV/0! | D6: =$CJ$6/$CJ$5*D5 -> #DIV/0! | E6: =$CJ$6/$CJ$5*E5 -> #DIV/0! | F6: =$CJ$6/$CJ$5*F5 -> #DIV/0! | G6: =$CJ$6/$CJ$5*G5 -> #DIV/0! | H6: =$CJ$6/$CJ$5*H5 -> #DIV/0! | I6: =$CJ$6/$CJ$5*I5 -> #DIV/0! | J6: =$CJ$6/$CJ$5*J5 -> #DIV/0! | ... CI6: =$CJ$6/$CJ$5*CI5 -> #DIV/0! | CJ6: 0
B7: BC. ICMS-NORMAL | C7: =C6+C5 -> #DIV/0! | D7: =D6+D5 -> #DIV/0! | E7: =E6+E5 -> #DIV/0! | F7: =F6+F5 -> #DIV/0! | G7: =G6+G5 -> #DIV/0! | H7: =H6+H5 -> #DIV/0! | I7: =I6+I5 -> #DIV/0! | J7: =J6+J5 -> #DIV/0! | ... CI7: =CI6+CI5 -> #DIV/0! | CJ7: =SUM(C7:CH7) -> #DIV/0!
B8: ICMS Normal | C8: =C7*0.07 -> #DIV/0! | D8: =D7*0.07 -> #DIV/0! | E8: =E7*0.07 -> #DIV/0! | F8: =F7*0.07 -> #DIV/0! | G8: =G7*0.07 -> #DIV/0! | H8: =H7*0.07 -> #DIV/0! | I8: =I7*0.07 -> #DIV/0! | J8: =J7*0.07 -> #DIV/0! | K8: =K7*0.07 -> #DIV/0! | L8: =L7*0.12 -> #DIV/0! | M8: =M7*0.12 -> #DIV/0! | N8: =N7*0.12 -> #DIV/0! | O8: =O7*0.12 -> #DIV/0! | P8: =P7*0.12 -> #DIV/0! | Q8: =Q7*0.12 -> #DIV/0! | R8: =R7*0.07 -> #DIV/0! | S8: =S7*0.07 -> #DIV/0! | T8: =T7*0.07 -> #DIV/0! | U8: =U7*0.07 -> #DIV/0! | V8: =V7*0.07 -> #DIV/0! | W8: =W7*0.07 -> #DIV/0! | X8: =X7*0.07 -> #DIV/0! | Y8: =Y7*0.07 -> #DIV/0! | ... CI8: =CI7*0.07 -> #DIV/0! | CJ8: =SUM(C8:CH8) -> #DIV/0!
B9: MVA | C9: 0.4351 | D9: 0.4351 | E9: 0.4351 | F9: 0.4351 | G9: 0.4351 | H9: 0.4351 | I9: 0.3734 | J9: 0.7411 | K9: 0.4351 | L9: 0.3734 | M9: 0.3734 | N9: 0.3734 | O9: 0.3734 | P9: 0.3734 | Q9: 0.3734 | R9: 0.7411 | S9: 0.7411 | T9: 0.2473 | U9: 0.3734 | V9: 0.4351 | W9: 0.4351 | X9: 0.4822 | Y9: 0.4822 | Z9: 0.3734 | AA9: 0.3734 | AB9: 0.3734 | AC9: 0.3734 | AD9: 0.3734 | AE9: 0.3734 | AF9: 0.3734 | AG9: 0.3734 | AH9: 0.7411 | AI9: 0.7411 | AJ9: 0.4822 | AK9: 0.4351 | AL9: 0.4351 | AM9: 0.4351 | AN9: 0.4351 | AO9: 0.4351 | AP9: 0.4351 | AQ9: 0.4351 | AR9: 0.4351 | AS9: 0.4351 | AT9: 0.3734 | AU9: 0.3734 | AV9: 0.4351 | AW9: 0.7411 | AX9: 0.4822 | AY9: 0.4351 | AZ9: 0.3734 | BA9: 0.4351 | BB9: 0.4822 | BC9: 0.3734 | BD9: 0.4351 | BE9: 0.4822 | BF9: 0.3734 | BG9: 0.3734 | BH9: 0.4351 | BI9: 0.7411 | BJ9: 0.4822 | BK9: 0.4351 | BL9: 0.3009 | BM9: 0.4518 | BN9: 0.3009 | BO9: 0.4518 | BP9: 0.2473 | BQ9: 0.2473 | BR9: 0.2473 | BS9: 0.2473 | BT9: 0.2473 | BU9: 0.2473 | BV9: 0.2473 | BW9: 0.2473 | BX9: 0.3734 | BY9: 0.3734 | BZ9: 0.7411 | CA9: 0.5768 | CB9: 0.3009 | CC9: 0.4518 | CD9: 0.3009 | CE9: 0.4518 | CF9: 0.3734 | CG9: 0.3009 | CH9: 0.5768 | CI9: 0.4822 | CJ9: <<>>
B10: BC. ICMS-ST | C10: =C7*(1+C9) -> #DIV/0! | D10: =D7*(1+D9) -> #DIV/0! | E10: =E7*(1+E9) -> #DIV/0! | F10: =F7*(1+F9) -> #DIV/0! | G10: =G7*(1+G9) -> #DIV/0! | H10: =H7*(1+H9) -> #DIV/0! | I10: =I7*(1+I9) -> #DIV/0! | J10: =J7*(1+J9) -> #DIV/0! | ... CI10: =CI7*(1+CI9) -> #DIV/0! | CJ10: =SUM(C10:CH10) -> #DIV/0!
B11: ICMS-ST | C11: =(C10*C4)-C8 -> #DIV/0! | D11: =(D10*D4)-D8 -> #DIV/0! | E11: =(E10*E4)-E8 -> #DIV/0! | F11: =(F10*F4)-F8 -> #DIV/0! | G11: =(G10*G4)-G8 -> #DIV/0! | H11: =(H10*H4)-H8 -> #DIV/0! | I11: =(I10*I4)-I8 -> #DIV/0! | J11: =(J10*J4)-J8 -> #DIV/0! | ... CI11: =(CI10*CI4)-CI8 -> #DIV/0! | CJ11: =SUM(C11:CH11) -> #DIV/0!
B12: Valor Total da NF >>>>>>>>>>>>>>>>>>>>>>>>>>>>>>>>>>>>>>>>>>>>>>>>>>>>>>>>>>>>>>>>>>>>>>>>>>> | CJ12: =SUM(CJ5+CJ11) -> #DIV/0!
B14: PREENCHIMENTO DA NOTA FISCAL:
B15: Valor Total dos Produtos | F15: =CJ5 -> 0
B16: Base de Cálculo do ICMS | F16: <<>>
B17: Valor do ICMS | F17: <<>>
B18: Base da Cálculo do ICMS Substituição | F18: =CJ10 -> #DIV/0!
B19: Valor do ICMS Substituição | F19: =CJ11 -> #DIV/0!
B20: Outras Despesas Acessórias | F20: =CJ6 -> 0
B21: Valor Total da Nota | F21: =SUM(F15,F19) -> #DIV/0!
B23: NO CORPO DA NF OU EM INFORMAÇÕES COMPLEMENTARES
B24: Vr. operação sujeita a ST | F24: =CJ5 -> 0
B25: Vr. ICMS operação própria p/ cálculo da ST | F25: =CJ11 -> #DIV/0!

Sheet ICMS-ST RJ
A1: ... | B1: Alterar apenas as células em AZUL | BP1: Linha Mel / Propolis | CB1: Linha Black Tie
C2: Perf. Amb 240ml | D2: Perf. Amb 60ml | E2: Difusor amb.300ml | F2: Difusor amb.60ml | G2: Água Perf. 500ml | H2: Sachê Perf. 6g | I2: Sachê Sab. Liq. 20ml | J2: Sachê Loção 20ml | K2: Sache sais 20 g | L2: Sabonete B. 150gr | M2: Sabonete Bucha | N2: Sab Girassol | O2: Sab Hibisco | P2: Sab. Ursinho | Q2: Sab Borboleta | R2: Loção Hidra 200ml | S2: Loção Hidra 60ml | T2: Mousse 150ml | U2: Esfol. Corp 180ml | V2: Sachê sais 270 g | W2: Sachê espuma 160 ml | X2: Deo Colonia 120ml | Y2: água Colonia 300ml | Z2: Sab. Liq. 340ml | AA2: Sab. Liq. 60ml | AB2: Refil 340ml | AC2: Sab. Liq. 990ml | AD2: Refil 990ml | AE2: Kit Flowers | AF2: Sab. Liq. Blanc | AG2: Ref. Sab. Liq. Blanc | AH2: Loção Blanc | AI2: Ref. Loção Blanc | AJ2: Deo Colonia 120ml | AK2: Sais Banho Blanc | AL2: Ref S.Banho Blanc | AM2: Esp. Banho Blanc. | AN2: Ref. E. Banho Blanc. | AO2: Difusor Blanc | AP2: Ref. Difusor Blanc | AQ2: Perf. Amb. Blanc | AR2: Perf. Amb. Blanc | AS2: Sachê Perf. 6g | AT2: Sab. Liq. Vintage | AU2: Refil 340ml | AV2: Dif. Amb. Vintage | AW2: Loção vintage | AX2: Deo Colonia 120ml | AY2: Sachê Perf. 6g | AZ2: Sab Líq La vie | BA2: Difusor amb La vie | BB2: Deo Colonia 120ml | BC2: Sab Líq Gold | BD2: Difusor amb Gold | BE2: Deo Colonia 120ml | BF2: Sab Cozinheiro | BG2: Sab. Liq Animale | BH2: Dif.Amb Animale | BI2: Loção Hidr. Animale | BJ2: Deo Colonia 120ml | BK2: Sachê Perf. 6g | BL2: Shampoo 200ml | BM2: Cond. 200ml | BN2: Sache Shampoo 20ml | BO2: Sachê Cond. 20ml | BP2: Esfoliante 60g | BQ2: Mousse 150ml | BR2: Tonico 140ml | BS2: Loção 30ml | BT2: Esfoliante 60g | BU2: Mousse 150ml | BV2: Tonico 140ml | BW2: Loção 30ml | BX2: Esfol. Corp 180ml | BY2: Sab. Liq 200ml | BZ2: Creme 60g | CA2: Gel pos barba 60g | CB2: Shampoo 200ml | CC2: Cond. 200ml | CD2: Sache Shampoo 20ml | CE2: Sachê Cond. 20ml | CF2: Sab. Liq 200ml | CG2: Shampoo 200ml | CH2: Gel pos barba 60g | CI2: Deo Colonia 120ml | CJ2: Total geral
B3: Destino | C3: RJ | D3: RJ | E3: RJ | F3: RJ | G3: RJ | H3: RJ | I3: RJ | J3: RJ | K3: RJ | R3: RJ | S3: RJ | T3: RJ | U3: RJ | V3: RJ | W3: RJ | X3: RJ | Y3: RJ | Z3: RJ | AA3: RJ | AB3: RJ | AC3: RJ | AD3: RJ | AE3: RJ | AF3: RJ | AG3: RJ | AH3: RJ | AI3: RJ | AJ3: RJ | AK3: RJ | AL3: RJ | AM3: RJ | AN3: RJ | AO3: RJ | AP3: RJ | AQ3: RJ | AR3: RJ | AS3: RJ | AT3: RJ | AU3: RJ | AV3: RJ | AW3: RJ | AX3: RJ | AY3: RJ | AZ3: RJ | BA3: RJ | BB3: RJ | BC3: RJ | BD3: RJ | BE3: RJ | BF3: RJ | BG3: RJ | BH3: RJ | BI3: RJ | BJ3: RJ | BK3: RJ | BL3: RJ | BM3: RJ | BN3: RJ | BO3: RJ | BP3: RJ | BQ3: RJ | BR3: RJ | BS3: RJ | BT3: RJ | BU3: RJ | BV3: RJ | BW3: RJ | BX3: RJ | BY3: RJ | BZ3: RJ | CA3: RJ | CB3: RJ | CC3: RJ | CD3: RJ | CE3: RJ | CF3: RJ | CG3: RJ | CH3: RJ | CI3: RJ
B4: % ICMS no estado de destino | C4: 0.19 | D4: 0.19 | E4: 0.19 | F4: 0.19 | G4: 0.19 | H4: 0.19 | I4: 0 | J4: 0.37 | K4: 0.19 | L4: 0 | M4: 0 | N4: 0 | O4: 0 | P4: 0 | Q4: 0 | R4: 0.37 | S4: 0.37 | T4: 0.19 | U4: 0 | V4: 0.19 | W4: 0.19 | X4: 0.19 | Y4: 0.19 | Z4: 0 | AA4: 0 | AB4: 0 | AC4: 0 | AD4: 0 | AE4: 0 | AF4: 0 | AG4: 0 | AH4: 0.37 | AI4: 0.37 | AJ4: 0.19 | AK4: 0.19 | AL4: 0.19 | AM4: 0.19 | AN4: 0.19 | AO4: 0.19 | AP4: 0.19 | AQ4: 0.19 | AR4: 0.19 | AS4: 0.19 | AT4: 0 | AU4: 0 | AV4: 0.19 | AW4: 0.37 | AX4: 0.19 | AY4: 0.19 | AZ4: 0 | BA4: 0.19 | BB4: 0.19 | BC4: 0 | BD4: 0.19 | BE4: 0.19 | BF4: 0 | BG4: 0 | BH4: 0.19 | BI4: 0.37 | BJ4: 0.19 | BK4: 0.19 | BL4: 0.19 | BM4: 0.37 | BN4: 0.19 | BO4: 0.37 | BP4: 0.19 | BQ4: 0.19 | BR4: 0.19 | BS4: 0.19 | BT4: 0.19 | BU4: 0.19 | BV4: 0.19 | BW4: 0.19 | BX4: 0 | BY4: 0 | BZ4: 0.37 | CA4: 0.19 | CB4: 0.19 | CC4: 0.37 | CD4: 0.19 | CE4: 0.37 | CF4: 0 | CG4: 0.19 | CH4: 0.19 | CI4: 0.19 | CJ4: TOTAL
B5: Valor do Produtos | C5: =Pedido!Y9 -> 0 | D5: =Pedido!Y10 -> 0 | E5: =Pedido!Y11 -> 0 | F5: =Pedido!Y12 -> 0 | G5: =Pedido!Y13 -> 0 | H5: =Pedido!Y14 -> 0 | J5: =Pedido!Y17 -> 0 | K5: =Pedido!Y18 -> 0 | L5: =Pedido!Y20 -> 0 | M5: =Pedido!Y21 -> 0 | N5: =Pedido!Y22 -> 0 | O5: =Pedido!Y23 -> 0 | P5: =Pedido!Y24 -> 0 | Q5: =Pedido!Y25 -> 0 | R5: =Pedido!Y26 -> 0 | S5: =Pedido!Y27 -> 0 | T5: =Pedido!Y28 -> 0 | U5: =Pedido!Y29 -> 0 | V5: =Pedido!Y30 -> 0 | W5: =Pedido!Y31 -> 0 | X5: =Pedido!Y32 -> 0 | Y5: =Pedido!Y33 -> 0 | AH5: =Pedido!Y45 -> 0 | AI5: =Pedido!Y46 -> 0 | AJ5: =Pedido!Y47 -> 0 | AK5: =Pedido!Y48 -> 0 | AL5: =Pedido!Y49 -> 0 | AM5: =Pedido!Y50 -> 0 | AN5: =Pedido!Y51 -> 0 | AO5: =Pedido!Y52 -> 0 | AP5: =Pedido!Y53 -> 0 | AQ5: =Pedido!Y54 -> 0 | AR5: =Pedido!Y55 -> 0 | AS5: =Pedido!Y56 -> 0 | AV5: =Pedido!Y60 -> 0 | AW5: =Pedido!Y61 -> 0 | AX5: =Pedido!Y62 -> 0 | AY5: =Pedido!Y63 -> 0 | BA5: =Pedido!Y66 -> 0 | BB5: =Pedido!Y67 -> 0 | BD5: =SUM(Pedido!Y71:Y72) -> 0 | BE5: =Pedido!Y73 -> 0 | BH5: =Pedido!Y85 -> 0 | BI5: =Pedido!Y86 -> 0 | BJ5: =Pedido!Y87 -> 0 | BK5: =Pedido!Y88 -> 0 | BL5: =Pedido!Y91 -> 0 | BM5: =Pedido!Y92 -> 0 | BN5: =Pedido!Y93 -> 0 | BO5: =Pedido!Y94 -> 0 | BP5: =Pedido!Y97 -> 0 | BQ5: =Pedido!Y98 -> 0 | BR5: =Pedido!Y99 -> 0 | BS5: =Pedido!Y100 -> 0 | BT5: =Pedido!Y103 -> 0 | BU5: =Pedido!Y104 -> 0 | BV5: =Pedido!Y105 -> 0 | BW5: =Pedido!Y106 -> 0 | BZ5: =Pedido!Y109 -> 0 | CA5: =Pedido!Y110 -> 0 | CB5: =Pedido!Y113 -> 0 | CC5: =Pedido!Y114 -> 0 | CD5: =Pedido!Y115 -> 0 | CE5: =Pedido!Y116 -> 0 | CF5: 0 | CG5: =Pedido!Y119 -> 0 | CH5: =Pedido!Y120 -> 0 | CI5: =Pedido!Y121 -> 0 | CJ5: =SUM(C5:CI5) -> 0
B6: Despesas Acessórias | C6: =$CJ$6/$CJ$5*C5 -> #DIV/0! | D6: =$CJ$6/$CJ$5*D5 -> #DIV/0! | E6: =$CJ$6/$CJ$5*E5 -> #DIV/0! | F6: =$CJ$6/$CJ$5*F5 -> #DIV/0! | G6: =$CJ$6/$CJ$5*G5 -> #DIV/0! | H6: =$CJ$6/$CJ$5*H5 -> #DIV/0! | I6: =$CJ$6/$CJ$5*I5 -> #DIV/0! | J6: =$CJ$6/$CJ$5*J5 -> #DIV/0! | ... CI6: =$CJ$6/$CJ$5*CI5 -> #DIV/0! | CJ6: 0
B7: BC. ICMS-NORMAL | C7: =C6+C5 -> #DIV/0! | D7: =D6+D5 -> #DIV/0! | E7: =E6+E5 -> #DIV/0! | F7: =F6+F5 -> #DIV/0! | G7: =G6+G5 -> #DIV/0! | H7: =H6+H5 -> #DIV/0! | I7: =I6+I5 -> #DIV/0! | J7: =J6+J5 -> #DIV/0! | ... CI7: =CI6+CI5 -> #DIV/0! | CJ7: =SUM(C7:CH7) -> #DIV/0!
B8: ICMS Normal | C8: =C7*0.12 -> #DIV/0! | D8: =D7*0.12 -> #DIV/0! | E8: =E7*0.12 -> #DIV/0! | F8: =F7*0.12 -> #DIV/0! | G8: =G7*0.12 -> #DIV/0! | H8: =H7*0.12 -> #DIV/0! | I8: =I7*0.12 -> #DIV/0! | J8: =J7*0.12 -> #DIV/0! | ... CI8: =CI7*0.12 -> #DIV/0! | CJ8: =SUM(C8:CH8) -> #DIV/0!
B9: MVA | C9: 0.5042 | D9: 0.5042 | E9: 0.5042 | F9: 0.5042 | G9: 0.5042 | H9: 0.5042 | I9: 0 | J9: 0.5779 | K9: 0.5042 | L9: 0.4561 | M9: 0.4561 | N9: 0.4561 | O9: 0.4561 | P9: 0.4561 | Q9: 0.4561 | R9: 0.5779 | S9: 0.5779 | T9: 0.3074 | U9: 0 | V9: 0.5042 | W9: 0.5042 | X9: 0.5536 | Y9: 0.5536 | Z9: 0 | AA9: 0 | AB9: 0 | AC9: 0 | AD9: 0 | AE9: 0 | AF9: 0 | AG9: 0 | AH9: 0.5779 | AI9: 0.5779 | AJ9: 0.5536 | AK9: 0.5042 | AL9: 0.5042 | AM9: 0.5042 | AN9: 0.5042 | AO9: 0.5042 | AP9: 0.5042 | AQ9: 0.5042 | AR9: 0.5042 | AS9: 0.5042 | AT9: 0 | AU9: 0 | AV9: 0.5042 | AW9: 0.5779 | AX9: 0.5536 | AY9: 0.5042 | AZ9: 0 | BA9: 0.5042 | BB9: 0.5536 | BC9: 0 | BD9: 0.5042 | BE9: 0.5536 | BF9: 0 | BG9: 0 | BH9: 0.5042 | BI9: 0.5779 | BJ9: 0.5536 | BK9: 0.5042 | BL9: 0.3636 | BM9: 0.5218 | BN9: 0.5042 | BO9: 0.3636 | BP9: 0.3074 | BQ9: 0.3074 | BR9: 0.3074 | BS9: 0.3074 | BT9: 0.3074 | BU9: 0.3074 | BV9: 0.3074 | BW9: 0.3074 | BX9: 0 | BY9: 0 | BZ9: 0.5779 | CA9: 0.6528 | CB9: 0.3636 | CC9: 0.5218 | CD9: 0.3636 | CE9: 0.5218 | CF9: 0 | CG9: 0.3636 | CH9: 0.6528 | CI9: 0.5536 | CJ9: <<>>
B10: BC. ICMS-ST | C10: =C7*(1+C9) -> #DIV/0! | D10: =D7*(1+D9) -> #DIV/0! | E10: =E7*(1+E9) -> #DIV/0! | F10: =F7*(1+F9) -> #DIV/0! | G10: =G7*(1+G9) -> #DIV/0! | H10: =H7*(1+H9) -> #DIV/0! | I10: =I7*(1+I9) -> #DIV/0! | J10: =J7*(1+J9) -> #DIV/0! | ... CI10: =CI7*(1+CI9) -> #DIV/0! | CJ10: =SUM(C10:CH10) -> #DIV/0!
B11: ICMS-ST | C11: =(C10*C4)-C8 -> #DIV/0! | D11: =(D10*D4)-D8 -> #DIV/0! | E11: =(E10*E4)-E8 -> #DIV/0! | F11: =(F10*F4)-F8 -> #DIV/0! | G11: =(G10*G4)-G8 -> #DIV/0! | H11: =(H10*H4)-H8 -> #DIV/0! | I11: =(I10*I4)-I8 -> #DIV/0! | J11: =(J10*J4)-J8 -> #DIV/0! | ... CI11: =(CI10*CI4)-CI8 -> #DIV/0! | CJ11: =SUM(C11:CH11) -> #DIV/0!
B12: Valor Total da NF >>>>>>>>>>>>>>>>>>>>>>>>>>>>>>>>>>>>>>>>>>>>>>>>>>>>>>>>>>>>>>>>>>>>>>>>>>> | CE12: =SUM(CJ5+CJ11) -> #DIV/0!
B14: PREENCHIMENTO DA NOTA FISCAL:
B15: Valor Total dos Produtos | F15: =CJ5 -> 0
B16: Base de Cálculo do ICMS | F16: <<>>
B17: Valor do ICMS | F17: <<>>
B18: Base da Cálculo do ICMS Substituição | F18: =CJ10 -> #DIV/0!
B19: Valor do ICMS Substituição | F19: =CJ11 -> #DIV/0!
B20: Outras Despesas Acessórias | F20: =CJ6 -> 0
B21: Valor Total da Nota | F21: =SUM(F15,F19) -> #DIV/0!
B23: NO CORPO DA NF OU EM INFORMAÇÕES COMPLEMENTARES
B24: Vr. operação sujeita a ST | F24: =CJ5 -> 0
B25: Vr. ICMS operação própria p/ cálculo da ST | F25: =CJ11 -> #DIV/0!

Sheet CONFERENCIA DE PEDIDO
A5: Tabela Gift 2015 | V5: Data:
A7: Razão Social.: | B7: =Pedido!B3 -> 0 | T7: Fantasia: | V7: =Pedido!V3 -> 0
A11: Razão Social.: | B11: =Pedido!B3 -> 0 | T11: Fantasia:
A12: Casa Perfumada | D12: Bamboo | F12: Flor d Cerejeira | H12: Pimenta Rosa | J12: Lavanda | L12: Macadamia | N12: Acai e Cupuaçu | P12: Limao Siciliano | R12: Citronela | T12: True | V12: Quant. | W12: Conferencia
A13: Perfume de ambiente 240 ml | D13: =Pedido!D9 -> 0 | F13: =Pedido!F9 -> 0 | H13: =Pedido!H9 -> 0 | J13: =Pedido!J9 -> 0 | L13: =Pedido!L9 -> 0 | N13: =Pedido!N9 -> 0 | P13: =Pedido!P9 -> 0 | R13: =Pedido!R9 -> 0 | T13: =Pedido!T9 -> 0 | V13: =Pedido!X9 -> 0
A14: Perfume de ambiente 60 ml | D14: =Pedido!D10 -> 0 | F14: =Pedido!F10 -> 0 | H14: =Pedido!H10 -> 0 | J14: =Pedido!J10 -> 0 | L14: =Pedido!L10 -> 0 | N14: =Pedido!N10 -> 0 | P14: =Pedido!P10 -> 0 | R14: =Pedido!R10 -> 0 | T14: =Pedido!T10 -> 0 | V14: =Pedido!X10 -> 0
A15: Difusor de ambiente 300 ml | D15: =Pedido!D11 -> 0 | F15: =Pedido!F11 -> 0 | H15: =Pedido!H11 -> 0 | J15: =Pedido!J11 -> 0 | L15: =Pedido!L11 -> 0 | N15: =Pedido!N11 -> 0 | P15: =Pedido!P11 -> 0 | R15: =Pedido!R11 -> 0 | T15: =Pedido!T11 -> 0 | V15: =Pedido!X11 -> 0
A16: Difusor de ambiente 60 ml | D16: =Pedido!D12 -> 0 | F16: =Pedido!F12 -> 0 | H16: =Pedido!H12 -> 0 | J16: =Pedido!J12 -> 0 | L16: =Pedido!L12 -> 0 | N16: =Pedido!N12 -> 0 | P16: =Pedido!P12 -> 0 | R16: =Pedido!R12 -> 0 | T16: =Pedido!T12 -> 0 | V16: =Pedido!X12 -> 0
A17: Água Perfumada 500 ml | D17: =Pedido!D13 -> 0 | F17: =Pedido!F13 -> 0 | H17: =Pedido!H13 -> 0 | J17: =Pedido!J13 -> 0 | L17: =Pedido!L13 -> 0 | N17: =Pedido!N13 -> 0 | P17: =Pedido!P13 -> 0 | R17: =Pedido!R13 -> 0 | T17: =Pedido!T13 -> 0 | V17: =Pedido!X13 -> 0
A18: Sachês Perfumados (display c/32 unidades) | D18: =Pedido!D14 -> 0 | F18: =Pedido!F14 -> 0 | H18: =Pedido!H14 -> 0 | J18: =Pedido!J14 -> 0 | L18: =Pedido!L14 -> 0 | N18: =Pedido!N14 -> 0 | P18: =Pedido!P14 -> 0 | R18: =Pedido!R14 -> 0 | T18: =Pedido!T14 -> 0 | V18: =Pedido!X14 -> 0
A19: Sachês 20 ml | D19: Bamboo | F19: Flor d Cerejeira | H19: Pimenta Rosa | J19: Lavanda Inglesa | L19: Macadamia | N19: Acai e Cupuaçu | P19: Limao Siciliano | R19: Citronela | T19: True | V19: Quant. | W19: Conferencia
A20: Sabonete Liquido 20 ml | D20: =Pedido!D16 -> 0 | F20: =Pedido!F16 -> 0 | H20: =Pedido!H16 -> 0 | J20: =Pedido!J16 -> 0 | L20: =Pedido!L16 -> 0 | N20: =Pedido!N16 -> 0 | V20: =Pedido!X16 -> 0
A21: Loção Hidratante 20ml | D21: =Pedido!D17 -> 0 | F21: =Pedido!F17 -> 0 | H21: =Pedido!H17 -> 0 | J21: =Pedido!J17 -> 0 | L21: =Pedido!L17 -> 0 | N21: =Pedido!N17 -> 0 | V21: =Pedido!X17 -> 0
A22: Sais de Banho 20g | D22: =Pedido!D18 -> 0 | F22: =Pedido!F18 -> 0 | H22: =Pedido!H18 -> 0 | J22: =Pedido!J18 -> 0 | L22: =Pedido!L18 -> 0 | N22: =Pedido!N18 -> 0 | V22: =SUM(D22:K22) -> 0
A23: Linha Spa | D23: Bamboo | F23: Flor d Cerejeira | H23: Pimenta Rosa | J23: Lavanda | L23: Macadamia | N23: Acai e Cupuaçu | P23: Limao Siciliano | R23: Citronela | T23: True | V23: Quant. | W23: Conferencia
A24: Sabonete em Barra 150gr | D24: =Pedido!D20 -> 0 | F24: =Pedido!F20 -> 0 | H24: =Pedido!H20 -> 0 | J24: =Pedido!J20 -> 0 | L24: =Pedido!L20 -> 0 | N24: =Pedido!N20 -> 0 | P24: =Pedido!P20 -> 0 | R24: =Pedido!N20 -> 0 | T24: =Pedido!T20 -> 0 | V24: =Pedido!X20 -> 0
A25: Sab em Barra com Bucha Veg 150 gr. | D25: =Pedido!D21 -> 0 | F25: =Pedido!F21 -> 0 | H25: =Pedido!H21 -> 0 | J25: =Pedido!J21 -> 0 | L25: =Pedido!L21 -> 0 | N25: =Pedido!N21 -> 0 | P25: =Pedido!P21 -> 0 | R25: =Pedido!N21 -> 0 | T25: =Pedido!T21 -> 0 | V25: =Pedido!X21 -> 0
A26: Sabonete Girassol | D26: =Pedido!D22 -> 0 | F26: =Pedido!F22 -> 0 | H26: =Pedido!H22 -> 0 | J26: =Pedido!J22 -> 0 | L26: =Pedido!L22 -> 0 | N26: =Pedido!N22 -> 0 | P26: =Pedido!P22 -> 0 | R26: =Pedido!N22 -> 0 | T26: =Pedido!T22 -> 0 | V26: =Pedido!X22 -> 0
A27: Sabonete Hibisco | D27: =Pedido!D23 -> 0 | F27: =Pedido!F23 -> 0 | H27: =Pedido!H23 -> 0 | J27: =Pedido!J23 -> 0 | L27: =Pedido!L23 -> 0 | N27: =Pedido!N23 -> 0 | P27: =Pedido!P23 -> 0 | R27: =Pedido!N23 -> 0 | T27: =Pedido!T23 -> 0 | V27: =Pedido!X23 -> 0
A28: Sabonete Ursinho | D28: =Pedido!D24 -> 0 | F28: =Pedido!F24 -> 0 | H28: =Pedido!H24 -> 0 | J28: =Pedido!J24 -> 0 | L28: =Pedido!L24 -> 0 | N28: =Pedido!N24 -> 0 | P28: =Pedido!P24 -> 0 | R28: =Pedido!N24 -> 0 | T28: =Pedido!T24 -> 0 | V28: =Pedido!X24 -> 0
A29: Sabonete Borboleta | D29: =Pedido!D25 -> 0 | F29: =Pedido!F25 -> 0 | H29: =Pedido!H25 -> 0 | J29: =Pedido!J25 -> 0 | L29: =Pedido!L25 -> 0 | N29: =Pedido!N25 -> 0 | P29: =Pedido!P25 -> 0 | R29: =Pedido!N25 -> 0 | T29: =Pedido!T25 -> 0 | V29: =Pedido!X25 -> 0
A30: Loção Hidratante 200 ml | D30: =Pedido!D26 -> 0 | F30: =Pedido!F26 -> 0 | H30: =Pedido!H26 -> 0 | J30: =Pedido!J26 -> 0 | L30: =Pedido!L26 -> 0 | N30: =Pedido!N26 -> 0 | P30: =Pedido!P26 -> 0 | R30: =Pedido!N26 -> 0 | T30: =Pedido!T26 -> 0 | V30: =Pedido!X26 -> 0
A31: Loção Hidratante 60 ml | D31: =Pedido!D27 -> 0 | F31: =Pedido!F27 -> 0 | H31: =Pedido!H27 -> 0 | J31: =Pedido!J27 -> 0 | L31: =Pedido!L27 -> 0 | N31: =Pedido!N27 -> 0 | P31: =Pedido!P27 -> 0 | R31: =Pedido!N27 -> 0 | T31: =Pedido!T27 -> 0 | V31: =Pedido!X27 -> 0
A32: Mousse Facial e Corporal 150 ml | D32: =Pedido!D28 -> 0 | F32: =Pedido!F28 -> 0 | H32: =Pedido!H28 -> 0 | J32: =Pedido!J28 -> 0 | L32: =Pedido!L28 -> 0 | N32: =Pedido!N28 -> 0 | T32: =Pedido!T28 -> 0 | V32: =Pedido!X28 -> 0
A33: Esfoliante Corporal 180 ml | D33: =Pedido!D29 -> 0 | F33: =Pedido!F29 -> 0 | H33: =Pedido!H29 -> 0 | J33: =Pedido!J29 -> 0 | L33: =Pedido!L29 -> 0 | N33: =Pedido!N29 -> 0 | P33: =Pedido!P29 -> 0 | R33: =Pedido!N29 -> 0 | T33: =Pedido!T29 -> 0 | V33: =Pedido!X29 -> 0
A34: Refil de Sais de Banho 270 g | D34: =Pedido!D30 -> 0 | F34: =Pedido!F30 -> 0 | H34: =Pedido!H30 -> 0 | J34: =Pedido!J30 -> 0 | L34: =Pedido!L30 -> 0 | N34: =Pedido!N30 -> 0 | P34: =Pedido!P30 -> 0 | R34: =Pedido!N30 -> 0 | T34: =Pedido!T30 -> 0 | V34: =Pedido!X30 -> 0
A35: Refil de Espuma de Banho 160 ml | D35: =Pedido!D31 -> 0 | F35: =Pedido!F31 -> 0 | H35: =Pedido!H31 -> 0 | J35: =Pedido!J31 -> 0 | L35: =Pedido!L31 -> 0 | N35: =Pedido!N31 -> 0 | P35: =Pedido!P31 -> 0 | R35: =Pedido!N31 -> 0 | T35: =Pedido!T31 -> 0 | V35: =Pedido!X31 -> 0
A36: Deo Colonia 120ml (Lancamento) | F36: =Pedido!F32 -> 0 | H36: =Pedido!H32 -> 0 | J36: =Pedido!J32 -> 0 | L36: =Pedido!L32 -> 0 | N36: =Pedido!N32 -> 0 | T36: =Pedido!T32 -> 0 | V36: =Pedido!X32 -> 0
A37: Água de Colonia LAVANDA 300ml | J37: =Pedido!J33 -> 0
A38: Linha Flowers | D38: Bamboo | F38: Flor Cerejeira | H38: Pimenta Rosa | J38: Lavanda | L38: Macadamia | N38: Acai e Cupu | P38: Limão Sicilia | R38: Citronela | T38: True | V38: Quant. | W38: Conferencia
A39: Sabonete Líquido 340ml | D39: =Pedido!D35 -> 0 | F39: =Pedido!F35 -> 0 | H39: =Pedido!H35 -> 0 | J39: =Pedido!J35 -> 0 | L39: =Pedido!L35 -> 0 | N39: =Pedido!N35 -> 0 | P39: =Pedido!P35 -> 0 | R39: =Pedido!N35 -> 0 | T39: =Pedido!T35 -> 0 | V39: =Pedido!X35 -> 0
A40: Sabonete Líquido 60 ml | D40: =Pedido!D36 -> 0 | F40: =Pedido!F36 -> 0 | H40: =Pedido!H36 -> 0 | J40: =Pedido!J36 -> 0 | L40: =Pedido!L36 -> 0 | N40: =Pedido!N36 -> 0 | P40: =Pedido!P36 -> 0 | R40: =Pedido!N36 -> 0 | T40: =Pedido!T36 -> 0 | V40: =Pedido!X36 -> 0
A41: Sabonete Líquido REFIL 340ml | D41: =Pedido!D37 -> 0 | F41: =Pedido!F37 -> 0 | H41: =Pedido!H37 -> 0 | J41: =Pedido!J37 -> 0 | L41: =Pedido!L37 -> 0 | N41: =Pedido!N37 -> 0 | P41: =Pedido!P37 -> 0 | R41: =Pedido!N37 -> 0 | T41: =Pedido!T37 -> 0 | V41: =Pedido!X37 -> 0
A42: Sabonete Líquido 990ml | D42: =Pedido!D38 -> 0 | F42: =Pedido!F38 -> 0 | H42: =Pedido!H38 -> 0 | J42: =Pedido!J38 -> 0 | L42: =Pedido!L38 -> 0 | N42: =Pedido!N38 -> 0 | P42: =Pedido!P38 -> 0 | R42: =Pedido!R38 -> 0 | T42: =Pedido!T38 -> 0 | V42: =Pedido!X38 -> 0
A43: Sabonete Líquido REFIL 990ml | D43: =Pedido!D39 -> 0 | F43: =Pedido!F39 -> 0 | H43: =Pedido!H39 -> 0 | J43: =Pedido!J39 -> 0 | L43: =Pedido!L39 -> 0 | N43: =Pedido!N39 -> 0 | P43: =Pedido!P39 -> 0 | R43: =Pedido!R39 -> 0 | T43: =Pedido!T39 -> 0 | V43: =Pedido!X39 -> 0
A44: Kit 60ml | D44: =Pedido!D40 -> 0 | F44: =Pedido!F40 -> 0 | H44: =Pedido!H40 -> 0 | J44: =Pedido!J40 -> 0 | L44: =Pedido!L40 -> 0 | N44: =Pedido!N40 -> 0 | P44: =Pedido!P40 -> 0 | R44: =Pedido!R40 -> 0 | T44: =Pedido!T40 -> 0 | V44: =Pedido!X40 -> 0
A45: Kit Flower 7 | D45: =Pedido!D41 -> 0 | F45: =Pedido!F41 -> 0 | H45: =Pedido!H41 -> 0 | J45: =Pedido!J41 -> 0 | V45: =SUM(D45:K45) -> 0
A46: Linha Premium | D46: Blanc | V46: Quant. | W46: Conferencia
A47: Sabonete Líquido Perolado 250ml | D47: =Pedido!D43 -> 0 | V47: =Pedido!X43 -> 0
A48: Refil Sabonete Líquido Perolado 250ml | D48: =Pedido!D44 -> 0 | V48: =Pedido!X44 -> 0
A49: Loção Hidratante 220ml | D49: =Pedido!D45 -> 0 | V49: =Pedido!X45 -> 0
A50: Refil Loção Hidratante 220ml | D50: =Pedido!D46 -> 0 | V50: =Pedido!X46 -> 0
A51: Deo Colonia 100ml (Lancamento) | D51: =Pedido!D47 -> 0 | V51: =SUM(D51) -> 0
A52: Sais de Banho 270g | D52: =Pedido!D48 -> 0 | V52: =Pedido!X48 -> 0
A53: Refil Sais de Banho 270g | D53: =Pedido!D49 -> 0 | V53: =Pedido!X49 -> 0
A54: Espuma de banho 160ml | D54: =Pedido!D50 -> 0 | V54: =Pedido!X50 -> 0
A55: Refil Espuma de banho 160ml | D55: =Pedido!D51 -> 0 | V55: =Pedido!X51 -> 0
A56: Difusor de Ambiente 160ml | D56: =Pedido!D52 -> 0 | V56: =Pedido!X52 -> 0
A57: Refil Difusor de Ambiente 160ml | D57: =Pedido!D53 -> 0 | V57: =Pedido!X53 -> 0
A58: Perfume de Ambiente 405ml | D58: =Pedido!D54 -> 0 | V58: =Pedido!X54 -> 0
A59: Sachês Perfumados (display c/32 unid) | D59: =Pedido!D55 -> 0 | V59: =Pedido!X55 -> 0
A60: Perfume de Ambiente Citronela 405ml | D60: =Pedido!D56 -> 0 | V60: =Pedido!X56 -> 0
A61: Linha VINTAGE | D61: Vintage | V61: Quant. | W61: Conferencia
A62: Sabonete Líquido 340ml | D62: =Pedido!D58 -> 0 | V62: =Pedido!X58 -> 0
A63: Sabonete Líquido REFIL 340ml | D63: =Pedido!D59 -> 0 | V63: =Pedido!X59 -> 0
A64: Difusor de ambiente 300 ml | D64: =Pedido!D60 -> 0 | V64: =Pedido!X60 -> 0
A65: Loção Hidratante 220 ml | D65: =Pedido!D61 -> 0 | V65: =Pedido!X61 -> 0
A66: Deo Colonia 120ml (Lancamento) | D66: =Pedido!D62 -> 0 | V66: =Pedido!X62 -> 0
A67: Sachês Perfumados (display c/32 unidades) | D67: =Pedido!D63 -> 0 | V67: =Pedido!X63 -> 0
A68: Linha La vie | D68: Laranja | F68: Lila´s | H68: Vermelha | J68: Deo colonia | V68: Quant. | W68: Conferencia
A69: Sabonete liquido 250ml | D69: =Pedido!D65 -> 0 | F69: =Pedido!F65 -> 0 | H69: =Pedido!H65 -> 0 | V69: =SUM(D69:I69) -> 0
A70: Difusor de Ambiente 140ml | D70: =Pedido!D66 -> 0 | F70: =Pedido!F66 -> 0 | H70: =Pedido!H66 -> 0 | V70: =SUM(D70:I70) -> 0
A71: Deo Colonia 100ml (Lancamento) | J71: =Pedido!J67 -> 0 | V71: =SUM(J71) -> 0
A72: Linha Gold | D72: Gold | F72: Blanc | V72: Quant. | W72: Conferencia
A73: Sabonete Liquido 250ml | D73: =Pedido!D69 -> 0 | F73: =Pedido!F69 -> 0 | V73: =Pedido!X69 -> 0
A74: Sabonete Liquido 350ml | D74: =Pedido!D70 -> 0 | F74: =Pedido!F70 -> 0 | V74: =Pedido!X70 -> 0
A75: Difusor ambiente 250ml | D75: =Pedido!D71 -> 0 | F75: =Pedido!F71 -> 0 | V75: =Pedido!X71 -> 0
A76: Difusor ambiente 350ml | D76: =Pedido!D72 -> 0 | F76: =Pedido!F72 -> 0 | V76: =Pedido!X72 -> 0
A77: Deo Colonia 100ml (Lancamento) | D77: =Pedido!D73 -> 0 | V77: =Pedido!X73 -> 0
A78: Linha Gold Perolas | D78: Gold | V78: Quant. | W78: Conferencia
A79: Sabonete Liquido 250ml | D79: =Pedido!D75 -> 0 | V79: =Pedido!X75 -> 0
A80: Sabonete Liquido 350ml | D80: =Pedido!D76 -> 0 | V80: =Pedido!X76 -> 0
A81: Difusor ambiente 250ml | D81: =Pedido!D77 -> 0 | V81: =Pedido!X77 -> 0
A82: Difusor ambiente 350ml | D82: =Pedido!D78 -> 0 | V82: =Pedido!X78 -> 0
A83: Linha Cozinheiro | V83: Quant. | W83: Conferencia
A84: Sabonete liquido 240ml - VIDRO | D84: =Pedido!D80 -> 0 | V84: =Pedido!X80 -> 0
A85: Sabonete liquido 380ml- PET | D85: =Pedido!D81 -> 0 | V85: =Pedido!X81 -> 0
A86: Sabonete liquido True 240ml - VIDRO | D86: =Pedido!D82 -> 0 | V86: =Pedido!X82 -> 0
A87: Linha Animale | D87: Soul Chic | G87: Madame Gold | V87: Quant. | W87: Conferencia
A88: Sabonete Líquido 500ml | D88: =Pedido!D84 -> 0 | G88: =Pedido!G84 -> 0 | V88: =Pedido!X84 -> 0
A89: Difusor de ambiente 350 ml | D89: =Pedido!D85 -> 0 | G89: =Pedido!G85 -> 0 | V89: =Pedido!X85 -> 0
A90: Loção Hidratante 300 ml | D90: =Pedido!D86 -> 0 | G90: =Pedido!G86 -> 0 | V90: =Pedido!X87 -> 0
A91: Deo Colonia 120ml (Lancamento) | D91: =Pedido!D87 -> 0 | G91: =Pedido!G87 -> 0 | V91: =SUM(D91:I91) -> 0
A92: Sachês Perfumados (display c/32 unidades) | D92: =Pedido!D88 -> 0 | G92: =Pedido!G88 -> 0 | V92: =Pedido!X88 -> 0
A93: Botânica | D93: Calendula | F93: Giseng | H93: Jaborandi | J93: Hamammelis | L93: Camomila | N93: 7 ervas | V93: Quant. | W93: Conferencia
D94: Aloe Vera | F94: Queratina | H94: Am. da seda | J94: Arnica | L94: Germe de Trigo
A95: Shampoo 200ml | D95: =Pedido!D91 -> 0 | F95: =Pedido!F91 -> 0 | H95: =Pedido!H91 -> 0 | J95: =Pedido!J91 -> 0 | L95: =Pedido!L91 -> 0 | N95: =Pedido!J91 -> 0 | V95: =SUM(D95:S95) -> 0
A96: Condicionador 200 ml | D96: =Pedido!D92 -> 0 | F96: =Pedido!F92 -> 0 | H96: =Pedido!H92 -> 0 | L96: =Pedido!L92 -> 0 | N96: =Pedido!N92 -> 0 | V96: =SUM(D96:U96) -> 0
A97: Sache Shampoo 20ml | D97: =Pedido!D93 -> 0 | F97: =Pedido!F93 -> 0 | H97: =Pedido!H93 -> 0 | J97: =Pedido!J93 -> 0 | L97: =Pedido!L93 -> 0 | N97: =Pedido!J93 -> 0 | V97: =Pedido!X93 -> 0
A98: Sache Condicionador 200 ml | D98: =Pedido!D94 -> 0 | F98: =Pedido!F94 -> 0 | H98: =Pedido!H94 -> 0 | L98: =Pedido!L94 -> 0 | N98: =Pedido!N94 -> 0 | V98: =SUM(D98:S98) -> 0
A99: Nutra Intensse | D99: Pele Seca | F99: Pele Normal | H99: Todos os tipos de Pele | V99: Quant. | W99: Conferencia
D100: e Sensível | F100: e Mista
A101: Esfoliante Facial 60g. (peeling de cristal) | H101: =Pedido!H97 -> 0 | V101: =Pedido!X97 -> 0
A102: 1 - Mousse de Limpeza Facial 150 ml | D102: =Pedido!D98 -> 0 | F102: =Pedido!F98 -> 0 | V102: =Pedido!X98 -> 0
A103: 2 - Tônico Facial Equilibrante 140ml | D103: =Pedido!D99 -> 0 | F103: =Pedido!F99 -> 0 | V103: =Pedido!X99 -> 0
A104: 3 - Loção Revitalizante Facial 30 ml | D104: =Pedido!D100 -> 0 | F104: =Pedido!F100 -> 0 | V104: =Pedido!X100 -> 0
A105: Linha Mel e Própolis | D105: Pele Seca e Sensível | H105: Pele Normal e Mista | L105: Todos os tipos de Pele | V105: Quant. | W105: Conferencia
D106: Mel | H106: Própolis
A107: Esfoliante Facial 60g. (peeling de cristal) | L107: =Pedido!L103 -> 0 | V107: =Pedido!X103 -> 0
A108: 1 - Mousse de Limpeza Facial 150 ml | D108: =Pedido!D104 -> 0 | H108: =Pedido!H104 -> 0 | V108: =Pedido!X104 -> 0
...
