Workbook

Sheet Pedido
W1: Data:
A3: Razão Social.: | S3: Fantasia:
A4: End.: | V4: Bairro:
A5: CNPJ: | F5: IE: | W5: CEP:
A6: Cidade: | F6: UF: | I6: Contato: | W6: Tel:
A7: e-mail: | M7: Site:
A8: Casa Perfumada | D8: Bamboo | F8: Flor Cerejeira | H8: Pimenta Rosa | J8: Lavanda Inglesa | L8: Macadamia | N8: Acai e Cupu | P8: Limão Sicilia | R8: Citronela | T8: True | V8: Preço | W8: Min/pçs | X8: Quant. | Y8: Sub Total
A9: Perfume de ambiente 240 ml | V9: 22.28 | W9: 12 | X9: =SUM(D9:U9) -> 0 | Y9: =X9*V9 -> 0
A10: Perfume de ambiente 60 ml | V10: 9.85 | W10: 12 | X10: =SUM(D10:U10) -> 0 | Y10: =X10*V10 -> 0
A11: Difusor de ambiente 300 ml | V11: 29 | W11: 12 | X11: =SUM(D11:U11) -> 0 | Y11: =X11*V11 -> 0
A12: Difusor de ambiente 60 ml | V12: 13.32 | W12: 12 | X12: =SUM(D12:U12) -> 0 | Y12: =X12*V12 -> 0
A13: Água Perfumada 500 ml | V13: 25.64 | W13: 12 | X13: =SUM(D13:U13) -> 0 | Y13: =X13*V13 -> 0
A14: Sachês Perfumados (display c/32 um.) | V14: 163.4 | W14: 1 | X14: =SUM(D14:U14) -> 0 | Y14: =X14*V14 -> 0
A15: Sachês 20 ml | D15: Bamboo | F15: Flor Cerejeira | H15: Pimenta Rosa | J15: Lavanda Inglesa | L15: Macadamia | N15: Acai e Cupu | P15: Limão Sicilia | R15: Citronela | T15: True | V15: Preço | W15: Min/pçs | X15: Quant. | Y15: Sub Total
A16: Sabonete Liquido 20 ml | V16: 1.9 | W16: 100 | X16: =SUM(D16:U16) -> 0 | Y16: =X16*V16 -> 0
A17: Loção Hidratante 20 ml | V17: 1.9 | W17: 100 | X17: =SUM(D17:U17) -> 0 | Y17: =X17*V17 -> 0
A18: Sais de Banho 20g | V18: 2.9 | W18: 100 | X18: =SUM(D18:U18) -> 0 | Y18: =X18*V18 -> 0
A19: Linha Spa | D19: Bamboo | F19: Flor Cerejeira | H19: Pimenta Rosa | J19: Lavanda | L19: Macadamia | N19: Acai e Cupu | P19: Limão Sicilia | R19: Citronela | T19: True | V19: Preço | W19: Min/pçs | X19: Quant. | Y19: Sub Total
A20: Sabonete em Barra 150gr | V20: 7.98 | W20: 12 | X20: =SUM(D20:U20) -> 0 | Y20: =X20*V20 -> 0
A21: Sab em Barra com Bucha Veg 150 gr. | V21: 9.98 | W21: 12 | X21: =SUM(D21:U21) -> 0 | Y21: =X21*V21 -> 0
A22: Sabonete Girassol | V22: 5.9 | W22: 12 | X22: =SUM(D22:U22) -> 0 | Y22: =X22*V22 -> 0
A23: Sabonete Hibisco | V23: 4.9 | W23: 12 | X23: =SUM(D23:U23) -> 0 | Y23: =X23*V23 -> 0
A24: Sabonete Ursinho | V24: 3.9 | W24: 12 | X24: =SUM(D24:U24) -> 0 | Y24: =X24*V24 -> 0
A25: Sabonete Borboleta | V25: 12.9 | W25: 12 | X25: =SUM(D25:U25) -> 0 | Y25: =X25*V25 -> 0
A26: Loção Hidratante 200 ml | V26: 25.64 | W26: 12 | X26: =SUM(D26:U26) -> 0 | Y26: =X26*V26 -> 0
A27: Loção Hidratante 60 ml | V27: 8.84 | W27: 12 | X27: =SUM(D27:U27) -> 0 | Y27: =X27*V27 -> 0
A28: Mousse Facial e Corporal 150 ml | V28: 23.52 | W28: 12 | X28: =SUM(D28:U28) -> 0 | Y28: =X28*V28 -> 0
A29: Esfoliante Corporal 180 ml | V29: 18.92 | W29: 12 | X29: =SUM(D29:U29) -> 0 | Y29: =X29*V29 -> 0
A30: Refil de Sais de Banho 270 g | V30: 17.8 | W30: 12 | X30: =SUM(D30:U30) -> 0 | Y30: =X30*V30 -> 0
A31: Refil de Espuma de Banho 160 ml | V31: 12.2 | W31: 12 | X31: =SUM(D31:U31) -> 0 | Y31: =X31*V31 -> 0
... A33: Água de Colonia LAVANDA 300ml | V33: 33.48 | W33: 12 | X33: =SUM(D33:U33) -> 0 | Y33: =X33*V33 -> 0
A34: Linha Flowers | D34: Bamboo | F34: Flor Cerejeira | H34: Pimenta Rosa | J34: Lavanda | L34: Macadamia | N34: Acai e Cupu | P34: Limão Sicilia | R34: Citronela | T34: True | V34: Preço | W34: Min/pçs | X34: Quant. | Y34: Sub Total
A35: Sabonete Líquido 340ml | V35: 29 | W35: 12 | X35: =SUM(D35:U35) -> 0 | Y35: =X35*V35 -> 0
A36: Sabonete Líquido 60 ml | V36: 8.06 | W36: 12 | X36: =SUM(D36:U36) -> 0 | Y36: =X36*V36 -> 0
A37: Sabonete Líquido REFIL 340ml | V37: 13.32 | W37: 12 | X37: =SUM(D37:U37) -> 0 | Y37: =X37*V37 -> 0
A38: Sabonete Líquido 990ml | V38: 40.2 | W38: 12 | X38: =SUM(D38:U38) -> 0 | Y38: =X38*V38 -> 0
A39: Sabonete Líquido REFIL 990ml | V39: 18.92 | W39: 12 | X39: =SUM(D39:U39) -> 0 | Y39: =X39*V39 -> 0
A40: Kit 60ml | V40: 35.9 | W40: 12 | X40: =SUM(D40:U40) -> 0 | Y40: =X40*V40 -> 0
A41: Kit Flower 7 | V41: 55.8 | W41: 12 | X41: =SUM(D41:U41) -> 0 | Y41: =X41*V41 -> 0
A42: Blanc | D42: Quant | V42: Preço | W42: Min/pçs | X42: Quant. | Y42: Sub Total
...

Sheet ICMS ST SP
A1: ... | B1: Alterar apenas as células em AZUL | C1: LINHA CASA PERFUMADA | I1: SACHES | R1: LINHA SPA | Z1: LINHA FLOWERS | AF1: LINHA BLANC | AT1: LINHA VINTAGE | AZ1: LINHA LA VIE | BC1: LINHA GOLD | BG1: LINHA ANIMALE | BL1: LINHA BOTANICA | BP1: LINHA NUTRA INTENSE | BT1: Linha Mel / Propolis | CF1: Linha Black Tie
C2: Perf. Amb 240ml | D2: Perf. Amb 60ml | E2: Difusor amb.300ml | F2: Difusor amb.60ml | G2: Água Perf. 500ml | H2: Sachê Perf. 6g | I2: Sachê Sab. Liq. 20ml | J2: Sachê Loção 20ml | K2: Sache sais 20 g | L2: Sabonete B. 150gr | M2: Sabonete Bucha | N2: Sab Girassol | O2: Sab Hibisco | P2: Sab. Ursinho | Q2: Sab Borboleta | R2: Loção Hidra 200ml | S2: Loção Hidra 60ml | T2: Mousse 150ml | U2: Esfol. Corp 180ml | V2: Sachê sais 270 g | W2: Sachê espuma 160 ml | X2: Deo Colonia 120ml | Y2: água Colonia 300ml | Z2: Sab. Liq. 340ml | AA2: Sab. Liq. 60ml | AB2: Refil 340ml | AC2: Sab. Liq. 990ml | AD2: Refil 990ml | AE2: Kits Flowers | AF2: Sab. Liq. Blanc | AG2: Ref. Sab. Liq. Blanc | AH2: Loção Blanc | AI2: Ref. Loção Blanc | AJ2: Deo Colonia 100ml | AK2: Sais Banho Blanc | AL2: Ref S.Banho Blanc | AM2: Esp. Banho Blanc. | AN2: Ref. E. Banho Blanc. | AO2: Difusor Blanc | AP2: Ref. Difusor Blanc | AQ2: Perf. Amb. Citrone | AR2: Perf. Amb. Blanc | AS2: Sachê Perf. 6g | AT2: Sab. Liq. Vintage | AU2: Refil 340ml | AV2: Dif. Amb. Vintage | AW2: Loção vintage | AX2: Deo Colonia 120ml | AY2: Sachê Perf. 6g | AZ2: Sab Líq La vie | BA2: Difusor amb La vie | BB2: Deo Colonia 100ml | BC2: Sab Líq Gold | BD2: Difusor amb Gold | BE2: Deo Colonia 100ml | BF2: Sab Líq Gold | BG2: Difusor amb Gold | BH2: Sab Cozinheiro | BI2: Sab. Liq Animale | BJ2: Dif.Amb Animale | BK2: Deo Colonia 100ml | BL2: Loção Hidr. Animale | BM2: Sachê Perf. 6g | BN2: Shampoo 200ml | BO2: Cond. 200ml | BP2: Sache Shampoo 20ml | BQ2: Sachê Cond. 20ml | BR2: Esfoliante 60g | BS2: Mousse 150ml | BT2: Tonico 140ml | BU2: Loção 30ml | BV2: Esfoliante 60g | BW2: Mousse 150ml | BX2: Tonico 140ml | BY2: Loção 30ml | BZ2: Esfol. Corp 180ml | CA2: Sab. Liq 200ml | CB2: Creme 60g | CC2: Gel pos barba 60g | CD2: Shampoo 200ml | CE2: Cond. 200ml | CF2: Sache Shampoo 20ml | CG2: Sachê Cond. 20ml | CH2: Sab. Liq 200ml | CI2: Shampoo 200ml | CJ2: Gel pos barba 60g | CK2: Deo Colonia 50ml | CL2: Total geral
B3: Destino | C3: SP | D3: SP | E3: SP | F3: SP | G3: SP | H3: SP | R3: SP | S3: SP | U3: SP | V3: SP | W3: SP | X3: SP | Y3: SP | Z3: SP | AA3: SP | AB3: SP | AC3: SP | AE3: SP | AF3: SP | AG3: SP | AH3: SP | AI3: SP | AJ3: SP | AK3: SP | AL3: SP | AM3: SP | AN3: SP | AO3: SP | AP3: SP | AQ3: SP | AR3: SP | AS3: SP | AT3: SP | AU3: SP | AV3: SP | AW3: SP | AX3: SP | AY3: SP | AZ3: SP | BA3: SP | BB3: SP | BC3: SP | BD3: SP | BE3: SP | BF3: SP | BG3: SP | BH3: SP | BI3: SP | BJ3: SP | BK3: SP | BL3: SP | BM3: SP | BN3: SP | BO3: SP | BR3: SP | BS3: SP | BT3: SP | BU3: SP | CK3: SP
B4: % ICMS no estado de destino | C4: 0.18 | D4: 0.18 | E4: 0.18 | F4: 0.18 | G4: 0.18 | H4: 0.18 | I4: 0.18 | J4: 0.25 | K4: 0.25 | L4: 0.18 | M4: 0.18 | N4: 0.18 | O4: 0.18 | P4: 0.18 | Q4: 0.18 | R4: 0.25 | S4: 0.25 | T4: 0.25 | U4: 0.18 | V4: 0.25 | W4: 0.25 | X4: 0.25 | Y4: 0.25 | Z4: 0.18 | AA4: 0.18 | AB4: 0.18 | AC4: 0.18 | AD4: 0.18 | AE4: 0.18 | AF4: 0.18 | AG4: 0.18 | AH4: 0.25 | AI4: 0.25 | AJ4: 0.25 | AK4: 0.25 | AL4: 0.25 | AM4: 0.25 | AN4: 0.25 | AO4: 0.18 | AP4: 0.18 | AQ4: 0.18 | AR4: 0.18 | AS4: 0.18 | AT4: 0.18 | AU4: 0.18 | AV4: 0.18 | AW4: 0.25 | AX4: 0.25 | AY4: 0.18 | AZ4: 0.18 | BA4: 0.18 | BB4: 0.25 | BC4: 0.18 | BD4: 0.18 | BE4: 0.25 | BF4: 0.18 | BG4: 0.18 | BH4: 0.18 | BI4: 0.18 | BJ4: 0.18 | BK4: 0.25 | BL4: 0.25 | BM4: 0.18 | BN4: 0.18 | BO4: 0.25 | BP4: 0.18 | BQ4: 0.25 | BR4: 0.25 | BS4: 0.25 | BT4: 0.25 | BU4: 0.25 | BV4: 0.25 | BW4: 0.25 | BX4: 0.25 | BY4: 0.25 | BZ4: 0.18 | CA4: 0.18 | CB4: 0.25 | CC4: 0.18 | CD4: 0.18 | CE4: 0.25 | CF4: 0.18 | CG4: 0.25 | CH4: 0.18 | CI4: 0.18 | CJ4: 0.18 | CK4: 0.25 | CL4: TOTAL
B5: Valor do Produtos | C5: =Pedido!Y9 -> 0 | D5: =Pedido!Y10 -> 0 | E5: =Pedido!Y11 -> 0 | F5: =Pedido!Y12 -> 0 | G5: =Pedido!Y13 -> 0 | H5: =Pedido!Y14 -> 0 | I5: =Pedido!Y16 -> 0 | J5: =Pedido!Y17 -> 0 | K5: =Pedido!Y18 -> 0 | L5: =Pedido!Y20 -> 0 | M5: =Pedido!Y21 -> 0 | N5: =Pedido!Y22 -> 0 | O5: =Pedido!Y23 -> 0 | P5: =Pedido!Y24 -> 0 | Q5: =Pedido!Y25 -> 0 | R5: =Pedido!Y26 -> 0 | S5: =Pedido!Y27 -> 0 | T5: =Pedido!Y28 -> 0 | U5: =Pedido!Y29 -> 0 | V5: =Pedido!Y30 -> 0 | W5: =Pedido!Y31 -> 0 | X5: =Pedido!Y32 -> 0 | Y5: =Pedido!Y33 -> 0 | Z5: =Pedido!Y35 -> 0 | AA5: =Pedido!Y36 -> 0 | AB5: =Pedido!Y37 -> 0 | AC5: =Pedido!Y38 -> 0 | AD5: =Pedido!Y39 -> 0 | AE5: =SUM(Pedido!Y40:Y41) -> 0 | AF5: =Pedido!Y43 -> 0 | AG5: =Pedido!Y44 -> 0 | AH5: =Pedido!Y45 -> 0 | AI5: =Pedido!Y46 -> 0 | AJ5: =Pedido!Y47 -> 0 | AK5: =Pedido!Y48 -> 0 | AL5: =Pedido!Y49 -> 0 | AM5: =Pedido!Y50 -> 0 | AN5: =Pedido!Y51 -> 0 | AO5: =Pedido!Y52 -> 0 | AP5: =Pedido!Y53 -> 0 | AQ5: =Pedido!Y54 -> 0 | AR5: =Pedido!Y55 -> 0 | AS5: =Pedido!Y56 -> 0 | AT5: =Pedido!Y58 -> 0 | AU5: =Pedido!Y59 -> 0 | AV5: =Pedido!Y60 -> 0 | AW5: =Pedido!Y61 -> 0 | AX5: =Pedido!Y62 -> 0 | AY5: =Pedido!Y63 -> 0 | AZ5: =Pedido!Y65 -> 0 | BA5: =Pedido!Y66 -> 0 | BB5: =Pedido!Y67 -> 0 | BC5: =SUM(Pedido!Y69:Y70) -> 0 | BD5: =SUM(Pedido!Y71:Y72) -> 0 | BE5: =Pedido!Y73 -> 0 | BF5: =SUM(Pedido!Y75:Y76) -> 0 | BG5: =SUM(Pedido!Y77:Y78) -> 0 | BH5: =SUM(Pedido!Y80:Y82) -> 0 | BI5: =Pedido!Y84 -> 0 | BJ5: =Pedido!Y85 -> 0 | BK5: =Pedido!Y86 -> 0 | BL5: =Pedido!Y87 -> 0 | BM5: =Pedido!Y88 -> 0 | BN5: =Pedido!Y91 -> 0 | BO5: =Pedido!Y92 -> 0 | BP5: =Pedido!Y93 -> 0 | BQ5: =Pedido!Y94 -> 0 | BR5: =Pedido!Y97 -> 0 | BS5: =Pedido!Y98 -> 0 | BT5: =Pedido!Y99 -> 0 | BU5: =Pedido!Y100 -> 0 | BV5: =Pedido!Y103 -> 0 | BW5: =Pedido!Y104 -> 0 | BX5: =Pedido!Y105 -> 0 | BY5: =Pedido!Y106 -> 0 | BZ5: =Pedido!Y107 -> 0 | CA5: =Pedido!Y108 -> 0 | CB5: =Pedido!Y109 -> 0 | CC5: =Pedido!Y110 -> 0 | CD5: =Pedido!Y113 -> 0 | CE5: =Pedido!Y114 -> 0 | CF5: =Pedido!Y115 -> 0 | CG5: =Pedido!Y116 -> 0 | CH5: =Pedido!Y118 -> 0 | CI5: =Pedido!Y119 -> 0 | CJ5: =Pedido!Y120 -> 0 | CK5: =Pedido!Y121 -> 0 | CL5: =SUM(C5:CK5) -> 0
B6: Despesas Acessórias | C6: =$CL$6/$CL$5*C5 -> #DIV/0! | D6: =$CL$6/$CL$5*D5 -> #DIV/0! | E6: =$CL$6/$CL$5*E5 -> #DIV/0! | F6: =$CL$6/$CL$5*F5 -> #DIV/0! | G6: =$CL$6/$CL$5*G5 -> #DIV/0! | H6: =$CL$6/$CL$5*H5 -> #DIV/0! | I6: =$CL$6/$CL$5*I5 -> #DIV/0! | J6: =$CL$6/$CL$5*J5 -> #DIV/0! | ... CK6: =$CL$6/$CL$5*CK5 -> #DIV/0! | CL6: 0
B7: BC. ICMS-NORMAL | C7: =C6+C5 -> #DIV/0! | D7: =D6+D5 -> #DIV/0! | E7: =E6+E5 -> #DIV/0! | F7: =F6+F5 -> #DIV/0! | G7: =G6+G5 -> #DIV/0! | H7: =H6+H5 -> #DIV/0! | I7: =I6+I5 -> #DIV/0! | J7: =J6+J5 -> #DIV/0! | ... CK7: =CK6+CK5 -> #DIV/0! | CL7: =SUM(C7:CJ7) -> #DIV/0!
B8: ICMS Normal | C8: =C7*0.12 -> #DIV/0! | D8: =D7*0.12 -> #DIV/0! | E8: =E7*0.12 -> #DIV/0! | F8: =F7*0.12 -> #DIV/0! | G8: =G7*0.12 -> #DIV/0! | H8: =H7*0.12 -> #DIV/0! | I8: =I7*0.12 -> #DIV/0! | J8: =J7*0.12 -> #DIV/0! | ... CK8: =CK7*0.12 -> #DIV/0! | CL8: =SUM(C8:CJ8) -> #DIV/0!
B9: MVA | C9: 0.5437 | D9: 0.5437 | E9: 0.5437 | F9: 0.5437 | G9: 0.5437 | H9: 0.5437 | I9: 0.4723 | J9: 0.6127 | K9: 0.5437 | L9: 0.4723 | M9: 0.4723 | N9: 0.4723 | O9: 0.4723 | P9: 0.4723 | Q9: 0.4723 | R9: 0.6127 | S9: 0.6127 | T9: 0.3242 | U9: 0.4723 | V9: 0.5437 | W9: 0.5437 | X9: 0.6245 | Y9: 0.6245 | Z9: 0.4723 | AA9: 0.4723 | AB9: 0.4723 | AC9: 0.4723 | AD9: 0.4723 | AE9: 0.4723 | AF9: 0.4723 | AG9: 0.4723 | AH9: 0.6127 | AI9: 0.6127 | AJ9: 0.6245 | AK9: 0.5437 | AL9: 0.5437 | AM9: 0.5437 | AN9: 0.5437 | AO9: 0.5437 | AP9: 0.5437 | AQ9: 0.5437 | AR9: 0.5437 | AS9: 0.5437 | AT9: 0.4723 | AU9: 0.4723 | AV9: 0.5437 | AW9: 0.6127 | AX9: 0.6245 | AY9: 0.5437 | AZ9: 0.4723 | BA9: 0.5437 | BB9: 0.6245 | BC9: 0.4723 | BD9: 0.5437 | BE9: 0.6245 | BF9: 0.4723 | BG9: 0.5437 | BH9: 0.4723 | BI9: 0.4723 | BJ9: 0.5437 | BK9: 0.6245 | BL9: 0.6127 | BM9: 0.5437 | BN9: 0.3994 | BO9: 0.5569 | BP9: 0.3994 | BQ9: 0.5569 | BR9: 0.3242 | BS9: 0.3242 | BT9: 0.3242 | BU9: 0.3242 | BV9: 0.3242 | BW9: 0.3242 | BX9: 0.3242 | BY9: 0.3242 | BZ9: 0.6127 | CA9: 0.4723 | CB9: 0.3242 | CC9: 0.6812 | CD9: 0.3994 | CE9: 0.5569 | CF9: 0.3994 | CG9: 0.5569 | CH9: 0.4723 | CI9: 0.3994 | CJ9: 0.6812 | CK9: 0.6245 | CL9: <<>>
B10: BC. ICMS-ST | C10: =C7*(1+C9) -> #DIV/0! | D10: =D7*(1+D9) -> #DIV/0! | E10: =E7*(1+E9) -> #DIV/0! | F10: =F7*(1+F9) -> #DIV/0! | G10: =G7*(1+G9) -> #DIV/0! | H10: =H7*(1+H9) -> #DIV/0! | I10: =I7*(1+I9) -> #DIV/0! | J10: =J7*(1+J9) -> #DIV/0! | ... CK10: =CK7*(1+CK9) -> #DIV/0! | CL10: =SUM(C10:CJ10) -> #DIV/0!
B11: ICMS-ST | C11: =(C10*C4)-C8 -> #DIV/0! | D11: =(D10*D4)-D8 -> #DIV/0! | E11: =(E10*E4)-E8 -> #DIV/0! | F11: =(F10*F4)-F8 -> #DIV/0! | G11: =(G10*G4)-G8 -> #DIV/0! | H11: =(H10*H4)-H8 -> #DIV/0! | I11: =(I10*I4)-I8 -> #DIV/0! | J11: =(J10*J4)-J8 -> #DIV/0! | ... CK11: =(CK10*CK4)-CK8 -> #DIV/0! | CL11: =SUM(C11:CJ11) -> #DIV/0!
B12: Valor Total da NF >>>>>>>>>>>>>>>>>>>>>>>>>>>>>>>>>>>>>>>>>>>>>>>>>>>>>>>>>>>>>>>>>>>>>>>>>>> | CL12: =SUM(CL5+CL11) -> #DIV/0!
B14: PREENCHIMENTO DA NOTA FISCAL:
B15: Valor Total dos Produtos | F15: =CL5 -> 0
B16: Base de Cálculo do ICMS | F16: <<>>
B17: Valor do ICMS | F17: <<>>
B18: Base da Cálculo do ICMS Substituição | F18: =CL10 -> #DIV/0!
B19: Valor do ICMS Substituição | F19: =CL11 -> #DIV/0!
B20: Outras Despesas Acessórias | F20: =CL6 -> 0
B21: Valor Total da Nota | F21: =SUM(F15,F19) -> #DIV/0!
B23: NO CORPO DA NF OU EM INFORMAÇÕES COMPLEMENTARES
B24: Vr. operação sujeita a ST | F24: =CL5 -> 0
B25: Vr. ICMS operação própria p/ cálculo da ST | F25: =CL11 -> #DIV/0!

Sheet ICMS ST RS
A1: ... | B1: Alterar apenas as células em AZUL | C1: LINHA CASA PERFUMADA | I1: SACHES | R1: LINHA SPA | Z1: LINHA FLOWERS | AF1: LINHA BLANC | AT1: LINHA VINTAGE | AZ1: LINHA LA VIE | BC1: LINHA GOLD | BG1: LINHA ANIMALE | BL1: LINHA BOTANICA | BP1: LINHA NUTRA INTENSE | BT1: Linha Mel / Propolis | CF1: Linha Black Tie
C2: Perf. Amb 240ml | D2: Perf. Amb 60ml | E2: Difusor amb.300ml | F2: Difusor amb.60ml | G2: Água Perf. 500ml | H2: Sachê Perf. 6g | I2: Sachê Sab. Liq. 20ml | J2: Sachê Loção 20ml | K2: Sache sais 20 g | L2: Sabonete B. 150gr | M2: Sabonete Bucha | N2: Sab Girassol | O2: Sab Hibisco | P2: Sab. Ursinho | Q2: Sab Borboleta | R2: Loção Hidra 200ml | S2: Loção Hidra 60ml | T2: Mousse 150ml | U2: Esfol. Corp 180ml | V2: Sachê sais 270 g | W2: Sachê espuma 160 ml | X2: Deo Colonia 120ml | Y2: água Colonia 300ml | Z2: Sab. Liq. 340ml | AA2: Sab. Liq. 60ml | AB2: Refil 340ml | AC2: Sab. Liq. 990ml | AD2: Refil 990ml | AE2: Kit Flowers | AF2: Sab. Liq. Blanc | AG2: Ref. Sab. Liq. Blanc | AH2: Loção Blanc | AI2: Ref. Loção Blanc | AJ2: Deo Colonia 120ml | AK2: Sais Banho Blanc | AL2: Ref S.Banho Blanc | AM2: Esp. Banho Blanc. | AN2: Ref. E. Banho Blanc. | AO2: Difusor Blanc | AP2: Ref. Difusor Blanc | AQ2: Perf. Amb. Blanc | AR2: Perf. Amb. Blanc | AS2: Sachê Perf. 6g | AT2: Sab. Liq. Vintage | AU2: Refil 340ml | AV2: Dif. Amb. Vintage | AW2: Loção vintage | AX2: Deo Colonia 120ml | AY2: Sachê Perf. 6g | AZ2: Sab Líq La vie | BA2: Difusor amb La vie | BB2: Deo Colonia 120ml | BC2: Sab Líq Gold | BD2: Difusor amb Gold | BE2: Deo Colonia 120ml | BF2: Sab Líq Gold | BG2: Difusor amb Gold | BH2: Sab Cozinheiro | BI2: Sab. Liq Animale | BJ2: Dif.Amb Animale | BK2: Loção Hidr. Animale | BL2: Deo Colonia 120ml | BM2: Sachê Perf. 6g | BN2: Shampoo 200ml | BO2: Cond. 200ml | BP2: Sache Shampoo 20ml | BQ2: Sachê Cond. 20ml | BR2: Esfoliante 60g | BS2: Mousse 150ml | BT2: Tonico 140ml | BU2: Loção 30ml | BV2: Esfoliante 60g | BW2: Mousse 150ml | BX2: Tonico 140ml | BY2: Loção 30ml | BZ2: Esfol. Corp 180ml | CA2: Sab. Liq 200ml | CB2: Creme 60g | CC2: Gel pos barba 60g | CD2: Shampoo 200ml | CE2: Cond. 200ml | CF2: Sache Shampoo 20ml | CG2: Sachê Cond. 20ml | CH2: Sab. Liq 200ml | CI2: Shampoo 200ml | CJ2: Gel pos barba 60g | CK2: Deo Colonia 120ml | CL2: Total geral
B3: Destino | C3: RS | D3: RS | E3: RS | F3: RS | G3: RS | H3: RS | I3: RS | J3: RS | K3: RS | L3: RS | M3: RS | N3: RS | O3: RS | P3: RS | Q3: RS | R3: RS | S3: RS | T3: RS | U3: RS | V3: RS | W3: RS | X3: RS | Y3: RS | Z3: RS | AA3: RS | AB3: RS | AC3: RS | AD3: RS | AE3: RS | AF3: RS | AG3: RS | AH3: RS | AI3: RS | AJ3: RS | AK3: RS | AL3: RS | AM3: RS | AN3: RS | AO3: RS | AP3: RS | AQ3: RS | AR3: RS | AS3: RS | AT3: RS | AU3: RS | AV3: RS | AW3: RS | AX3: RS | AY3: RS | AZ3: RS | BA3: RS | BB3: RS | BC3: RS | BD3: RS | BE3: RS | BF3: RS | BG3: RS | BH3: RS | BI3: RS | BJ3: RS | BK3: RS | BL3: RS | BM3: RS | BN3: RS | BO3: RS | BP3: RS | BQ3: RS | BR3: RS | BS3: RS | BT3: RS | BU3: RS | BV3: RS | BW3: RS | BX3: RS | BY3: RS | BZ3: RS | CA3: RS | CB3: RS | CC3: RS | CD3: RS | CE3: RS | CF3: RS | CG3: RS | CH3: RS | CI3: RS | CJ3: RS | CK3: RS
B4: % ICMS no estado de destino | C4: 0.18 | D4: 0.18 | E4: 0.18 | F4: 0.18 | G4: 0.18 | H4: 0.18 | I4: 0.18 | J4: 0.25 | K4: 0.25 | L4: 0.18 | M4: 0.18 | N4: 0.18 | O4: 0.18 | P4: 0.18 | Q4: 0.18 | R4: 0.25 | S4: 0.25 | T4: 0.25 | U4: 0.18 | V4: 0.25 | W4: 0.25 | X4: 0.25 | Y4: 0.25 | Z4: 0.18 | AA4: 0.18 | AB4: 0.18 | AC4: 0.18 | AD4: 0.18 | AE4: 0.18 | AF4: 0.18 | AG4: 0.18 | AH4: 0.25 | AI4: 0.25 | AJ4: 0.25 | AK4: 0.25 | AL4: 0.25 | AM4: 0.25 | AN4: 0.25 | AO4: 0.18 | AP4: 0.18 | AQ4: 0.18 | AR4: 0.18 | AS4: 0.18 | AT4: 0.18 | AU4: 0.18 | AV4: 0.18 | AW4: 0.25 | AX4: 0.25 | AY4: 0.18 | AZ4: 0.18 | BA4: 0.18 | BB4: 0.25 | BC4: 0.18 | BD4: 0.18 | BE4: 0.25 | BF4: 0.18 | BG4: 0.18 | BH4: 0.18 | BI4: 0.18 | BJ4: 0.18 | BK4: 0.25 | BL4: 0.25 | BM4: 0.18 | BN4: 0.18 | BO4: 0.25 | BP4: 0.18 | BQ4: 0.25 | BR4: 0.25 | BS4: 0.25 | BT4: 0.25 | BU4: 0.25 | BV4: 0.25 | BW4: 0.25 | BX4: 0.25 | BY4: 0.25 | BZ4: 0.18 | CA4: 0.18 | CB4: 0.25 | CC4: 0.25 | CD4: 0.18 | CE4: 0.25 | CF4: 0.18 | CG4: 0.25 | CH4: 0.18 | CI4: 0.18 | CJ4: 0.25 | CK4: 0.25 | CL4: TOTAL
B5: Valor do Produtos | C5: =Pedido!Y9 -> 0 | D5: =Pedido!Y10 -> 0 | E5: =Pedido!Y11 -> 0 | F5: =Pedido!Y12 -> 0 | G5: =Pedido!Y13 -> 0 | H5: =Pedido!Y14 -> 0 | I5: =Pedido!Y16 -> 0 | J5: =Pedido!Y17 -> 0 | K5: =Pedido!Y18 -> 0 | L5: =Pedido!Y20 -> 0 | M5: =Pedido!Y21 -> 0 | N5: =Pedido!Y22 -> 0 | O5: =Pedido!Y23 -> 0 | P5: =Pedido!Y24 -> 0 | Q5: =Pedido!Y25 -> 0 | R5: =Pedido!Y26 -> 0 | S5: =Pedido!Y27 -> 0 | T5: =Pedido!Y28 -> 0 | U5: =Pedido!Y29 -> 0 | V5: =Pedido!Y30 -> 0 | W5: =Pedido!Y31 -> 0 | X5: =Pedido!Y32 -> 0 | Y5: =Pedido!Y33 -> 0 | Z5: =Pedido!Y35 -> 0 | AA5: =Pedido!Y36 -> 0 | AB5: =Pedido!Y37 -> 0 | AC5: =Pedido!Y38 -> 0 | AD5: =Pedido!Y39 -> 0 | AE5: =SUM(Pedido!Y40:Y41) -> 0 | AF5: =Pedido!Y43 -> 0 | AG5: =Pedido!Y44 -> 0 | AH5: =Pedido!Y45 -> 0 | AI5: =Pedido!Y46 -> 0 | AJ5: =Pedido!Y47 -> 0 | AK5: =Pedido!Y48 -> 0 | AL5: =Pedido!Y49 -> 0 | AM5: =Pedido!Y50 -> 0 | AN5: =Pedido!Y51 -> 0 | AO5: =Pedido!Y52 -> 0 | AP5: =Pedido!Y53 -> 0 | AQ5: =Pedido!Y54 -> 0 | AR5: =Pedido!Y55 -> 0 | AS5: =Pedido!Y56 -> 0 | AT5: =Pedido!Y58 -> 0 | AU5: =Pedido!Y59 -> 0 | AV5: =Pedido!Y60 -> 0 | AW5: =Pedido!Y61 -> 0 | AX5: =Pedido!Y62 -> 0 | AY5: =Pedido!Y63 -> 0 | AZ5: =Pedido!Y65 -> 0 | BA5: =Pedido!Y66 -> 0 | BB5: =Pedido!Y67 -> 0 | BC5: =SUM(Pedido!Y69:Y70) -> 0 | BD5: =SUM(Pedido!Y71:Y72) -> 0 | BE5: =Pedido!Y73 -> 0 | BF5: =SUM(Pedido!Y75:Y76) -> 0 | BG5: =SUM(Pedido!Y77:Y78) -> 0 | BH5: =SUM(Pedido!Y80:Y82) -> 0 | BI5: =Pedido!Y84 -> 0 | BJ5: =Pedido!Y85 -> 0 | BK5: =Pedido!Y86 -> 0 | BL5: =Pedido!Y87 -> 0 | BM5: =Pedido!Y88 -> 0 | BN5: =Pedido!Y91 -> 0 | BO5: =Pedido!Y92 -> 0 | BP5: =Pedido!Y93 -> 0 | BQ5: =Pedido!Y94 -> 0 | BR5: =Pedido!Y97 -> 0 | BS5: =Pedido!Y98 -> 0 | BT5: =Pedido!Y99 -> 0 | BU5: =Pedido!Y100 -> 0 | BV5: =Pedido!Y103 -> 0 | BW5: =Pedido!Y104 -> 0 | BX5: =Pedido!Y105 -> 0 | BY5: =Pedido!Y106 -> 0 | BZ5: =Pedido!Y107 -> 0 | CA5: =Pedido!Y108 -> 0 | CB5: =Pedido!Y109 -> 0 | CC5: =Pedido!Y110 -> 0 | CD5: =Pedido!Y113 -> 0 | CE5: =Pedido!Y114 -> 0 | CF5: =Pedido!Y115 -> 0 | CG5: =Pedido!Y116 -> 0 | CH5: =Pedido!Y118 -> 0 | CI5: =Pedido!Y119 -> 0 | CJ5: =Pedido!Y120 -> 0 | CK5: =Pedido!Y121 -> 0 | CL5: =SUM(C5:CK5) -> 0
B6: Despesas Acessórias | C6: =$CL$6/$CL$5*C5 -> #DIV/0! | D6: =$CL$6/$CL$5*D5 -> #DIV/0! | E6: =$CL$6/$CL$5*E5 -> #DIV/0! | F6: =$CL$6/$CL$5*F5 -> #DIV/0! | G6: =$CL$6/$CL$5*G5 -> #DIV/0! | H6: =$CL$6/$CL$5*H5 -> #DIV/0! | I6: =$CL$6/$CL$5*I5 -> #DIV/0! | J6: =$CL$6/$CL$5*J5 -> #DIV/0! | ... CK6: =$CL$6/$CL$5*CK5 -> #DIV/0! | CL6: 0
B7: BC. ICMS-NORMAL | C7: =C6+C5 -> #DIV/0! | D7: =D6+D5 -> #DIV/0! | E7: =E6+E5 -> #DIV/0! | F7: =F6+F5 -> #DIV/0! | G7: =G6+G5 -> #DIV/0! | H7: =H6+H5 -> #DIV/0! | I7: =I6+I5 -> #DIV/0! | J7: =J6+J5 -> #DIV/0! | ... CK7: =CK6+CK5 -> #DIV/0! | CL7: =SUM(C7:CJ7) -> #DIV/0!
B8: ICMS Normal | C8: =C7*0.12 -> #DIV/0! | D8: =D7*0.12 -> #DIV/0! | E8: =E7*0.12 -> #DIV/0! | F8: =F7*0.12 -> #DIV/0! | G8: =G7*0.12 -> #DIV/0! | H8: =H7*0.12 -> #DIV/0! | I8: =I7*0.12 -> #DIV/0! | J8: =J7*0.12 -> #DIV/0! | ... CK8: =CK7*0.12 -> #DIV/0! | CL8: =SUM(C8:CJ8) -> #DIV/0!
B9: MVA | C9: 0.5215 | D9: 0.5215 | E9: 0.5215 | F9: 0.5215 | G9: 0.5215 | H9: 0.5215 | I9: 0.4561 | J9: 0.596 | K9: 0.5215 | L9: 0.4561 | M9: 0.4561 | N9: 0.4561 | O9: 0.4561 | P9: 0.4561 | Q9: 0.4561 | R9: 0.5215 | S9: 0.5715 | T9: 0.3224 | U9: 0.4561 | V9: 0.5215 | W9: 0.5215 | X9: 0.5715 | Y9: 0.5715 | Z9: 0.4561 | AA9: 0.4561 | AB9: 0.4561 | AC9: 0.4561 | AD9: 0.4561 | AE9: 0.4561 | AF9: 0.4561 | AG9: 0.4561 | AH9: 0.596 | AI9: 0.596 | AJ9: 0.5715 | AK9: 0.5215 | AL9: 0.5215 | AM9: 0.5215 | AN9: 0.5215 | AO9: 0.5215 | AP9: 0.5215 | AQ9: 0.5215 | AR9: 0.5215 | AS9: 0.5215 | AT9: 0.4561 | AU9: 0.4561 | AV9: 0.4561 | AW9: 0.596 | AX9: 0.5715 | AY9: 0.5215 | AZ9: 0.4561 | BA9: 0.5215 | BB9: 0.5715 | BC9: 0.4561 | BD9: 0.5215 | BE9: 0.5715 | BF9: 0.4561 | BG9: 0.5215 | BH9: 0.4561 | BI9: 0.4561 | BJ9: 0.5215 | BK9: 0.596 | BL9: 0.5715 | BM9: 0.5215 | BN9: 0.3793 | BO9: 0.5393 | BP9: 0.3793 | BQ9: 0.5393 | BR9: 0.3224 | BS9: 0.3224 | BT9: 0.3224 | BU9: 0.3224 | BV9: 0.3224 | BW9: 0.3224 | BX9: 0.3224 | BY9: 0.3224 | BZ9: 0.4561 | CA9: 0.4561 | CB9: 0.596 | CC9: 0.6718 | CD9: 0.3793 | CE9: 0.5393 | CF9: 0.3793 | CG9: 0.5393 | CH9: 0.4561 | CI9: 0.3793 | CJ9: 0.6718 | CK9: 0.5715 | CL9: <<>>
B10: BC. ICMS-ST | C10: =C7*(1+C9) -> #DIV/0! | D10: =D7*(1+D9) -> #DIV/0! | E10: =E7*(1+E9) -> #DIV/0! | F10: =F7*(1+F9) -> #DIV/0! | G10: =G7*(1+G9) -> #DIV/0! | H10: =H7*(1+H9) -> #DIV/0! | I10: =I7*(1+I9) -> #DIV/0! | J10: =J7*(1+J9) -> #DIV/0! | ... CK10: =CK7*(1+CK9) -> #DIV/0! | CL10: =SUM(C10:CJ10) -> #DIV/0!
B11: ICMS-ST | C11: =(C10*C4)-C8 -> #DIV/0! | D11: =(D10*D4)-D8 -> #DIV/0! | E11: =(E10*E4)-E8 -> #DIV/0! | F11: =(F10*F4)-F8 -> #DIV/0! | G11: =(G10*G4)-G8 -> #DIV/0! | H11: =(H10*H4)-H8 -> #DIV/0! | I11: =(I10*I4)-I8 -> #DIV/0! | J11: =(J10*J4)-J8 -> #DIV/0! | ... CK11: =(CK10*CK4)-CK8 -> #DIV/0! | CL11: =SUM(C11:CJ11) -> #DIV/0!
B12: Valor Total da NF >>>>>>>>>>>>>>>>>>>>>>>>>>>>>>>>>>>>>>>>>>>>>>>>>>>>>>>>>>>>>>>>>>>>>>>>>>> | CL12: =SUM(CL5+CL11) -> #DIV/0!
B14: PREENCHIMENTO DA NOTA FISCAL:
B15: Valor Total dos Produtos | F15: =CL5 -> 0
B16: Base de Cálculo do ICMS | F16: <<>>
B17: Valor do ICMS | F17: <<>>
B18: Base da Cálculo do ICMS Substituição | F18: =CL10 -> #DIV/0!
B19: Valor do ICMS Substituição | F19: =CL11 -> #DIV/0!
B20: Outras Despesas Acessórias | F20: =CL6 -> 0
B21: Valor Total da Nota | F21: =SUM(F15,F19) -> #DIV/0!
B23: NO CORPO DA NF OU EM INFORMAÇÕES COMPLEMENTARES
B24: Vr. operação sujeita a ST | F24: =CL5 -> 0
B25: Vr. ICMS operação própria p/ cálculo da ST | F25: =CL11 -> #DIV/0!

Sheet ICMS ST PR
A1: ... | B1: Alterar apenas as células em AZUL | C1: LINHA CASA PERFUMADA | I1: SACHES | R1: LINHA SPA | Z1: LINHA FLOWERS | AF1: LINHA BLANC | AT1: LINHA VINTAGE | AZ1: LINHA LA VIE | BC1: LINHA GOLD | BG1: LINHA ANIMALE | BL1: LINHA BOTANICA | BP1: LINHA NUTRA INTENSE | BT1: Linha Mel / Propolis | CF1: Linha Black Tie
C2: Perf. Amb 240ml | D2: Perf. Amb 60ml | E2: Difusor amb.300ml | F2: Difusor amb.60ml | G2: Água Perf. 500ml | H2: Sachê Perf. 6g | I2: Sachê Sab. Liq. 20ml | J2: Sachê Loção 20ml | K2: Sache sais 20 g | L2: Sabonete B. 150gr | M2: Sabonete Bucha | N2: Sab Girassol | O2: Sab Hibisco | P2: Sab. Ursinho | Q2: Sab Borboleta | R2: Loção Hidra 200ml | S2: Loção Hidra 60ml | T2: Mousse 150ml | U2: Esfol. Corp 180ml | V2: Sachê sais 270 g | W2: Sachê espuma 160 ml | X2: Deo Colonia 120ml | Y2: água Colonia 300ml | Z2: Sab. Liq. 340ml | AA2: Sab. Liq. 60ml | AB2: Refil 340ml | AC2: Sab. Liq. 990ml | AD2: Refil 990ml | AE2: Kit Flowers | AF2: Sab. Liq. Blanc | AG2: Ref. Sab. Liq. Blanc | AH2: Loção Blanc | AI2: Ref. Loção Blanc | AJ2: Deo Colonia 120ml | AK2: Sais Banho Blanc | AL2: Ref S.Banho Blanc | AM2: Esp. Banho Blanc. | AN2: Ref. E. Banho Blanc. | AO2: Difusor Blanc | AP2: Ref. Difusor Blanc | AQ2: Perf. Amb. Citrone | AR2: Perf. Amb. Blanc | AS2: Sachê Perf. 6g | AT2: Sab. Liq. Vintage | AU2: Refil 340ml | AV2: Dif. Amb. Vintage | AW2: Loção vintage | AX2: Deo Colonia 120ml | AY2: Sachê Perf. 6g | AZ2: Sab Líq La vie | BA2: Difusor amb La vie | BB2: Deo Colonia 120ml | BC2: Sab Líq Gold | BD2: Difusor amb Gold | BE2: Deo Colonia 120ml | BF2: Sab Líq Gold Per | BG2: Difusor amb Gold P | BH2: Sab Cozinheiro | BI2: Sab. Liq Animale | BJ2: Dif.Amb Animale | BK2: Loção Hidr. Animale | BL2: Deo Colonia 120ml | BM2: Sachê Perf. 6g | BN2: Shampoo 200ml | BO2: Cond. 200ml | BP2: Sache Shampoo 20ml | BQ2: Sachê Cond. 20ml | BR2: Esfoliante 60g | BS2: Mousse 150ml | BT2: Tonico 140ml | BU2: Loção 30ml | BV2: Esfoliante 60g | BW2: Mousse 150ml | BX2: Tonico 140ml | BY2: Loção 30ml | BZ2: Esfol. Corp 180ml | CA2: Sab. Liq 200ml | CB2: Creme 60g | CC2: Gel pos barba 60g | CD2: Shampoo 200ml | CE2: Cond. 200ml | CF2: Sache Shampoo 20ml | CG2: Sachê Cond. 20ml | CH2: Sab. Liq 200ml | CI2: Shampoo 200ml | CJ2: Gel pos barba 60g | CK2: Deo Colonia 120ml | CL2: Total geral
B3: Destino | C3: PR | D3: PR | E3: PR | F3: PR | G3: PR | H3: PR | I3: PR | J3: PR | K3: PR | L3: PR | M3: PR | N3: PR | O3: PR | P3: PR | Q3: PR | R3: PR | S3: PR | T3: PR | U3: PR | V3: PR | W3: PR | X3: PR | Y3: PR | Z3: PR | AA3: PR | AB3: PR | AC3: PR | AD3: PR | AE3: PR | AF3: PR | AG3: PR | AH3: PR | AI3: PR | AJ3: PR | AK3: PR | AL3: PR | AM3: PR | AN3: PR | AO3: PR | AP3: PR | AQ3: PR | AR3: PR | AS3: PR | AT3: PR | AU3: PR | AV3: PR | AW3: PR | AX3: PR | AY3: PR | AZ3: PR | BA3: PR | BB3: PR | BC3: PR | BD3: PR | BE3: PR | BF3: PR | BG3: PR | BH3: PR | BI3: PR | BJ3: PR | BK3: PR | BL3: PR | BM3: PR | BN3: PR | BO3: PR | BP3: PR | BQ3: PR | BR3: PR | BS3: PR | BT3: PR | BU3: PR | BV3: PR | BW3: PR | BX3: PR | BY3: PR | BZ3: PR | CA3: PR | CB3: PR | CC3: PR | CD3: PR | CE3: PR | CF3: PR | CG3: PR | CH3: PR | CI3: PR | CJ3: PR | CK3: PR
B4: % ICMS no estado de destino | C4: 0.18 | D4: 0.18 | E4: 0.18 | F4: 0.18 | G4: 0.18 | H4: 0.18 | I4: 0.18 | J4: 0.25 | K4: 0.25 | L4: 0.18 | M4: 0.18 | N4: 0.18 | O4: 0.18 | P4: 0.18 | Q4: 0.18 | R4: 0.25 | S4: 0.25 | T4: 0.25 | U4: 0.18 | V4: 0.25 | W4: 0.25 | X4: 0.25 | Y4: 0.25 | Z4: 0.18 | AA4: 0.18 | AB4: 0.18 | AC4: 0.18 | AD4: 0.18 | AE4: 0.18 | AF4: 0.18 | AG4: 0.18 | AH4: 0.25 | AI4: 0.25 | AJ4: 0.25 | AK4: 0.25 | AL4: 0.25 | AM4: 0.25 | AN4: 0.25 | AO4: 0.18 | AP4: 0.18 | AQ4: 0.18 | AR4: 0.18 | AS4: 0.18 | AT4: 0.18 | AU4: 0.18 | AV4: 0.18 | AW4: 0.25 | AX4: 0.25 | AY4: 0.18 | AZ4: 0.18 | BA4: 0.18 | BB4: 0.25 | BC4: 0.18 | BD4: 0.18 | BE4: 0.25 | BF4: 0.18 | BG4: 0.18 | BH4: 0.18 | BI4: 0.18 | BJ4: 0.18 | BK4: 0.25 | BL4: 0.25 | BM4: 0.18 | BN4: 0.18 | BO4: 0.25 | BP4: 0.18 | BQ4: 0.25 | BR4: 0.25 | BS4: 0.25 | BT4: 0.25 | BU4: 0.25 | BV4: 0.25 | BW4: 0.25 | BX4: 0.25 | BY4: 0.25 | BZ4: 0.18 | CA4: 0.18 | CB4: 0.25 | CC4: 0.25 | CD4: 0.18 | CE4: 0.25 | CF4: 0.18 | CG4: 0.25 | CH4: 0.18 | CI4: 0.18 | CJ4: 0.25 | CK4: 0.25 | CL4: TOTAL
B5: Valor do Produtos | C5: =Pedido!Y9 -> 0 | D5: =Pedido!Y10 -> 0 | E5: =Pedido!Y11 -> 0 | F5: =Pedido!Y12 -> 0 | G5: =Pedido!Y13 -> 0 | H5: =Pedido!Y14 -> 0 | I5: =Pedido!Y16 -> 0 | J5: =Pedido!Y17 -> 0 | K5: =Pedido!Y18 -> 0 | L5: =Pedido!Y20 -> 0 | M5: =Pedido!Y21 -> 0 | N5: =Pedido!Y22 -> 0 | O5: =Pedido!Y23 -> 0 | P5: =Pedido!Y24 -> 0 | Q5: =Pedido!Y25 -> 0 | R5: =Pedido!Y26 -> 0 | S5: =Pedido!Y27 -> 0 | T5: =Pedido!Y28 -> 0 | U5: =Pedido!Y29 -> 0 | V5: =Pedido!Y30 -> 0 | W5: =Pedido!Y31 -> 0 | X5: =Pedido!Y32 -> 0 | Y5: =Pedido!Y33 -> 0 | Z5: =Pedido!Y35 -> 0 | AA5: =Pedido!Y36 -> 0 | AB5: =Pedido!Y37 -> 0 | AC5: =Pedido!Y38 -> 0 | AD5: =Pedido!Y39 -> 0 | AE5: =SUM(Pedido!Y40:Y41) -> 0 | AF5: =Pedido!Y43 -> 0 | AG5: =Pedido!Y44 -> 0 | AH5: =Pedido!Y45 -> 0 | AI5: =Pedido!Y46 -> 0 | AJ5: =Pedido!Y47 -> 0 | AK5: =Pedido!Y48 -> 0 | AL5: =Pedido!Y49 -> 0 | AM5: =Pedido!Y50 -> 0 | AN5: =Pedido!Y51 -> 0 | AO5: =Pedido!Y52 -> 0 | AP5: =Pedido!Y53 -> 0 | AQ5: =Pedido!Y54 -> 0 | AR5: =Pedido!Y55 -> 0 | AS5: =Pedido!Y56 -> 0 | AT5: =Pedido!Y58 -> 0 | AU5: =Pedido!Y59 -> 0 | AV5: =Pedido!Y60 -> 0 | AW5: =Pedido!Y61 -> 0 | AX5: =Pedido!Y62 -> 0 | AY5: =Pedido!Y63 -> 0 | AZ5: =Pedido!Y65 -> 0 | BA5: =Pedido!Y66 -> 0 | BB5: =Pedido!Y67 -> 0 | BC5: =SUM(Pedido!Y69:Y70) -> 0 | BD5: =SUM(Pedido!Y71:Y72) -> 0 | BE5: =Pedido!Y73 -> 0 | BF5: =SUM(Pedido!Y75:Y76) -> 0 | BG5: =SUM(Pedido!Y77:Y78) -> 0 | BH5: =SUM(Pedido!Y80:Y82) -> 0 | BI5: =Pedido!Y84 -> 0 | BJ5: =Pedido!Y85 -> 0 | BK5: =Pedido!Y86 -> 0 | BL5: =Pedido!Y87 -> 0 | BM5: =Pedido!Y88 -> 0 | BN5: =Pedido!Y91 -> 0 | BO5: =Pedido!Y92 -> 0 | BP5: =Pedido!Y93 -> 0 | BQ5: =Pedido!Y94 -> 0 | BR5: =Pedido!Y97 -> 0 | BS5: =Pedido!Y98 -> 0 | BT5: =Pedido!Y99 -> 0 | BU5: =Pedido!Y100 -> 0 | BV5: =Pedido!Y103 -> 0 | BW5: =Pedido!Y104 -> 0 | BX5: =Pedido!Y105 -> 0 | BY5: =Pedido!Y106 -> 0 | BZ5: =Pedido!Y107 -> 0 | CA5: =Pedido!Y108 -> 0 | CB5: =Pedido!Y109 -> 0 | CC5: =Pedido!Y110 -> 0 | CD5: =Pedido!Y113 -> 0 | CE5: =Pedido!Y114 -> 0 | CF5: =Pedido!Y115 -> 0 | CG5: =Pedido!Y116 -> 0 | CH5: =Pedido!Y118 -> 0 | CI5: =Pedido!Y119 -> 0 | CJ5: =Pedido!Y120 -> 0 | CK5: =Pedido!Y121 -> 0 | CL5: =SUM(C5:CK5) -> 0
B6: Despesas Acessórias | C6: =$CL$6/$CL$5*C5 -> #DIV/0! | D6: =$CL$6/$CL$5*D5 -> #DIV/0! | E6: =$CL$6/$CL$5*E5 -> #DIV/0! | F6: =$CL$6/$CL$5*F5 -> #DIV/0! | G6: =$CL$6/$CL$5*G5 -> #DIV/0! | H6: =$CL$6/$CL$5*H5 -> #DIV/0! | I6: =$CL$6/$CL$5*I5 -> #DIV/0! | J6: =$CL$6/$CL$5*J5 -> #DIV/0! | ... CK6: =$CL$6/$CL$5*CK5 -> #DIV/0! | CL6: 0
B7: BC. ICMS-NORMAL | C7: =C6+C5 -> #DIV/0! | D7: =D6+D5 -> #DIV/0! | E7: =E6+E5 -> #DIV/0! | F7: =F6+F5 -> #DIV/0! | G7: =G6+G5 -> #DIV/0! | H7: =H6+H5 -> #DIV/0! | I7: =I6+I5 -> #DIV/0! | J7: =J6+J5 -> #DIV/0! | ... CK7: =CK6+CK5 -> #DIV/0! | CL7: =SUM(C7:CJ7) -> #DIV/0!
B8: ICMS Normal | C8: =C7*0.12 -> #DIV/0! | D8: =D7*0.12 -> #DIV/0! | E8: =E7*0.12 -> #DIV/0! | F8: =F7*0.12 -> #DIV/0! | G8: =G7*0.12 -> #DIV/0! | H8: =H7*0.12 -> #DIV/0! | I8: =I7*0.12 -> #DIV/0! | J8: =J7*0.12 -> #DIV/0! | ... CK8: =CK7*0.12 -> #DIV/0! | CL8: =SUM(C8:CJ8) -> #DIV/0!
B9: MVA | C9: 0.51 | D9: 0.51 | E9: 0.51 | F9: 0.51 | G9: 0.51 | H9: 0.51 | I9: 0.51 | J9: 0.28 | K9: 0.51 | L9: 0.51 | M9: 0.51 | N9: 0.51 | O9: 0.51 | P9: 0.51 | Q9: 0.51 | R9: 0.28 | S9: 0.28 | T9: 0.28 | U9: 0.51 | V9: 0.51 | W9: 0.51 | X9: 0.74 | Y9: 0.74 | Z9: 0.51 | AA9: 0.51 | AB9: 0.51 | AC9: 0.51 | AD9: 0.51 | AE9: 0.51 | AF9: 0.51 | AG9: 0.51 | AH9: 0.28 | AI9: 0.28 | AJ9: 0.74 | AK9: 0.51 | AL9: 0.51 | AM9: 0.51 | AN9: 0.51 | AO9: 0.51 | AP9: 0.51 | AQ9: 0.51 | AR9: 0.51 | AS9: 0.51 | AT9: 0.51 | AU9: 0.51 | AV9: 0.51 | AW9: 0.28 | AX9: 0.74 | AY9: 0.51 | AZ9: 0.51 | BA9: 0.51 | BB9: 0.74 | BC9: 0.51 | BD9: 0.51 | BE9: 0.74 | BF9: 0.51 | BG9: 0.51 | BH9: 0.51 | BI9: 0.51 | BJ9: 0.51 | BK9: 0.28 | BL9: 0.74 | BM9: 0.51 | BN9: 0.31 | BO9: 0.4 | BP9: 0.31 | BQ9: 0.4 | BR9: 0.28 | BS9: 0.28 | BT9: 0.28 | BU9: 0.28 | BV9: 0.28 | BW9: 0.28 | BX9: 0.28 | BY9: 0.28 | BZ9: 0.51 | CA9: 0.51 | CB9: 0.28 | CC9: 0.76 | CD9: 0.31 | CE9: 0.4 | CF9: 0.31 | CG9: 0.4 | CH9: 0.51 | CI9: 0.31 | CJ9: 0.76 | CK9: 0.74 | CL9: <<>>
B10: BC. ICMS-ST | C10: =C7*(1+C9) -> #DIV/0! | D10: =D7*(1+D9) -> #DIV/0! | E10: =E7*(1+E9) -> #DIV/0! | F10: =F7*(1+F9) -> #DIV/0! | G10: =G7*(1+G9) -> #DIV/0! | H10: =H7*(1+H9) -> #DIV/0! | I10: =I7*(1+I9) -> #DIV/0! | J10: =J7*(1+J9) -> #DIV/0! | ... CK10: =CK7*(1+CK9) -> #DIV/0! | CL10: =SUM(C10:CJ10) -> #DIV/0!
B11: ICMS-ST | C11: =(C10*C4)-C8 -> #DIV/0! | D11: =(D10*D4)-D8 -> #DIV/0! | E11: =(E10*E4)-E8 -> #DIV/0! | F11: =(F10*F4)-F8 -> #DIV/0! | G11: =(G10*G4)-G8 -> #DIV/0! | H11: =(H10*H4)-H8 -> #DIV/0! | I11: =(I10*I4)-I8 -> #DIV/0! | J11: =(J10*J4)-J8 -> #DIV/0! | ... CK11: =(CK10*CK4)-CK8 -> #DIV/0! | CL11: =SUM(C11:CJ11) -> #DIV/0!
B12: Valor Total da NF >>>>>>>>>>>>>>>>>>>>>>>>>>>>>>>>>>>>>>>>>>>>>>>>>>>>>>>>>>>>>>>>>>>>>>>>>>> | CL12: =SUM(CL5+CL11) -> #DIV/0!
B14: PREENCHIMENTO DA NOTA FISCAL:
B15: Valor Total dos Produtos | F15: =CL5 -> 0
B16: Base de Cálculo do ICMS | F16: <<>>
B17: Valor do ICMS | F17: <<>>
B18: Base da Cálculo do ICMS Substituição | F18: =CL10 -> #DIV/0!
B19: Valor do ICMS Substituição | F19: =CL11 -> #DIV/0!
B20: Outras Despesas Acessórias | F20: =CL6 -> 0
B21: Valor Total da Nota | F21: =SUM(F15,F19) -> #DIV/0!
B23: NO CORPO DA NF OU EM INFORMAÇÕES COMPLEMENTARES
B24: Vr. operação sujeita a ST | F24: =CL5 -> 0
B25: Vr. ICMS operação própria p/ cálculo da ST | F25: =CL11 -> #DIV/0!

Sheet ICMS ST SC
A1: ... | B1: Alterar apenas as células em AZUL | C1: LINHA CASA PERFUMADA | I1: SACHES | R1: LINHA SPA | Z1: LINHA FLOWERS | AF1: LINHA BLANC | AT1: LINHA VINTAGE | AZ1: LINHA LA VIE | BC1: LINHA GOLD | BG1: LINHA ANIMALE | BL1: LINHA BOTANICA | BP1: LINHA NUTRA INTENSE | BT1: Linha Mel / Propolis | CF1: Linha Black Tie
C2: Perf. Amb 240ml | D2: Perf. Amb 60ml | E2: Difusor amb.300ml | F2: Difusor amb.60ml | G2: Água Perf. 500ml | H2: Sachê Perf. 6g | I2: Sachê Sab. Liq. 20ml | J2: Sachê Loção 20ml | K2: Sache sais 20 g | L2: Sabonete B. 150gr | M2: Sabonete Bucha | N2: Sab Girassol | O2: Sab Hibisco | P2: Sab. Ursinho | Q2: Sab Borboleta | R2: Loção Hidra 200ml | S2: Loção Hidra 60ml | T2: Mousse 150ml | U2: Esfol. Corp 180ml | V2: Sachê sais 270 g | W2: Sachê espuma 160 ml | X2: Deo Colonia 120ml | Y2: água Colonia 300ml | Z2: Sab. Liq. 340ml | AA2: Sab. Liq. 60ml | AB2: Refil 340ml | AC2: Sab. Liq. 990ml | AD2: Refil 990ml | AE2: Kit Flowers | AF2: Sab. Liq. Blanc | AG2: Ref. Sab. Liq. Blanc | AH2: Loção Blanc | AI2: Ref. Loção Blanc | AJ2: Deo Colonia 120ml | AK2: Sais Banho Blanc | AL2: Ref S.Banho Blanc | AM2: Esp. Banho Blanc. | AN2: Ref. E. Banho Blanc. | AO2: Difusor Blanc | AP2: Ref. Difusor Blanc | AQ2: Perf. Amb. Citrone | AR2: Perf. Amb. Blanc | AS2: Sachê Perf. 6g | AT2: Sab. Liq. Vintage | AU2: Refil 340ml | AV2: Dif. Amb. Vintage | AW2: Loção vintage | AX2: Deo Colonia 120ml | AY2: Sachê Perf. 6g | AZ2: Sab Líq La vie | BA2: Difusor amb La vie | BB2: Deo Colonia 120ml | BC2: Sab Líq Gold | BD2: Difusor amb Gold | BE2: Deo Colonia 120ml | BF2: Sab Cozinheiro | BG2: Sab. Liq Animale | BH2: Dif.Amb Animale | BI2: Loção Hidr. Animale | BJ2: Deo Colonia 120ml | BK2: Sachê Perf. 6g | BL2: Shampoo 200ml | BM2: Cond. 200ml | BN2: Sache Shampoo 20ml | BO2: Sachê Cond. 20ml | BP2: Esfoliante 60g | BQ2: Mousse 150ml | BR2: Tonico 140ml | BS2: Loção 30ml | BT2: Esfoliante 60g | BU2: Mousse 150ml | BV2: Tonico 140ml | BW2: Loção 30ml | BX2: Esfol. Corp 180ml | BY2: Sab. Liq 200ml | BZ2: Creme 60g | CA2: Gel pos barba 60g | CB2: Shampoo 200ml | CC2: Cond. 200ml | CD2: Sache Shampoo 20ml | CE2: Sachê Cond. 20ml | CF2: Sab. Liq 200ml | CG2: Shampoo 200ml | CH2: Gel pos barba 60g | CI2: Deo Colonia 120ml | CJ2: Total geral
B3: Destino | C3: SC | D3: SC | E3: SC | F3: SC | G3: SC | H3: SC | I3: SC | J3: SC | K3: SC | L3: PR | M3: PR | N3: PR | O3: PR | P3: PR | Q3: PR | R3: SC | S3: SC | T3: SC | U3: SC | V3: SC | W3: SC | X3: SC | Y3: SC | Z3: SC | AA3: SC | AB3: SC | AC3: SC | AD3: SC | AE3: SC | AF3: SC | AG3: SC | AH3: SC | AI3: SC | AJ3: SC | AK3: SC | AL3: SC | AM3: SC | AN3: SC | AO3: SC | AP3: SC | AQ3: SC | AR3: SC | AS3: SC | AT3: SC | AU3: SC | AV3: SC | AW3: SC | AX3: SC | AY3: SC | AZ3: SC | BA3: SC | BB3: SC | BC3: SC | BD3: SC | BE3: SC | BF3: SC | BG3: SC | BH3: SC | BI3: SC | BJ3: SC | BK3: SC | BL3: SC | BM3: SC | BN3: SC | BO3: SC | BP3: SC | BQ3: SC | BR3: SC | BS3: SC | BT3: SC | BU3: SC | BV3: SC | BW3: SC | BX3: SC | BY3: SC | BZ3: SC | CA3: SC | CB3: SC | CC3: SC | CD3: SC | CE3: SC | CF3: SC | CG3: SC | CH3: SC | CI3: SC
B4: % ICMS no estado de destino | C4: 0.18 | D4: 0.18 | E4: 0.18 | F4: 0.18 | G4: 0.18 | H4: 0.18 | I4: 0.18 | J4: 0.25 | K4: 0.25 | L4: 0.18 | M4: 0.18 | N4: 0.18 | O4: 0.18 | P4: 0.18 | Q4: 0.18 | R4: 0.25 | S4: 0.25 | T4: 0.25 | U4: 0.18 | V4: 0.25 | W4: 0.25 | X4: 0.25 | Y4: 0.25 | Z4: 0.18 | AA4: 0.18 | AB4: 0.18 | AC4: 0.18 | AD4: 0.18 | AE4: 0.18 | AF4: 0.18 | AG4: 0.18 | AH4: 0.25 | AI4: 0.25 | AJ4: 0.25 | AK4: 0.25 | AL4: 0.25 | AM4: 0.25 | AN4: 0.25 | AO4: 0.18 | AP4: 0.18 | AQ4: 0.18 | AR4: 0.18 | AS4: 0.18 | AT4: 0.18 | AU4: 0.18 | AV4: 0.18 | AW4: 0.25 | AX4: 0.25 | AY4: 0.18 | AZ4: 0.18 | BA4: 0.18 | BB4: 0.25 | BC4: 0.18 | BD4: 0.18 | BE4: 0.25 | BF4: 0.18 | BG4: 0.18 | BH4: 0.18 | BI4: 0.25 | BJ4: 0.25 | BK4: 0.18 | BL4: 0.18 | BM4: 0.25 | BN4: 0.18 | BO4: 0.25 | BP4: 0.25 | BQ4: 0.25 | BR4: 0.25 | BS4: 0.25 | BT4: 0.25 | BU4: 0.25 | BV4: 0.25 | BW4: 0.25 | BX4: 0.18 | BY4: 0.18 | BZ4: 0.25 | CA4: 0.25 | CB4: 0.18 | CC4: 0.25 | CD4: 0.18 | CE4: 0.25 | CF4: 0.18 | CG4: 0.18 | CH4: 0.25 | CI4: 0.25 | CJ4: TOTAL
B5: Valor do Produtos | C5: =Pedido!Y9 -> 0 | D5: =Pedido!Y10 -> 0 | E5: =Pedido!Y11 -> 0 | F5: =Pedido!Y12 -> 0 | G5: =Pedido!Y13 -> 0 | H5: =Pedido!Y14 -> 0 | I5: =Pedido!Y16 -> 0 | J5: =Pedido!Y17 -> 0 | K5: =Pedido!Y18 -> 0 | L5: =Pedido!Y20 -> 0 | M5: =Pedido!Y21 -> 0 | N5: =Pedido!Y22 -> 0 | O5: =Pedido!Y23 -> 0 | P5: =Pedido!Y24 -> 0 | Q5: =Pedido!Y25 -> 0 | R5: =Pedido!Y26 -> 0 | S5: =Pedido!Y27 -> 0 | T5: =Pedido!Y28 -> 0 | U5: =Pedido!Y29 -> 0 | V5: =Pedido!Y30 -> 0 | W5: =Pedido!Y31 -> 0 | X5: =Pedido!Y32 -> 0 | Y5: =Pedido!Y33 -> 0 | Z5: =Pedido!Y35 -> 0 | AA5: =Pedido!Y36 -> 0 | AB5: =Pedido!Y37 -> 0 | AC5: =Pedido!Y38 -> 0 | AD5: =Pedido!Y39 -> 0 | AE5: =SUM(Pedido!Y40:Y41) -> 0 | AF5: =Pedido!Y43 -> 0 | AG5: =Pedido!Y44 -> 0 | AH5: =Pedido!Y45 -> 0 | AI5: =Pedido!Y46 -> 0 | AJ5: =Pedido!Y47 -> 0 | AK5: =Pedido!Y48 -> 0 | AL5: =Pedido!Y49 -> 0 | AM5: =Pedido!Y50 -> 0 | AN5: =Pedido!Y51 -> 0 | AO5: =Pedido!Y52 -> 0 | AP5: =Pedido!Y53 -> 0 | AQ5: =Pedido!Y54 -> 0 | AR5: =Pedido!Y55 -> 0 | AS5: =Pedido!Y56 -> 0 | AT5: =Pedido!Y58 -> 0 | AU5: =Pedido!Y59 -> 0 | AV5: =Pedido!Y60 -> 0 | AW5: =Pedido!Y61 -> 0 | AX5: =Pedido!Y62 -> 0 | AY5: =Pedido!Y63 -> 0 | AZ5: =Pedido!Y65 -> 0 | BA5: =Pedido!Y66 -> 0 | BB5: =Pedido!Y67 -> 0 | BC5: =SUM(Pedido!Y69:Y70) -> 0 | BD5: =SUM(Pedido!Y71:Y72) -> 0 | BE5: =Pedido!Y73 -> 0 | BF5: =SUM(Pedido!Y80:Y82) -> 0 | BG5: =Pedido!Y84 -> 0 | BH5: =Pedido!Y85 -> 0 | BI5: =Pedido!Y86 -> 0 | BJ5: =Pedido!Y87 -> 0 | BK5: =Pedido!Y88 -> 0 | BL5: =Pedido!Y91 -> 0 | BM5: =Pedido!Y92 -> 0 | BN5: =Pedido!Y93 -> 0 | BO5: =Pedido!Y94 -> 0 | BP5: =Pedido!Y97 -> 0 | BQ5: =Pedido!Y98 -> 0 | BR5: =Pedido!Y99 -> 0 | BS5: =Pedido!Y100 -> 0 | BT5: =Pedido!Y103 -> 0 | BU5: =Pedido!Y104 -> 0 | BV5: =Pedido!Y105 -> 0 | BW5: =Pedido!Y106 -> 0 | BX5: =Pedido!Y107 -> 0 | BY5: =Pedido!Y108 -> 0 | BZ5: =Pedido!Y109 -> 0 | CA5: =Pedido!Y110 -> 0 | CB5: =Pedido!Y113 -> 0 | CC5: =Pedido!Y114 -> 0 | CD5: =Pedido!Y115 -> 0 | CE5: =Pedido!Y116 -> 0 | CF5: =Pedido!Y118 -> 0 | CG5: =Pedido!Y119 -> 0 | CH5: =Pedido!Y120 -> 0 | CI5: =Pedido!Y121 -> 0 | CJ5: =SUM(C5:CI5) -> 0
B6: Despesas Acessórias | C6: =$CJ$6/$CJ$5*C5 -> #DIV/0! | D6: =$CJ$6/$CJ$5*D5 -> #DIV/0! | E6: =$CJ$6/$CJ$5*E5 -> #DIV/0! | F6: =$CJ$6/$CJ$5*F5 -> #DIV/0! | G6: =$CJ$6/$CJ$5*G5 -> #DIV/0! | H6: =$CJ$6/$CJ$5*H5 -> #DIV/0! | I6: =$CJ$6/$CJ$5*I5 -> #DIV/0! | J6: =$CJ$6/$CJ$5*J5 -> #DIV/0! | ... CI6: =$CJ$6/$CJ$5*CI5 -> #DIV/0! | CJ6: 0
B7: BC. ICMS-NORMAL | C7: =C6+C5 -> #DIV/0! | D7: =D6+D5 -> #DIV/0! | E7: =E6+E5 -> #DIV/0! | F7: =F6+F5 -> #DIV/0! | G7: =G6+G5 -> #DIV/0! | H7: =H6+H5 -> #DIV/0! | I7: =I6+I5 -> #DIV/0! | J7: =J6+J5 -> #DIV/0! | ... CI7: =CI6+CI5 -> #DIV/0! | CJ7: =SUM(C7:CH7) -> #DIV/0!
B8: ICMS Normal | C8: =C7*0.12 -> #DIV/0! | D8: =D7*0.12 -> #DIV/0! | E8: =E7*0.12 -> #DIV/0! | F8: =F7*0.12 -> #DIV/0! | G8: =G7*0.12 -> #DIV/0! | H8: =H7*0.12 -> #DIV/0! | I8: =I7*0.12 -> #DIV/0! | J8: =J7*0.12 -> #DIV/0! | ... CI8: =CI7*0.12 -> #DIV/0! | CJ8: =SUM(C8:CH8) -> #DIV/0!
B9: MVA | C9: 0.51 | D9: 0.51 | E9: 0.51 | F9: 0.51 | G9: 0.51 | H9: 0.51 | I9: 0.51 | J9: 0.7 | K9: 0.51 | L9: 0.51 | M9: 0.51 | N9: 0.51 | O9: 0.51 | P9: 0.51 | Q9: 0.51 | R9: 0.7 | S9: 0.7 | T9: 0.28 | U9: 0.51 | V9: 0.51 | W9: 0.51 | X9: 0.74 | Y9: 0.74 | Z9: 0.51 | AA9: 0.51 | AB9: 0.51 | AC9: 0.51 | AD9: 0.51 | AE9: 0.51 | AF9: 0.51 | AG9: 0.51 | AH9: 0.28 | AI9: 0.7 | AJ9: 0.74 | AK9: 0.51 | AL9: 0.51 | AM9: 0.51 | AN9: 0.51 | AO9: 0.51 | AP9: 0.51 | AQ9: 0.51 | AR9: 0.51 | AS9: 0.51 | AT9: 0.51 | AU9: 0.51 | AV9: 0.51 | AW9: 0.7 | AX9: 0.74 | AY9: 0.51 | AZ9: 0.51 | BA9: 0.51 | BB9: 0.74 | BC9: 0.51 | BD9: 0.51 | BE9: 0.74 | BF9: 0.51 | BG9: 0.51 | BH9: 0.51 | BI9: 0.7 | BJ9: 0.74 | BK9: 0.51 | BL9: 0.31 | BM9: 0.4 | BN9: 0.31 | BO9: 0.4 | BP9: 0.28 | BQ9: 0.28 | BR9: 0.28 | BS9: 0.28 | BT9: 0.28 | BU9: 0.28 | BV9: 0.28 | BW9: 0.28 | BX9: 0.51 | BY9: 0.51 | BZ9: 0.28 | CA9: 0.76 | CB9: 0.31 | CC9: 0.4 | CD9: 0.31 | CE9: 0.4 | CF9: 0.51 | CG9: 0.31 | CH9: 0.76 | CI9: 0.74 | CJ9: <<>>
B10: BC. ICMS-ST | C10: =C7*(1+C9) -> #DIV/0! | D10: =D7*(1+D9) -> #DIV/0! | E10: =E7*(1+E9) -> #DIV/0! | F10: =F7*(1+F9) -> #DIV/0! | G10: =G7*(1+G9) -> #DIV/0! | H10: =H7*(1+H9) -> #DIV/0! | I10: =I7*(1+I9) -> #DIV/0! | J10: =J7*(1+J9) -> #DIV/0! | ... CI10: =CI7*(1+CI9) -> #DIV/0! | CJ10: =SUM(C10:CH10) -> #DIV/0!
B11: ICMS-ST | C11: =(C10*C4)-C8 -> #DIV/0! | D11: =(D10*D4)-D8 -> #DIV/0! | E11: =(E10*E4)-E8 -> #DIV/0! | F11: =(F10*F4)-F8 -> #DIV/0! | G11: =(G10*G4)-G8 -> #DIV/0! | H11: =(H10*H4)-H8 -> #DIV/0! | I11: =(I10*I4)-I8 -> #DIV/0! | J11: =(J10*J4)-J8 -> #DIV/0! | ... CI11: =(CI10*CI4)-CI8 -> #DIV/0! | CJ11: =SUM(C11:CH11) -> #DIV/0!
B12: Valor Total da NF >>>>>>>>>>>>>>>>>>>>>>>>>>>>>>>>>>>>>>>>>>>>>>>>>>>>>>>>>>>>>>>>>>>>>>>>>>> | CJ12: =SUM(CJ5+CJ11) -> #DIV/0!
B14: PREENCHIMENTO DA NOTA FISCAL:
B15: Valor Total dos Produtos | F15: =CJ5 -> 0
B16: Base de Cálculo do ICMS | F16: <<>>
B17: Valor do ICMS | F17: <<>>
B18: Base da Cálculo do ICMS Substituição | F18: =CJ10 -> #DIV/0!
B19: Valor do ICMS Substituição | F19: =CJ11 -> #DIV/0!
B20: Outras Despesas Acessórias | F20: =CJ6 -> 0
B21: Valor Total da Nota | F21: =SUM(F15,F19) -> #DIV/0!
B23: NO CORPO DA NF OU EM INFORMAÇÕES COMPLEMENTARES
B24: Vr. operação sujeita a ST | F24: =CJ5 -> 0
B25: Vr. ICMS operação própria p/ cálculo da ST | F25: =CJ11 -> #DIV/0!

Sheet ICMS ST-MG
A1: ... | B1: Alterar apenas as células em AZUL | C1: LINHA CASA PERFUMADA | I1: SACHES | R1: LINHA SPA | Z1: LINHA FLOWERS | AF1: LINHA BLANC | AT1: LINHA VINTAGE | AZ1: LINHA LA VIE | BC1: LINHA GOLD | BG1: LINHA ANIMALE | BM1: LINHA BOTANICA | BQ1: LINHA NUTRA INTENSE | BU1: Linha Mel / Propolis | CG1: Linha Black Tie
C2: Perf. Amb 240ml | D2: Perf. Amb 60ml | E2: Difusor amb.300ml | F2: Difusor amb.60ml | G2: Água Perf. 500ml | H2: Sachê Perf. 6g | I2: Sachê Sab. Liq. 20ml | J2: Sachê Loção 20ml | K2: Sache sais 20 g | L2: Sabonete B. 150gr | M2: Sabonete Bucha | N2: Sab Girassol | O2: Sab Hibisco | P2: Sab. Ursinho | Q2: Sab Borboleta | R2: Loção Hidra 200ml | S2: Loção Hidra 60ml | T2: Mousse 150ml | U2: Esfol. Corp 180ml | V2: Sachê sais 270 g | W2: Sachê espuma 160 ml | X2: Deo Colonia 120ml | Y2: água Colonia 300ml | Z2: Sab. Liq. 340ml | AA2: Sab. Liq. 60ml | AB2: Refil 340ml | AC2: Sab. Liq. 990ml | AD2: Refil 990ml | AE2: Kit Flowers | AF2: Sab. Liq. Blanc | AG2: Ref. Sab. Liq. Blanc | AH2: Loção Blanc | AI2: Ref. Loção Blanc | AJ2: Deo Colonia 100ml | AK2: Sais Banho Blanc | AL2: Ref S.Banho Blanc | AM2: Esp. Banho Blanc. | AN2: Ref. E. Banho Blanc. | AO2: Difusor Blanc | AP2: Ref. Difusor Blanc | AQ2: Perf. Amb. Blanc | AR2: Perf. Amb. Blanc | AS2: Sachê Perf. 6g | AT2: Sab. Liq. Vintage | AU2: Refil 340ml | AV2: Dif. Amb. Vintage | AW2: Loção vintage | AX2: Deo Colonia 120ml | AY2: Sachê Perf. 6g | AZ2: Sab Líq La vie | BA2: Difusor amb La vie | BB2: Deo Colonia 100ml | BC2: Sab Líq Gold | BD2: Difusor amb Gold | BE2: Deo Colonia 100ml | BF2: Sab Cozinheiro | BG2: Sab. Liq Animale | BH2: Dif.Amb Animale | BI2: Loção Hidr. Animale | BJ2: Deo Colonia 100ml | BK2: Sachê Perf. 6g | BL2: Shampoo 200ml | BM2: Cond. 200ml | BN2: Sache Shampoo 20ml | BO2: Sachê Cond. 20ml | BP2: Esfoliante 60g | BQ2: Mousse 150ml | BR2: Tonico 140ml | BS2: Loção 30ml | BT2: Esfoliante 60g | BU2: Mousse 150ml | BV2: Tonico 140ml | BW2: Loção 30ml | BX2: Esfol. Corp 180ml | BY2: Sab. Liq 200ml | BZ2: Creme 60g | CA2: Gel pos barba 60g | CB2: Shampoo 200ml | CC2: Cond. 200ml | CD2: Sache Shampoo 20ml | CE2: Sachê Cond. 20ml | CF2: Sab. Liq 200ml | CG2: Shampoo 200ml | CH2: Gel pos barba 60g | CI2: Deo Colonia 100ml | CJ2: Total geral
B3: Destino | C3: MG | D3: MG | E3: MG | F3: MG | G3: MG | H3: MG | I3: MG | J3: MG | K3: MG | R3: MG | S3: MG | T3: MG | U3: MG | V3: MG | W3: MG | X3: MG | Y3: MG | Z3: MG | AA3: MG | AB3: MG | AC3: MG | AD3: MG | AE3: MG | AF3: MG | AG3: MG | AH3: MG | AI3: MG | AJ3: MG | AK3: MG | AL3: MG | AM3: MG | AN3: MG | AO3: MG | AP3: MG | AQ3: MG | AR3: MG | AS3: MG | AT3: MG | AU3: MG | AV3: MG | AW3: MG | AX3: MG | AY3: MG | AZ3: MG | BA3: MG | BB3: MG | BC3: MG | BD3: MG | BE3: MG | BF3: MG | BG3: MG | BH3: MG | BI3: MG | BJ3: MG | BK3: MG | BL3: MG | BM3: MG | BN3: MG | BO3: MG | BP3: MG | BQ3: MG | BR3: MG | BS3: MG | BT3: MG | BU3: MG | BV3: MG | BW3: MG | BX3: MG | BY3: MG | BZ3: MG | CA3: MG | CB3: MG | CC3: MG | CD3: MG | CE3: MG | CF3: MG | CG3: MG | CH3: MG | CI3: MG
B4: % ICMS no estado de destino | C4: 0.25 | D4: 0.25 | E4: 0.25 | F4: 0.25 | G4: 0.25 | H4: 0.25 | I4: 0.18 | J4: 0.25 | K4: 0.25 | L4: 0.18 | M4: 0.18 | N4: 0.18 | O4: 0.18 | P4: 0.18 | Q4: 0.18 | R4: 0.25 | S4: 0.25 | T4: 0.25 | U4: 0.18 | V4: 0.25 | W4: 0.25 | X4: 0.25 | Y4: 0.25 | Z4: 0.18 | AA4: 0.18 | AB4: 0.18 | AC4: 0.18 | AD4: 0.18 | AE4: 0.18 | AF4: 0.18 | AG4: 0.18 | AH4: 0.25 | AI4: 0.25 | AJ4: 0.25 | AK4: 0.25 | AL4: 0.25 | AM4: 0.25 | AN4: 0.25 | AO4: 0.25 | AP4: 0.25 | AQ4: 0.25 | AR4: 0.25 | AS4: 0.25 | AT4: 0.18 | AU4: 0.18 | AV4: 0.25 | AW4: 0.25 | AX4: 0.25 | AY4: 0.25 | AZ4: 0.18 | BA4: 0.25 | BB4: 0.25 | BC4: 0.18 | BD4: 0.25 | BE4: 0.25 | BF4: 0.18 | BG4: 0.18 | BH4: 0.25 | BI4: 0.25 | BJ4: 0.25 | BK4: 0.25 | BL4: 0.25 | BM4: 0.25 | BN4: 0.25 | BO4: 0.25 | BP4: 0.25 | BQ4: 0.25 | BR4: 0.25 | BS4: 0.25 | BT4: 0.25 | BU4: 0.25 | BV4: 0.25 | BW4: 0.25 | BX4: 0.18 | BY4: 0.18 | BZ4: 0.25 | CA4: 0.18 | CB4: 0.25 | CC4: 0.25 | CD4: 0.25 | CE4: 0.25 | CF4: 0.18 | CG4: 0.25 | CH4: 0.18 | CI4: 0.25 | CJ4: TOTAL
B5: Valor do Produtos | C5: =Pedido!Y9 -> 0 | D5: =Pedido!Y10 -> 0 | E5: =Pedido!Y11 -> 0 | F5: =Pedido!Y12 -> 0 | G5: =Pedido!Y13 -> 0 | H5: =Pedido!Y14 -> 0 | I5: =Pedido!Y16 -> 0 | J5: =Pedido!Y17 -> 0 | K5: =Pedido!Y18 -> 0 | L5: =Pedido!Y20 -> 0 | M5: =Pedido!Y21 -> 0 | N5: =Pedido!Y22 -> 0 | O5: =Pedido!Y23 -> 0 | P5: =Pedido!Y24 -> 0 | Q5: =Pedido!Y25 -> 0 | R5: =Pedido!Y26 -> 0 | S5: =Pedido!Y27 -> 0 | T5: =Pedido!Y28 -> 0 | U5: =Pedido!Y29 -> 0 | V5: =Pedido!Y30 -> 0 | W5: =Pedido!Y31 -> 0 | X5: =Pedido!Y32 -> 0 | Y5: =Pedido!Y33 -> 0 | Z5: =Pedido!Y35 -> 0 | AA5: =Pedido!Y36 -> 0 | AB5: =Pedido!Y37 -> 0 | AC5: =Pedido!Y38 -> 0 | AD5: =Pedido!Y39 -> 0 | AE5: =SUM(Pedido!Y40:Y41) -> 0 | AF5: =Pedido!Y43 -> 0 | AG5: =Pedido!Y44 -> 0 | AH5: =Pedido!Y45 -> 0 | AI5: =Pedido!Y46 -> 0 | AJ5: =Pedido!Y47 -> 0 | AK5: =Pedido!Y48 -> 0 | AL5: =Pedido!Y49 -> 0 | AM5: =Pedido!Y50 -> 0 | AN5: =Pedido!Y51 -> 0 | AO5: =Pedido!Y52 -> 0 | AP5: =Pedido!Y53 -> 0 | AQ5: =Pedido!Y54 -> 0 | AR5: =Pedido!Y55 -> 0 | AS5: =Pedido!Y56 -> 0 | AT5: =Pedido!Y58 -> 0 | AU5: =Pedido!Y59 -> 0 | AV5: =Pedido!Y60 -> 0 | AW5: =Pedido!Y61 -> 0 | AX5: =Pedido!Y62 -> 0 | AY5: =Pedido!Y63 -> 0 | AZ5: =Pedido!Y65 -> 0 | BA5: =Pedido!Y66 -> 0 | BB5: =Pedido!Y67 -> 0 | BC5: =SUM(Pedido!Y69:Y70) -> 0 | BD5: =SUM(Pedido!Y71:Y72) -> 0 | BE5: =Pedido!Y73 -> 0 | BF5: =SUM(Pedido!Y80:Y82) -> 0 | BG5: =Pedido!Y84 -> 0 | BH5: =Pedido!Y85 -> 0 | BI5: =Pedido!Y86 -> 0 | BJ5: =Pedido!Y87 -> 0 | BK5: =Pedido!Y88 -> 0 | BL5: =Pedido!Y91 -> 0 | BM5: =Pedido!Y92 -> 0 | BN5: =Pedido!Y93 -> 0 | BO5: =Pedido!Y94 -> 0 | BP5: =Pedido!Y97 -> 0 | BQ5: =Pedido!Y98 -> 0 | BR5: =Pedido!Y99 -> 0 | BS5: =Pedido!Y100 -> 0 | BT5: =Pedido!Y103 -> 0 | BU5: =Pedido!Y104 -> 0 | BV5: =Pedido!Y105 -> 0 | BW5: =Pedido!Y106 -> 0 | BX5: =Pedido!Y107 -> 0 | BY5: =Pedido!Y108 -> 0 | BZ5: =Pedido!Y109 -> 0 | CA5: =Pedido!Y110 -> 0 | CB5: =Pedido!Y113 -> 0 | CC5: =Pedido!Y114 -> 0 | CD5: =Pedido!Y115 -> 0 | CE5: =Pedido!Y116 -> 0 | CF5: =Pedido!Y118 -> 0 | CG5: =Pedido!Y119 -> 0 | CH5: =Pedido!Y120 -> 0 | CI5: =Pedido!Y121 -> 0 | CJ5: =SUM(C5:CI5) -> 0
B6: Despesas Acessórias | C6: =$CJ$6/$CJ$5*C5 -> #DIV/0! | D6: =$CJ$6/$CJ$5*D5 -> #DIV/0! | E6: =$CJ$6/$CJ$5*E5 -> #DIV/0! | F6: =$CJ$6/$CJ$5*F5 -> #DIV/0! | G6: =$CJ$6/$CJ$5*G5 -> #DIV/0! | H6: =$CJ$6/$CJ$5*H5 -> #DIV/0! | I6: =$CJ$6/$CJ$5*I5 -> #DIV/0! | J6: =$CJ$6/$CJ$5*J5 -> #DIV/0! | ... CI6: =$CJ$6/$CJ$5*CI5 -> #DIV/0! | CJ6: 0
B7: BC. ICMS-NORMAL | C7: =C6+C5 -> #DIV/0! | D7: =D6+D5 -> #DIV/0! | E7: =E6+E5 -> #DIV/0! | F7: =F6+F5 -> #DIV/0! | G7: =G6+G5 -> #DIV/0! | H7: =H6+H5 -> #DIV/0! | I7: =I6+I5 -> #DIV/0! | J7: =J6+J5 -> #DIV/0! | ... CI7: =CI6+CI5 -> #DIV/0! | CJ7: =SUM(C7:CH7) -> #DIV/0!
B8: ICMS Normal | C8: =C7*0.18 -> #DIV/0! | D8: =D7*0.18 -> #DIV/0! | E8: =E7*0.18 -> #DIV/0! | F8: =F7*0.18 -> #DIV/0! | G8: =G7*0.18 -> #DIV/0! | H8: =H7*0.18 -> #DIV/0! | I8: =I7*0.18 -> #DIV/0! | J8: =J7*0.18 -> #DIV/0! | K8: =K7*0.18 -> #DIV/0! | L8: =L7*0.12 -> #DIV/0! | M8: =M7*0.12 -> #DIV/0! | N8: =N7*0.12 -> #DIV/0! | O8: =O7*0.12 -> #DIV/0! | P8: =P7*0.12 -> #DIV/0! | Q8: =Q7*0.12 -> #DIV/0! | R8: =R7*0.18 -> #DIV/0! | S8: =S7*0.18 -> #DIV/0! | T8: =T7*0.18 -> #DIV/0! | U8: =U7*0.18 -> #DIV/0! | V8: =V7*0.18 -> #DIV/0! | W8: =W7*0.18 -> #DIV/0! | X8: =X7*0.18 -> #DIV/0! | Y8: =Y7*0.18 -> #DIV/0! | ... CI8: =CI7*0.18 -> #DIV/0! | CJ8: =SUM(C8:CH8) -> #DIV/0!
B9: MVA | C9: 0.5215 | D9: 0.5215 | E9: 0.5215 | F9: 0.5215 | G9: 0.5215 | H9: 0.5215 | I9: 0.4561 | J9: 0.596 | K9: 0.5215 | L9: 0.4561 | M9: 0.4561 | N9: 0.4561 | O9: 0.4561 | P9: 0.4561 | Q9: 0.4561 | R9: 0.596 | S9: 0.596 | T9: 0.3224 | U9: 0.4561 | V9: 0.5215 | W9: 0.5215 | X9: 0.5715 | Y9: 0.5715 | Z9: 0.4561 | AA9: 0.4561 | AB9: 0.4561 | AC9: 0.4561 | AD9: 0.4561 | AE9: 0.4561 | AF9: 0.4561 | AG9: 0.4561 | AH9: 0.596 | AI9: 0.596 | AJ9: 0.5715 | AK9: 0.5215 | AL9: 0.5215 | AM9: 0.5215 | AN9: 0.5215 | AO9: 0.5215 | AP9: 0.5215 | AQ9: 0.5215 | AR9: 0.5215 | AS9: 0.5215 | AT9: 0.4561 | AU9: 0.4561 | AV9: 0.5215 | AW9: 0.596 | AX9: 0.5715 | AY9: 0.5215 | AZ9: 0.4561 | BA9: 0.5215 | BB9: 0.5715 | BC9: 0.4561 | BD9: 0.5215 | BE9: 0.5715 | BF9: 0.4561 | BG9: 0.4561 | BH9: 0.5215 | BI9: 0.596 | BJ9: 0.5715 | BK9: 0.5215 | BL9: 0.3793 | BM9: 0.5393 | BN9: 0.3793 | BO9: 0.5393 | BP9: 0.3224 | BQ9: 0.3224 | BR9: 0.3224 | BS9: 0.3224 | BT9: 0.3224 | BU9: 0.3224 | BV9: 0.3224 | BW9: 0.3224 | BX9: 0.4561 | BY9: 0.4561 | BZ9: 0.596 | CA9: 0.6718 | CB9: 0.3793 | CC9: 0.5393 | CD9: 0.3793 | CE9: 0.5393 | CF9: 0.4561 | CG9: 0.3793 | CH9: 0.6718 | CI9: 0.5715 | CJ9: <<>>
B10: BC. ICMS-ST | C10: =C7*(1+C9) -> #DIV/0! | D10: =D7*(1+D9) -> #DIV/0! | E10: =E7*(1+E9) -> #DIV/0! | F10: =F7*(1+F9) -> #DIV/0! | G10: =G7*(1+G9) -> #DIV/0! | H10: =H7*(1+H9) -> #DIV/0! | I10: =I7*(1+I9) -> #DIV/0! | J10: =J7*(1+J9) -> #DIV/0! | ... CI10: =CI7*(1+CI9) -> #DIV/0! | CJ10: =SUM(C10:CH10) -> #DIV/0!
B11: ICMS-ST | C11: =(C10*C4)-C8 -> #DIV/0! | D11: =(D10*D4)-D8 -> #DIV/0! | E11: =(E10*E4)-E8 -> #DIV/0! | F11: =(F10*F4)-F8 -> #DIV/0! | G11: =(G10*G4)-G8 -> #DIV/0! | H11: =(H10*H4)-H8 -> #DIV/0! | I11: =(I10*I4)-I8 -> #DIV/0! | J11: =(J10*J4)-J8 -> #DIV/0! | ... CI11: =(CI10*CI4)-CI8 -> #DIV/0! | CJ11: =SUM(C11:CH11) -> #DIV/0!
B12: Valor Total da NF >>>>>>>>>>>>>>>>>>>>>>>>>>>>>>>>>>>>>>>>>>>>>>>>>>>>>>>>>>>>>>>>>>>>>>>>>>> | CJ12: =SUM(CJ5+CJ11) -> #DIV/0!
B14: PREENCHIMENTO DA NOTA FISCAL:
B15: Valor Total dos Produtos | F15: =CJ5 -> 0
B16: Base de Cálculo do ICMS | F16: <<>>
B17: Valor do ICMS | F17: <<>>
B18: Base da Cálculo do ICMS Substituição | F18: =CJ10 -> #DIV/0!
B19: Valor do ICMS Substituição | F19: =CJ11 -> #DIV/0!
B20: Outras Despesas Acessórias | F20: =CJ6 -> 0
B21: Valor Total da Nota | F21: =SUM(F15,F19) -> #DIV/0!
B23: NO CORPO DA NF OU EM INFORMAÇÕES COMPLEMENTARES
B24: Vr. operação sujeita a ST | F24: =CJ5 -> 0
B25: Vr. ICMS operação própria p/ cálculo da ST | F25: =CJ11 -> #DIV/0!

Sheet ICMS ST -DF
A1: ... | B1: Alterar apenas as células em AZUL | BT1: Linha Mel / Propolis | CF1: Linha Black Tie
C2: Perf. Amb 240ml | D2: Perf. Amb 60ml | E2: Difusor amb.300ml | F2: Difusor amb.60ml | G2: Água Perf. 500ml | H2: Sachê Perf. 6g | I2: Sachê Sab. Liq. 20ml | J2: Sachê Loção 20ml | K2: Sache sais 20 g | L2: Sabonete B. 150gr | M2: Sabonete Bucha | N2: Sab Girassol | O2: Sab Hibisco | P2: Sab. Ursinho | Q2: Sab Borboleta | R2: Loção Hidra 200ml | S2: Loção Hidra 60ml | T2: Mousse 150ml | U2: Esfol. Corp 180ml | V2: Sachê sais 270 g | W2: Sachê espuma 160 ml | X2: Deo Colonia 120ml | Y2: água Colonia 300ml | Z2: Sab. Liq. 340ml | AA2: Sab. Liq. 60ml | AB2: Refil 340ml | AC2: Sab. Liq. 990ml | AD2: Refil 990ml | AE2: Kit Flowers | AF2: Sab. Liq. Blanc | AG2: Ref. Sab. Liq. Blanc | AH2: Loção Blanc | AI2: Ref. Loção Blanc | AJ2: Deo Colonia 120ml | AK2: Sais Banho Blanc | AL2: Ref S.Banho Blanc | AM2: Esp. Banho Blanc. | AN2: Ref. E. Banho Blanc. | AO2: Difusor Blanc | AP2: Ref. Difusor Blanc | AQ2: Perf. Amb. Blanc | AR2: Perf. Amb. Blanc | AS2: Sachê Perf. 6g | AT2: Sab. Liq. Vintage | AU2: Refil 340ml | AV2: Dif. Amb. Vintage | AW2: Loção vintage | AX2: Deo Colonia 120ml | AY2: Sachê Perf. 6g | AZ2: Sab Líq La vie | BA2: Difusor amb La vie | BB2: Deo Colonia 100ml | BC2: Sab Líq Gold | BD2: Difusor amb Gold | BE2: Deo Colonia 100ml | BF2: Sab Cozinheiro | BG2: Sab. Liq Animale | BH2: Dif.Amb Animale | BI2: Loção Hidr. Animale | BJ2: Deo Colonia 120ml | BK2: Sachê Perf. 6g | BL2: Shampoo 200ml | BM2: Cond. 200ml | BN2: Sache Shampoo 20ml | BO2: Sachê Cond. 20ml | BP2: Esfoliante 60g | BQ2: Mousse 150ml | BR2: Tonico 140ml | BS2: Loção 30ml | BT2: Esfoliante 60g | BU2: Mousse 150ml | BV2: Tonico 140ml | BW2: Loção 30ml | BX2: Esfol. Corp 180ml | BY2: Sab. Liq 200ml | BZ2: Creme 60g | CA2: Gel pos barba 60g | CB2: Shampoo 200ml | CC2: Cond. 200ml | CD2: Sache Shampoo 20ml | CE2: Sachê Cond. 20ml | CF2: Sab. Liq 200ml | CG2: Shampoo 200ml | CH2: Gel pos barba 60g | CI2: Deo Colonia 120ml | CJ2: Total geral
B3: Destino | C3: DF | D3: DF | E3: DF | F3: DF | G3: DF | H3: DF | I3: DF | J3: DF | K3: DF | R3: DF | S3: DF | T3: DF | U3: DF | V3: DF | W3: DF | X3: DF | Y3: DF | Z3: DF | AA3: DF | AB3: DF | AC3: DF | AD3: DF | AE3: DF | AF3: DF | AG3: DF | AH3: DF | AI3: DF | AJ3: DF | AK3: DF | AL3: DF | AM3: DF | AN3: DF | AO3: DF | AP3: DF | AQ3: DF | AR3: DF | AS3: DF | AT3: DF | AU3: DF | AV3: DF | AW3: DF | AX3: DF | AY3: DF | AZ3: DF | BA3: DF | BB3: DF | BC3: DF | BD3: DF | BE3: DF | BF3: DF | BG3: DF | BH3: DF | BI3: DF | BJ3: DF | BK3: DF | BL3: DF | BM3: DF | BN3: DF | BO3: DF | BP3: DF | BQ3: DF | BR3: DF | BS3: DF | BT3: DF | BU3: DF | BV3: DF | BW3: DF | BX3: DF | BY3: DF | BZ3: DF | CA3: DF | CB3: DF | CC3: DF | CD3: DF | CE3: DF | CF3: DF | CG3: DF | CH3: DF | CI3: DF
B4: % ICMS no estado de destino | C4: 0.17 | D4: 0.17 | E4: 0.17 | F4: 0.17 | G4: 0.17 | H4: 0.17 | I4: 0.17 | J4: 0.17 | K4: 0.17 | L4: 0.17 | M4: 0.17 | N4: 0.17 | O4: 0.17 | P4: 0.17 | Q4: 0.17 | R4: 0.17 | S4: 0.17 | T4: 0.17 | U4: 0.17 | V4: 0.17 | W4: 0.17 | X4: 0.17 | Y4: 0.17 | Z4: 0.17 | AA4: 0.17 | AB4: 0.17 | AC4: 0.17 | AD4: 0.17 | AE4: 0.17 | AF4: 0.17 | AG4: 0.17 | AH4: 0.17 | AI4: 0.17 | AJ4: 0.17 | AK4: 0.17 | AL4: 0.17 | AM4: 0.17 | AN4: 0.17 | AO4: 0.17 | AP4: 0.17 | AQ4: 0.17 | AR4: 0.17 | AS4: 0.17 | AT4: 0.17 | AU4: 0.17 | AV4: 0.17 | AW4: 0.17 | AX4: 0.17 | AY4: 0.17 | AZ4: 0.17 | BA4: 0.17 | BB4: 0.17 | BC4: 0.17 | BD4: 0.17 | BE4: 0.17 | BF4: 0.17 | BG4: 0.17 | BH4: 0.17 | BI4: 0.17 | BJ4: 0.17 | BK4: 0.17 | BL4: 0.17 | BM4: 0.17 | BN4: 0.17 | BO4: 0.17 | BP4: 0.17 | BQ4: 0.17 | BR4: 0.17 | BS4: 0.17 | BT4: 0.17 | BU4: 0.17 | BV4: 0.17 | BW4: 0.17 | BX4: 0.17 | BY4: 0.17 | BZ4: 0.17 | CA4: 0.17 | CB4: 0.17 | CC4: 0.17 | CD4: 0.17 | CE4: 0.17 | CF4: 0.17 | CG4: 0.17 | CH4: 0.17 | CI4: 0.17 | CJ4: TOTAL
B5: Valor do Produtos | C5: =Pedido!Y9 -> 0 | D5: =Pedido!Y10 -> 0 | E5: =Pedido!Y11 -> 0 | F5: =Pedido!Y12 -> 0 | G5: =Pedido!Y13 -> 0 | H5: =Pedido!Y14 -> 0 | I5: =Pedido!Y16 -> 0 | J5: =Pedido!Y17 -> 0 | K5: =Pedido!Y18 -> 0 | L5: =Pedido!Y20 -> 0 | M5: =Pedido!Y21 -> 0 | N5: =Pedido!Y22 -> 0 | O5: =Pedido!Y23 -> 0 | P5: =Pedido!Y24 -> 0 | Q5: =Pedido!Y25 -> 0 | R5: =Pedido!Y26 -> 0 | S5: =Pedido!Y27 -> 0 | T5: =Pedido!Y28 -> 0 | U5: =Pedido!Y29 -> 0 | V5: =Pedido!Y30 -> 0 | W5: =Pedido!Y31 -> 0 | X5: =Pedido!Y32 -> 0 | Y5: =Pedido!Y33 -> 0 | Z5: =Pedido!Y35 -> 0 | AA5: =Pedido!Y36 -> 0 | AB5: =Pedido!Y37 -> 0 | AC5: =Pedido!Y38 -> 0 | AD5: =Pedido!Y39 -> 0 | AE5: =SUM(Pedido!Y40:Y41) -> 0 | AF5: =Pedido!Y43 -> 0 | AG5: =Pedido!Y44 -> 0 | AH5: =Pedido!Y45 -> 0 | AI5: =Pedido!Y46 -> 0 | AJ5: =Pedido!Y47 -> 0 | AK5: =Pedido!Y48 -> 0 | AL5: =Pedido!Y49 -> 0 | AM5: =Pedido!Y50 -> 0 | AN5: =Pedido!Y51 -> 0 | AO5: =Pedido!Y52 -> 0 | AP5: =Pedido!Y53 -> 0 | AQ5: =Pedido!Y54 -> 0 | AR5: =Pedido!Y55 -> 0 | AS5: =Pedido!Y56 -> 0 | AT5: =Pedido!Y58 -> 0 | AU5: =Pedido!Y59 -> 0 | AV5: =Pedido!Y60 -> 0 | AW5: =Pedido!Y61 -> 0 | AX5: =Pedido!Y62 -> 0 | AY5: =Pedido!Y63 -> 0 | AZ5: =Pedido!Y65 -> 0 | BA5: =Pedido!Y66 -> 0 | BB5: =Pedido!Y67 -> 0 | BC5: =SUM(Pedido!Y69:Y70) -> 0 | BD5: =SUM(Pedido!Y71:Y72) -> 0 | BE5: =Pedido!Y73 -> 0 | BF5: =SUM(Pedido!Y80:Y82) -> 0 | BG5: =Pedido!Y84 -> 0 | BH5: =Pedido!Y85 -> 0 | BI5: =Pedido!Y86 -> 0 | BJ5: =Pedido!Y87 -> 0 | BK5: =Pedido!Y88 -> 0 | BL5: =Pedido!Y91 -> 0 | BM5: =Pedido!Y92 -> 0 | BN5: =Pedido!Y93 -> 0 | BO5: =Pedido!Y94 -> 0 | BP5: =Pedido!Y97 -> 0 | BQ5: =Pedido!Y98 -> 0 | BR5: =Pedido!Y99 -> 0 | BS5: =Pedido!Y100 -> 0 | BT5: =Pedido!Y103 -> 0 | BU5: =Pedido!Y104 -> 0 | BV5: =Pedido!Y105 -> 0 | BW5: =Pedido!Y106 -> 0 | BX5: =Pedido!Y107 -> 0 | BY5: =Pedido!Y108 -> 0 | BZ5: =Pedido!Y109 -> 0 | CA5: =Pedido!Y110 -> 0 | CB5: =Pedido!Y113 -> 0 | CC5: =Pedido!Y114 -> 0 | CD5: =Pedido!Y115 -> 0 | CE5: =Pedido!Y116 -> 0 | CF5: =Pedido!Y118 -> 0 | CG5: =Pedido!Y119 -> 0 | CH5: =Pedido!Y120 -> 0 | CI5: =Pedido!Y121 -> 0 | CJ5: =SUM(C5:CI5) -> 0
B6: Despesas Acessórias | C6: =$CJ$6/$CJ$5*C5 -> #DIV/0! | D6: =$CJ$6/$CJ$5*D5 -> #DIV/0! | E6: =$CJ$6/$CJ$5*E5 -> #DIV/0! | F6: =$CJ$6/$CJ$5*F5 -> #DIV/0! | G6: =$CJ$6/$CJ$5*G5 -> #DIV/0! | H6: =$CJ$6/$CJ$5*H5 -> #DIV/0! | I6: =$CJ$6/$CJ$5*I5 -> #DIV/0! | J6: =$CJ$6/$CJ$5*J5 -> #DIV/0! | ... CI6: =$CJ$6/$CJ$5*CI5 -> #DIV/0! | CJ6: 0
B7: BC. ICMS-NORMAL | C7: =C6+C5 -> #DIV/0! | D7: =D6+D5 -> #DIV/0! | E7: =E6+E5 -> #DIV/0! | F7: =F6+F5 -> #DIV/0! | G7: =G6+G5 -> #DIV/0! | H7: =H6+H5 -> #DIV/0! | I7: =I6+I5 -> #DIV/0! | J7: =J6+J5 -> #DIV/0! | ... CI7: =CI6+CI5 -> #DIV/0! | CJ7: =SUM(C7:CH7) -> #DIV/0!
